{"text_format":"1","workbook":"xlsx","n_sheets":9,"sheets":["申込入力シート","処理","4年以下印刷","小学生印刷","中学生印刷","高校生印刷","一般の部","入金明細書","貼付用データ"],"not_rendered":{"charts":0,"images":0,"macros":0,"external_links":0,"defined_names":2,"comments":0,"pivot_tables":0},"unopened":[],"bounds":{"document_bytes":16777216,"sheet_cells":100000,"rows_first":2000,"rows_last":500,"rows_between":2000,"halvings":0,"cell_chars":16384,"cell_head_chars":4096},"cells_cut":0,"cells_raw":0,"read":"whole","date_system":"1900"}

{"sheet":"申込入力シート","index":0,"n_rows":78,"n_cols":83,"rows_kept":78,"cut":false,"hidden":false,"merged":[[4,65,5,67],[4,68,5,72],[4,75,5,77],[4,78,5,82],[6,35,7,37],[6,38,7,42],[6,45,7,47],[6,48,7,52],[6,55,7,57],[6,58,7,62],[6,65,7,67],[6,68,7,72],[6,75,7,77],[6,78,7,82],[4,35,5,37],[4,38,5,42],[4,45,5,47],[4,48,5,52],[4,55,5,57],[4,58,5,62],[34,27,34,31],[35,27,35,31],[34,0,34,10],[34,11,34,14],[34,15,34,17],[34,18,34,19],[34,20,34,26],[32,27,32,31],[33,0,33,10],[33,11,33,14],[33,15,33,17],[33,18,33,19],[33,20,33,26],[33,27,33,31],[32,0,32,10],[32,11,32,14],[32,15,32,17],[32,18,32,19],[32,20,32,26],[30,27,30,31],[31,0,31,10],[31,11,31,14],[31,15,31,17],[31,18,31,19],[31,20,31,26],[31,27,31,31],[30,0,30,10],[30,11,30,14],[30,15,30,17],[30,18,30,19],[30,20,30,26],[28,0,28,31],[29,0,29,10],[29,11,29,17],[29,18,29,19],[29,20,29,26],[29,27,29,31],[1,67,1,68],[8,65,8,72],[9,67,9,68],[7,0,7,2],[4,0,4,2],[10,3,10,31],[9,3,9,31],[8,3,8,31],[7,3,7,31],[6,3,6,31],[5,3,5,31],[5,0,6,2],[4,3,4,31],[15,0,15,10],[15,11,15,31],[14,0,14,10],[14,11,14,31],[13,0,13,10],[1,77,1,78],[8,75,8,82],[9,77,9,78],[22,27,22,31],[21,27,21,31],[9,37,9,38],[8,35,8,42],[20,0,20,31],[27,27,27,31],[26,27,26,31],[25,27,25,31],[24,27,24,31],[23,27,23,31],[26,0,26,10],[25,0,25,10],[24,0,24,10],[23,0,23,10],[22,0,22,10],[0,0,1,31],[2,0,2,31],[3,0,3,2],[10,0,10,2],[9,0,9,2],[8,0,8,2],[27,18,27,23],[22,20,22,26],[23,20,23,26],[24,20,24,26],[25,20,25,26],[26,20,26,26],[21,0,21,10],[26,18,26,19],[21,20,21,26],[21,18,21,19],[22,18,22,19],[23,18,23,19],[24,18,24,19],[25,18,25,19],[24,11,24,14],[24,15,24,17],[25,11,25,14],[25,15,25,17],[26,11,26,14],[26,15,26,17],[22,11,22,14],[22,15,22,17],[1,37,1,38],[1,47,1,48],[8,45,8,52],[9,47,9,48],[1,57,1,58],[8,55,8,62],[9,57,9,58],[23,11,23,14],[23,15,23,17],[21,11,21,17],[13,11,13,31],[3,3,3,31],[12,0,12,10],[12,11,12,31],[18,0,18,10],[17,0,17,10],[16,0,16,10],[18,11,18,31],[17,11,17,31],[16,11,16,14],[16,15,16,16],[16,17,16,21],[16,22,16,23],[16,24,16,26]]}
["平成30年度　全日本通信珠算競技　東京都支部大会",null,null,null,null,null,null,null,null,null,null,null,null,null,null,null,null,null,null,null,null,null,null,null,null,null,null,null,null,null,null,null,null,null,null,"入力例"]
[null,null,null,null,null,null,null,null,null,null,null,null,null,null,null,null,null,null,null,null,null,null,null,null,null,null,null,null,null,null,null,null,null,null,null,"姓","名","ふりがな",null,"学年","学校・勤務先","ふりがな","東京協会","会員"]
["入力についての注意事項",null,null,null,null,null,null,null,null,null,null,null,null,null,null,null,null,null,null,null,null,null,null,null,null,null,null,null,null,null,null,null,null,null,null,"暗算","太郎","あんざん","たろう",3,"東京都立珠算学校","とうきょうとりつしゅざんがっこう","（選択）","会員外"]
["①",null,null,"各部門、白色セルに「姓」と「名」をわけて入力してください。"]
["②",null,null,"「ふりがな」も｢姓｣と｢名｣をわけてひらがなで入力してください。",null,null,null,null,null,null,null,null,null,null,null,null,null,null,null,null,null,null,null,null,null,null,null,null,null,null,null,null,null,null,null,"団体名",null,null,null,null,null,null,null,null,null,"団体名",null,null,null,null,null,null,null,null,null,"団体名",null,null,null,null,null,null,null,null,null,"団体名",null,null,null,null,null,null,null,null,null,"団体名"]
["③",null,null,"「学年」は半角算用数字で入力してください。（幼児の場合は「年長・年中・年少」）"]
[null,null,null,"※中学生・高校生も学年のみ入力。「中」「高」などは不要です。一般は年齢を半角数字で入力してください。",null,null,null,null,null,null,null,null,null,null,null,null,null,null,null,null,null,null,null,null,null,null,null,null,null,null,null,null,null,null,null,"団体名ふりがな",null,null,null,null,null,null,null,null,null,"団体名ふりがな",null,null,null,null,null,null,null,null,null,"団体名ふりがな",null,null,null,null,null,null,null,null,null,"団体名ふりがな",null,null,null,null,null,null,null,null,null,"団体名ふりがな"]
["④",null,null,"学校名・勤務先は正式名称で省略せずに入力してください。"]
["⑤",null,null,"同部門で複数団体編成する場合は別ファイルでお申込みください。",null,null,null,null,null,null,null,null,null,null,null,null,null,null,null,null,null,null,null,null,null,null,null,null,null,null,null,null,null,null,null,"小学４年生以下の部",null,null,null,null,null,null,null,null,null,"小学校の部",null,null,null,null,null,null,null,null,null,"中学校の部",null,null,null,null,null,null,null,null,null,"高等学校の部",null,null,null,null,null,null,null,null,null,"一般の部"]
["⑥",null,null,"「教室名」「連絡先住所」「電話番号」「責任者名」の入力をしてください。",null,null,null,null,null,null,null,null,null,null,null,null,null,null,null,null,null,null,null,null,null,null,null,null,null,null,null,null,null,null,null,"姓","名","ふりがな",null,"学年","学校・勤務先","ふりがな","東京協会",null,null,"姓","名","ふりがな",null,"学年","学校・勤務先","ふりがな","東京協会",null,null,"姓","名","ふりがな",null,"学年","学校・勤務先","ふりがな","東京協会",null,null,"姓","名","ふりがな",null,"学年","学校・勤務先","ふりがな","東京協会",null,null,"姓","名","ふりがな",null,"年齢","学校・勤務先","ふりがな","東京協会"]
["⑦",null,null,"旧漢字など間違いやすいと思われる漢字がある場合はメール本文にてお知らせください。",null,null,null,null,null,null,null,null,null,null,null,null,null,null,null,null,null,null,null,null,null,null,null,null,null,null,null,null,null,null,"NO.1",null,null,null,null,null,{"$f":"IF(AM5=\"\",\"\",IF(AJ11=\"\",\"\",AM5))","v":""},{"$f":"IF(AM7=\"\",\"\",IF(AJ11=\"\",\"\",AM7))","v":""},null,null,"NO.1",null,null,null,null,null,{"$f":"IF(AW5=\"\",\"\",IF(AT11=\"\",\"\",AW5))","v":""},{"$f":"IF(AW7=\"\",\"\",IF(AT11=\"\",\"\",AW7))","v":""},null,null,"NO.1",null,null,null,null,null,{"$f":"IF(BG5=\"\",\"\",IF(BD11=\"\",\"\",BG5))","v":""},{"$f":"IF(BG7=\"\",\"\",IF(BD11=\"\",\"\",BG7))","v":""},null,null,"NO.1",null,null,null,null,null,{"$f":"IF(BQ5=\"\",\"\",IF(BN11=\"\",\"\",BQ5))","v":""},{"$f":"IF(BQ7=\"\",\"\",IF(BN11=\"\",\"\",BQ7))","v":""},null,null,"NO.1",null,null,null,null,null,{"$f":"IF(CA5=\"\",\"\",IF(BX11=\"\",\"\",CA5))","v":""},{"$f":"IF(CA7=\"\",\"\",IF(BX11=\"\",\"\",CA7))","v":""}]
[null,null,null,null,null,null,null,null,null,null,null,null,null,null,null,null,null,null,null,null,null,null,null,null,null,null,null,null,null,null,null,null,null,null,"NO.2",null,null,null,null,null,{"$f":"IF(AM5=\"\",\"\",IF(AJ12=\"\",\"\",AM5))","v":""},{"$f":"IF(AM7=\"\",\"\",IF(AJ12=\"\",\"\",AM7))","v":""},null,null,"NO.2",null,null,null,null,null,{"$f":"IF(AW5=\"\",\"\",IF(AT12=\"\",\"\",AW5))","v":""},{"$f":"IF(AW7=\"\",\"\",IF(AT12=\"\",\"\",AW7))","v":""},null,null,"NO.2",null,null,null,null,null,{"$f":"IF(BG5=\"\",\"\",IF(BD12=\"\",\"\",BG5))","v":""},{"$f":"IF(BG7=\"\",\"\",IF(BD12=\"\",\"\",BG7))","v":""},null,null,"NO.2",null,null,null,null,null,{"$f":"IF(BQ5=\"\",\"\",IF(BN12=\"\",\"\",BQ5))","v":""},{"$f":"IF(BQ7=\"\",\"\",IF(BN12=\"\",\"\",BQ7))","v":""},null,null,"NO.2",null,null,null,null,null,{"$f":"IF(CA5=\"\",\"\",IF(BX12=\"\",\"\",CA5))","v":""},{"$f":"IF(CA7=\"\",\"\",IF(BX12=\"\",\"\",CA7))","v":""}]
["所属地区または外部",null,null,null,null,null,null,null,null,null,null,null,null,null,null,null,null,null,null,null,null,null,null,null,null,null,null,null,null,null,null,null,null,null,"NO.3",null,null,null,null,null,{"$f":"IF(AM5=\"\",\"\",IF(AJ13=\"\",\"\",AM5))","v":""},{"$f":"IF(AM7=\"\",\"\",IF(AJ13=\"\",\"\",AM7))","v":""},null,null,"NO.3",null,null,null,null,null,{"$f":"IF(AW5=\"\",\"\",IF(AT13=\"\",\"\",AW5))","v":""},{"$f":"IF(AW7=\"\",\"\",IF(AT13=\"\",\"\",AW7))","v":""},null,null,"NO.3",null,null,null,null,null,{"$f":"IF(BG5=\"\",\"\",IF(BD13=\"\",\"\",BG5))","v":""},{"$f":"IF(BG7=\"\",\"\",IF(BD13=\"\",\"\",BG7))","v":""},null,null,"NO.3",null,null,null,null,null,{"$f":"IF(BQ5=\"\",\"\",IF(BN13=\"\",\"\",BQ5))","v":""},{"$f":"IF(BQ7=\"\",\"\",IF(BN13=\"\",\"\",BQ7))","v":""},null,null,"NO.3",null,null,null,null,null,{"$f":"IF(CA5=\"\",\"\",IF(BX13=\"\",\"\",CA5))","v":""},{"$f":"IF(CA7=\"\",\"\",IF(BX13=\"\",\"\",CA7))","v":""}]
["教室名",null,null,null,null,null,null,null,null,null,null,null,null,null,null,null,null,null,null,null,null,null,null,null,null,null,null,null,null,null,null,null,null,null,"NO.4",null,null,null,null,null,{"$f":"IF(AM5=\"\",\"\",IF(AJ14=\"\",\"\",AM5))","v":""},{"$f":"IF(AM7=\"\",\"\",IF(AJ14=\"\",\"\",AM7))","v":""},null,null,"NO.4",null,null,null,null,null,{"$f":"IF(AW5=\"\",\"\",IF(AT14=\"\",\"\",AW5))","v":""},{"$f":"IF(AW7=\"\",\"\",IF(AT14=\"\",\"\",AW7))","v":""},null,null,"NO.4",null,null,null,null,null,{"$f":"IF(BG5=\"\",\"\",IF(BD14=\"\",\"\",BG5))","v":""},{"$f":"IF(BG7=\"\",\"\",IF(BD14=\"\",\"\",BG7))","v":""},null,null,"NO.4",null,null,null,null,null,{"$f":"IF(BQ5=\"\",\"\",IF(BN14=\"\",\"\",BQ5))","v":""},{"$f":"IF(BQ7=\"\",\"\",IF(BN14=\"\",\"\",BQ7))","v":""},null,null,"NO.4",null,null,null,null,null,{"$f":"IF(CA5=\"\",\"\",IF(BX14=\"\",\"\",CA5))","v":""},{"$f":"IF(CA7=\"\",\"\",IF(BX14=\"\",\"\",CA7))","v":""}]
["教室名ふりがな",null,null,null,null,null,null,null,null,null,null,null,null,null,null,null,null,null,null,null,null,null,null,null,null,null,null,null,null,null,null,null,null,null,"NO.5",null,null,null,null,null,{"$f":"IF(AM5=\"\",\"\",IF(AJ15=\"\",\"\",AM5))","v":""},{"$f":"IF(AM7=\"\",\"\",IF(AJ15=\"\",\"\",AM7))","v":""},null,null,"NO.5",null,null,null,null,null,{"$f":"IF(AW5=\"\",\"\",IF(AT15=\"\",\"\",AW5))","v":""},{"$f":"IF(AW7=\"\",\"\",IF(AT15=\"\",\"\",AW7))","v":""},null,null,"NO.5",null,null,null,null,null,{"$f":"IF(BG5=\"\",\"\",IF(BD15=\"\",\"\",BG5))","v":""},{"$f":"IF(BG7=\"\",\"\",IF(BD15=\"\",\"\",BG7))","v":""},null,null,"NO.5",null,null,null,null,null,{"$f":"IF(BQ5=\"\",\"\",IF(BN15=\"\",\"\",BQ5))","v":""},{"$f":"IF(BQ7=\"\",\"\",IF(BN15=\"\",\"\",BQ7))","v":""},null,null,"NO.5",null,null,null,null,null,{"$f":"IF(CA5=\"\",\"\",IF(BX15=\"\",\"\",CA5))","v":""},{"$f":"IF(CA7=\"\",\"\",IF(BX15=\"\",\"\",CA7))","v":""}]
["連絡先住所",null,null,null,null,null,null,null,null,null,null,null,null,null,null,null,null,null,null,null,null,null,null,null,null,null,null,null,null,null,null,null,null,null,"NO.6",null,null,null,null,null,{"$f":"IF(AM5=\"\",\"\",IF(AJ16=\"\",\"\",AM5))","v":""},{"$f":"IF(AM7=\"\",\"\",IF(AJ16=\"\",\"\",AM7))","v":""},null,null,"NO.6",null,null,null,null,null,{"$f":"IF(AW5=\"\",\"\",IF(AT16=\"\",\"\",AW5))","v":""},{"$f":"IF(AW7=\"\",\"\",IF(AT16=\"\",\"\",AW7))","v":""},null,null,"NO.6",null,null,null,null,null,{"$f":"IF(BG5=\"\",\"\",IF(BD16=\"\",\"\",BG5))","v":""},{"$f":"IF(BG7=\"\",\"\",IF(BD16=\"\",\"\",BG7))","v":""},null,null,"NO.6",null,null,null,null,null,{"$f":"IF(BQ5=\"\",\"\",IF(BN16=\"\",\"\",BQ5))","v":""},{"$f":"IF(BQ7=\"\",\"\",IF(BN16=\"\",\"\",BQ7))","v":""},null,null,"NO.6",null,null,null,null,null,{"$f":"IF(CA5=\"\",\"\",IF(BX16=\"\",\"\",CA5))","v":""},{"$f":"IF(CA7=\"\",\"\",IF(BX16=\"\",\"\",CA7))","v":""}]
["連絡先電話番号",null,null,null,null,null,null,null,null,null,null,null,null,null,null,"-",null,null,null,null,null,null,"-",null,null,null,null,null,null,null,null,null,null,null,"NO.7",null,null,null,null,null,{"$f":"IF(AM5=\"\",\"\",IF(AJ17=\"\",\"\",AM5))","v":""},{"$f":"IF(AM7=\"\",\"\",IF(AJ17=\"\",\"\",AM7))","v":""},null,null,"NO.7",null,null,null,null,null,{"$f":"IF(AW5=\"\",\"\",IF(AT17=\"\",\"\",AW5))","v":""},{"$f":"IF(AW7=\"\",\"\",IF(AT17=\"\",\"\",AW7))","v":""},null,null,"NO.7",null,null,null,null,null,{"$f":"IF(BG5=\"\",\"\",IF(BD17=\"\",\"\",BG5))","v":""},{"$f":"IF(BG7=\"\",\"\",IF(BD17=\"\",\"\",BG7))","v":""},null,null,"NO.7",null,null,null,null,null,{"$f":"IF(BQ5=\"\",\"\",IF(BN17=\"\",\"\",BQ5))","v":""},{"$f":"IF(BQ7=\"\",\"\",IF(BN17=\"\",\"\",BQ7))","v":""},null,null,"NO.7",null,null,null,null,null,{"$f":"IF(CA5=\"\",\"\",IF(BX17=\"\",\"\",CA5))","v":""},{"$f":"IF(CA7=\"\",\"\",IF(BX17=\"\",\"\",CA7))","v":""}]
["責任者名",null,null,null,null,null,null,null,null,null,null,null,null,null,null,null,null,null,null,null,null,null,null,null,null,null,null,null,null,null,null,null,null,null,"NO.8",null,null,null,null,null,{"$f":"IF(AM5=\"\",\"\",IF(AJ18=\"\",\"\",AM5))","v":""},{"$f":"IF(AM7=\"\",\"\",IF(AJ18=\"\",\"\",AM7))","v":""},null,null,"NO.8",null,null,null,null,null,{"$f":"IF(AW5=\"\",\"\",IF(AT18=\"\",\"\",AW5))","v":""},{"$f":"IF(AW7=\"\",\"\",IF(AT18=\"\",\"\",AW7))","v":""},null,null,"NO.8",null,null,null,null,null,{"$f":"IF(BG5=\"\",\"\",IF(BD18=\"\",\"\",BG5))","v":""},{"$f":"IF(BG7=\"\",\"\",IF(BD18=\"\",\"\",BG7))","v":""},null,null,"NO.8",null,null,null,null,null,{"$f":"IF(BQ5=\"\",\"\",IF(BN18=\"\",\"\",BQ5))","v":""},{"$f":"IF(BQ7=\"\",\"\",IF(BN18=\"\",\"\",BQ7))","v":""},null,null,"NO.8",null,null,null,null,null,{"$f":"IF(CA5=\"\",\"\",IF(BX18=\"\",\"\",CA5))","v":""},{"$f":"IF(CA7=\"\",\"\",IF(BX18=\"\",\"\",CA7))","v":""}]
["責任者名ふりがな",null,null,null,null,null,null,null,null,null,null,null,null,null,null,null,null,null,null,null,null,null,null,null,null,null,null,null,null,null,null,null,null,null,"NO.9",null,null,null,null,null,{"$f":"IF(AM5=\"\",\"\",IF(AJ19=\"\",\"\",AM5))","v":""},{"$f":"IF(AM7=\"\",\"\",IF(AJ19=\"\",\"\",AM7))","v":""},null,null,"NO.9",null,null,null,null,null,{"$f":"IF(AW5=\"\",\"\",IF(AT19=\"\",\"\",AW5))","v":""},{"$f":"IF(AW7=\"\",\"\",IF(AT19=\"\",\"\",AW7))","v":""},null,null,"NO.9",null,null,null,null,null,{"$f":"IF(BG5=\"\",\"\",IF(BD19=\"\",\"\",BG5))","v":""},{"$f":"IF(BG7=\"\",\"\",IF(BD19=\"\",\"\",BG7))","v":""},null,null,"NO.9",null,null,null,null,null,{"$f":"IF(BQ5=\"\",\"\",IF(BN19=\"\",\"\",BQ5))","v":""},{"$f":"IF(BQ7=\"\",\"\",IF(BN19=\"\",\"\",BQ7))","v":""},null,null,"NO.9",null,null,null,null,null,{"$f":"IF(CA5=\"\",\"\",IF(BX19=\"\",\"\",CA5))","v":""},{"$f":"IF(CA7=\"\",\"\",IF(BX19=\"\",\"\",CA7))","v":""}]
[null,null,null,null,null,null,null,null,null,null,null,null,null,null,null,null,null,null,null,null,null,null,null,null,null,null,null,null,null,null,null,null,null,null,"NO.10",null,null,null,null,null,{"$f":"IF(AM5=\"\",\"\",IF(AJ20=\"\",\"\",AM5))","v":""},{"$f":"IF(AM7=\"\",\"\",IF(AJ20=\"\",\"\",AM7))","v":""},null,null,"NO.10",null,null,null,null,null,{"$f":"IF(AW5=\"\",\"\",IF(AT20=\"\",\"\",AW5))","v":""},{"$f":"IF(AW7=\"\",\"\",IF(AT20=\"\",\"\",AW7))","v":""},null,null,"NO.10",null,null,null,null,null,{"$f":"IF(BG5=\"\",\"\",IF(BD20=\"\",\"\",BG5))","v":""},{"$f":"IF(BG7=\"\",\"\",IF(BD20=\"\",\"\",BG7))","v":""},null,null,"NO.10",null,null,null,null,null,{"$f":"IF(BQ5=\"\",\"\",IF(BN20=\"\",\"\",BQ5))","v":""},{"$f":"IF(BQ7=\"\",\"\",IF(BN20=\"\",\"\",BQ7))","v":""},null,null,"NO.10",null,null,null,null,null,{"$f":"IF(CA5=\"\",\"\",IF(BX20=\"\",\"\",CA5))","v":""},{"$f":"IF(CA7=\"\",\"\",IF(BX20=\"\",\"\",CA7))","v":""}]
["東京協会【会員】参加者数を入力してください。",null,null,null,null,null,null,null,null,null,null,null,null,null,null,null,null,null,null,null,null,null,null,null,null,null,null,null,null,null,null,null,null,null,"NO.11",null,null,null,null,null,{"$f":"IF(AM5=\"\",\"\",IF(AJ21=\"\",\"\",AM5))","v":""},{"$f":"IF(AM7=\"\",\"\",IF(AJ21=\"\",\"\",AM7))","v":""},null,null,"NO.11",null,null,null,null,null,{"$f":"IF(AW5=\"\",\"\",IF(AT21=\"\",\"\",AW5))","v":""},{"$f":"IF(AW7=\"\",\"\",IF(AT21=\"\",\"\",AW7))","v":""},null,null,"NO.11",null,null,null,null,null,{"$f":"IF(BG5=\"\",\"\",IF(BD21=\"\",\"\",BG5))","v":""},{"$f":"IF(BG7=\"\",\"\",IF(BD21=\"\",\"\",BG7))","v":""},null,null,"NO.11",null,null,null,null,null,{"$f":"IF(BQ5=\"\",\"\",IF(BN21=\"\",\"\",BQ5))","v":""},{"$f":"IF(BQ7=\"\",\"\",IF(BN21=\"\",\"\",BQ7))","v":""},null,null,"NO.11",null,null,null,null,null,{"$f":"IF(CA5=\"\",\"\",IF(BX21=\"\",\"\",CA5))","v":""},{"$f":"IF(CA7=\"\",\"\",IF(BX21=\"\",\"\",CA7))","v":""}]
["部　門",null,null,null,null,null,null,null,null,null,null,"申込人数",null,null,null,null,null,null,null,null,"費用/１人",null,null,null,null,null,null,"合計金額",null,null,null,null,null,null,"NO.12",null,null,null,null,null,{"$f":"IF(AM5=\"\",\"\",IF(AJ22=\"\",\"\",AM5))","v":""},{"$f":"IF(AM7=\"\",\"\",IF(AJ22=\"\",\"\",AM7))","v":""},null,null,"NO.12",null,null,null,null,null,{"$f":"IF(AW5=\"\",\"\",IF(AT22=\"\",\"\",AW5))","v":""},{"$f":"IF(AW7=\"\",\"\",IF(AT22=\"\",\"\",AW7))","v":""},null,null,"NO.12",null,null,null,null,null,{"$f":"IF(BG5=\"\",\"\",IF(BD22=\"\",\"\",BG5))","v":""},{"$f":"IF(BG7=\"\",\"\",IF(BD22=\"\",\"\",BG7))","v":""},null,null,"NO.12",null,null,null,null,null,{"$f":"IF(BQ5=\"\",\"\",IF(BN22=\"\",\"\",BQ5))","v":""},{"$f":"IF(BQ7=\"\",\"\",IF(BN22=\"\",\"\",BQ7))","v":""},null,null,"NO.12",null,null,null,null,null,{"$f":"IF(CA5=\"\",\"\",IF(BX22=\"\",\"\",CA5))","v":""},{"$f":"IF(CA7=\"\",\"\",IF(BX22=\"\",\"\",CA7))","v":""}]
["４年生以下の部",null,null,null,null,null,null,null,null,null,null,null,null,null,null,"名",null,null,"*",null,2300,null,null,null,null,null,null,{"$f":"IF(L23=\"\",\"\",L23*U23)","v":""},null,null,null,null,null,null,"NO.13",null,null,null,null,null,{"$f":"IF(AM5=\"\",\"\",IF(AJ23=\"\",\"\",AM5))","v":""},{"$f":"IF(AM7=\"\",\"\",IF(AJ23=\"\",\"\",AM7))","v":""},null,null,"NO.13",null,null,null,null,null,{"$f":"IF(AW5=\"\",\"\",IF(AT23=\"\",\"\",AW5))","v":""},{"$f":"IF(AW7=\"\",\"\",IF(AT23=\"\",\"\",AW7))","v":""},null,null,"NO.13",null,null,null,null,null,{"$f":"IF(BG5=\"\",\"\",IF(BD23=\"\",\"\",BG5))","v":""},{"$f":"IF(BG7=\"\",\"\",IF(BD23=\"\",\"\",BG7))","v":""},null,null,"NO.13",null,null,null,null,null,{"$f":"IF(BQ5=\"\",\"\",IF(BN23=\"\",\"\",BQ5))","v":""},{"$f":"IF(BQ7=\"\",\"\",IF(BN23=\"\",\"\",BQ7))","v":""},null,null,"NO.13",null,null,null,null,null,{"$f":"IF(CA5=\"\",\"\",IF(BX23=\"\",\"\",CA5))","v":""},{"$f":"IF(CA7=\"\",\"\",IF(BX23=\"\",\"\",CA7))","v":""}]
["小学生の部",null,null,null,null,null,null,null,null,null,null,null,null,null,null,"名",null,null,"*",null,2300,null,null,null,null,null,null,{"$f":"IF(L24=\"\",\"\",L24*U24)","v":""},null,null,null,null,null,null,"NO.14",null,null,null,null,null,{"$f":"IF(AM5=\"\",\"\",IF(AJ24=\"\",\"\",AM5))","v":""},{"$f":"IF(AM7=\"\",\"\",IF(AJ24=\"\",\"\",AM7))","v":""},null,null,"NO.14",null,null,null,null,null,{"$f":"IF(AW5=\"\",\"\",IF(AT24=\"\",\"\",AW5))","v":""},{"$f":"IF(AW7=\"\",\"\",IF(AT24=\"\",\"\",AW7))","v":""},null,null,"NO.14",null,null,null,null,null,{"$f":"IF(BG5=\"\",\"\",IF(BD24=\"\",\"\",BG5))","v":""},{"$f":"IF(BG7=\"\",\"\",IF(BD24=\"\",\"\",BG7))","v":""},null,null,"NO.14",null,null,null,null,null,{"$f":"IF(BQ5=\"\",\"\",IF(BN24=\"\",\"\",BQ5))","v":""},{"$f":"IF(BQ7=\"\",\"\",IF(BN24=\"\",\"\",BQ7))","v":""},null,null,"NO.14",null,null,null,null,null,{"$f":"IF(CA5=\"\",\"\",IF(BX24=\"\",\"\",CA5))","v":""},{"$f":"IF(CA7=\"\",\"\",IF(BX24=\"\",\"\",CA7))","v":""}]
["中学生の部",null,null,null,null,null,null,null,null,null,null,null,null,null,null,"名",null,null,"*",null,2300,null,null,null,null,null,null,{"$f":"IF(L25=\"\",\"\",L25*U25)","v":""},null,null,null,null,null,null,"NO.15",null,null,null,null,null,{"$f":"IF(AM5=\"\",\"\",IF(AJ25=\"\",\"\",AM5))","v":""},{"$f":"IF(AM7=\"\",\"\",IF(AJ25=\"\",\"\",AM7))","v":""},null,null,"NO.15",null,null,null,null,null,{"$f":"IF(AW5=\"\",\"\",IF(AT25=\"\",\"\",AW5))","v":""},{"$f":"IF(AW7=\"\",\"\",IF(AT25=\"\",\"\",AW7))","v":""},null,null,"NO.15",null,null,null,null,null,{"$f":"IF(BG5=\"\",\"\",IF(BD25=\"\",\"\",BG5))","v":""},{"$f":"IF(BG7=\"\",\"\",IF(BD25=\"\",\"\",BG7))","v":""},null,null,"NO.15",null,null,null,null,null,{"$f":"IF(BQ5=\"\",\"\",IF(BN25=\"\",\"\",BQ5))","v":""},{"$f":"IF(BQ7=\"\",\"\",IF(BN25=\"\",\"\",BQ7))","v":""},null,null,"NO.15",null,null,null,null,null,{"$f":"IF(CA5=\"\",\"\",IF(BX25=\"\",\"\",CA5))","v":""},{"$f":"IF(CA7=\"\",\"\",IF(BX25=\"\",\"\",CA7))","v":""}]
["高校生の部",null,null,null,null,null,null,null,null,null,null,null,null,null,null,"名",null,null,"*",null,2300,null,null,null,null,null,null,{"$f":"IF(L26=\"\",\"\",L26*U26)","v":""},null,null,null,null,null,null,"NO.16",null,null,null,null,null,{"$f":"IF(AM5=\"\",\"\",IF(AJ26=\"\",\"\",AM5))","v":""},{"$f":"IF(AM7=\"\",\"\",IF(AJ26=\"\",\"\",AM7))","v":""},null,null,"NO.16",null,null,null,null,null,{"$f":"IF(AW5=\"\",\"\",IF(AT26=\"\",\"\",AW5))","v":""},{"$f":"IF(AW7=\"\",\"\",IF(AT26=\"\",\"\",AW7))","v":""},null,null,"NO.16",null,null,null,null,null,{"$f":"IF(BG5=\"\",\"\",IF(BD26=\"\",\"\",BG5))","v":""},{"$f":"IF(BG7=\"\",\"\",IF(BD26=\"\",\"\",BG7))","v":""},null,null,"NO.16",null,null,null,null,null,{"$f":"IF(BQ5=\"\",\"\",IF(BN26=\"\",\"\",BQ5))","v":""},{"$f":"IF(BQ7=\"\",\"\",IF(BN26=\"\",\"\",BQ7))","v":""},null,null,"NO.16",null,null,null,null,null,{"$f":"IF(CA5=\"\",\"\",IF(BX26=\"\",\"\",CA5))","v":""},{"$f":"IF(CA7=\"\",\"\",IF(BX26=\"\",\"\",CA7))","v":""}]
["一般の部",null,null,null,null,null,null,null,null,null,null,null,null,null,null,"名",null,null,"*",null,2300,null,null,null,null,null,null,{"$f":"IF(L27=\"\",\"\",L27*U27)","v":""},null,null,null,null,null,null,"NO.17",null,null,null,null,null,{"$f":"IF(AM5=\"\",\"\",IF(AJ27=\"\",\"\",AM5))","v":""},{"$f":"IF(AM7=\"\",\"\",IF(AJ27=\"\",\"\",AM7))","v":""},null,null,"NO.17",null,null,null,null,null,{"$f":"IF(AW5=\"\",\"\",IF(AT27=\"\",\"\",AW5))","v":""},{"$f":"IF(AW7=\"\",\"\",IF(AT27=\"\",\"\",AW7))","v":""},null,null,"NO.17",null,null,null,null,null,{"$f":"IF(BG5=\"\",\"\",IF(BD27=\"\",\"\",BG5))","v":""},{"$f":"IF(BG7=\"\",\"\",IF(BD27=\"\",\"\",BG7))","v":""},null,null,"NO.17",null,null,null,null,null,{"$f":"IF(BQ5=\"\",\"\",IF(BN27=\"\",\"\",BQ5))","v":""},{"$f":"IF(BQ7=\"\",\"\",IF(BN27=\"\",\"\",BQ7))","v":""},null,null,"NO.17",null,null,null,null,null,{"$f":"IF(CA5=\"\",\"\",IF(BX27=\"\",\"\",CA5))","v":""},{"$f":"IF(CA7=\"\",\"\",IF(BX27=\"\",\"\",CA7))","v":""}]
[null,null,null,null,null,null,null,null,null,null,null,null,null,null,null,null,null,null,null,null,null,null,null,null,null,null,null,{"$f":"SUM(AB23:AF27)","v":0},null,null,null,null,null,null,"NO.18",null,null,null,null,null,{"$f":"IF(AM5=\"\",\"\",IF(AJ28=\"\",\"\",AM5))","v":""},{"$f":"IF(AM7=\"\",\"\",IF(AJ28=\"\",\"\",AM7))","v":""},null,null,"NO.18",null,null,null,null,null,{"$f":"IF(AW5=\"\",\"\",IF(AT28=\"\",\"\",AW5))","v":""},{"$f":"IF(AW7=\"\",\"\",IF(AT28=\"\",\"\",AW7))","v":""},null,null,"NO.18",null,null,null,null,null,{"$f":"IF(BG5=\"\",\"\",IF(BD28=\"\",\"\",BG5))","v":""},{"$f":"IF(BG7=\"\",\"\",IF(BD28=\"\",\"\",BG7))","v":""},null,null,"NO.18",null,null,null,null,null,{"$f":"IF(BQ5=\"\",\"\",IF(BN28=\"\",\"\",BQ5))","v":""},{"$f":"IF(BQ7=\"\",\"\",IF(BN28=\"\",\"\",BQ7))","v":""},null,null,"NO.18",null,null,null,null,null,{"$f":"IF(CA5=\"\",\"\",IF(BX28=\"\",\"\",CA5))","v":""},{"$f":"IF(CA7=\"\",\"\",IF(BX28=\"\",\"\",CA7))","v":""}]
["一般の参加者数を入力してください。",null,null,null,null,null,null,null,null,null,null,null,null,null,null,null,null,null,null,null,null,null,null,null,null,null,null,null,null,null,null,null,null,null,"NO.19",null,null,null,null,null,{"$f":"IF(AM5=\"\",\"\",IF(AJ29=\"\",\"\",AM5))","v":""},{"$f":"IF(AM7=\"\",\"\",IF(AJ29=\"\",\"\",AM7))","v":""},null,null,"NO.19",null,null,null,null,null,{"$f":"IF(AW5=\"\",\"\",IF(AT29=\"\",\"\",AW5))","v":""},{"$f":"IF(AW7=\"\",\"\",IF(AT29=\"\",\"\",AW7))","v":""},null,null,"NO.19",null,null,null,null,null,{"$f":"IF(BG5=\"\",\"\",IF(BD29=\"\",\"\",BG5))","v":""},{"$f":"IF(BG7=\"\",\"\",IF(BD29=\"\",\"\",BG7))","v":""},null,null,"NO.19",null,null,null,null,null,{"$f":"IF(BQ5=\"\",\"\",IF(BN29=\"\",\"\",BQ5))","v":""},{"$f":"IF(BQ7=\"\",\"\",IF(BN29=\"\",\"\",BQ7))","v":""},null,null,"NO.19",null,null,null,null,null,{"$f":"IF(CA5=\"\",\"\",IF(BX29=\"\",\"\",CA5))","v":""},{"$f":"IF(CA7=\"\",\"\",IF(BX29=\"\",\"\",CA7))","v":""}]
["部　門",null,null,null,null,null,null,null,null,null,null,"申込人数",null,null,null,null,null,null,null,null,"費用/１人",null,null,null,null,null,null,"合計金額",null,null,null,null,null,null,"NO.20",null,null,null,null,null,{"$f":"IF(AM5=\"\",\"\",IF(AJ30=\"\",\"\",AM5))","v":""},{"$f":"IF(AM7=\"\",\"\",IF(AJ30=\"\",\"\",AM7))","v":""},null,null,"NO.20",null,null,null,null,null,{"$f":"IF(AW5=\"\",\"\",IF(AT30=\"\",\"\",AW5))","v":""},{"$f":"IF(AW7=\"\",\"\",IF(AT30=\"\",\"\",AW7))","v":""},null,null,"NO.20",null,null,null,null,null,{"$f":"IF(BG5=\"\",\"\",IF(BD30=\"\",\"\",BG5))","v":""},{"$f":"IF(BG7=\"\",\"\",IF(BD30=\"\",\"\",BG7))","v":""},null,null,"NO.20",null,null,null,null,null,{"$f":"IF(BQ5=\"\",\"\",IF(BN30=\"\",\"\",BQ5))","v":""},{"$f":"IF(BQ7=\"\",\"\",IF(BN30=\"\",\"\",BQ7))","v":""},null,null,"NO.20",null,null,null,null,null,{"$f":"IF(CA5=\"\",\"\",IF(BX30=\"\",\"\",CA5))","v":""},{"$f":"IF(CA7=\"\",\"\",IF(BX30=\"\",\"\",CA7))","v":""}]
["４年生以下の部",null,null,null,null,null,null,null,null,null,null,null,null,null,null,"名",null,null,"*",null,3800,null,null,null,null,null,null,{"$f":"IF(L31=\"\",\"\",L31*U31)","v":""},null,null,null,null,null,null,"NO.21",null,null,null,null,null,{"$f":"IF(AM5=\"\",\"\",IF(AJ31=\"\",\"\",AM5))","v":""},{"$f":"IF(AM7=\"\",\"\",IF(AJ31=\"\",\"\",AM7))","v":""},null,null,"NO.21",null,null,null,null,null,{"$f":"IF(AW5=\"\",\"\",IF(AT31=\"\",\"\",AW5))","v":""},{"$f":"IF(AW7=\"\",\"\",IF(AT31=\"\",\"\",AW7))","v":""},null,null,"NO.21",null,null,null,null,null,{"$f":"IF(BG5=\"\",\"\",IF(BD31=\"\",\"\",BG5))","v":""},{"$f":"IF(BG7=\"\",\"\",IF(BD31=\"\",\"\",BG7))","v":""},null,null,"NO.21",null,null,null,null,null,{"$f":"IF(BQ5=\"\",\"\",IF(BN31=\"\",\"\",BQ5))","v":""},{"$f":"IF(BQ7=\"\",\"\",IF(BN31=\"\",\"\",BQ7))","v":""},null,null,"NO.21",null,null,null,null,null,{"$f":"IF(CA5=\"\",\"\",IF(BX31=\"\",\"\",CA5))","v":""},{"$f":"IF(CA7=\"\",\"\",IF(BX31=\"\",\"\",CA7))","v":""}]
["小学生の部",null,null,null,null,null,null,null,null,null,null,null,null,null,null,"名",null,null,"*",null,3800,null,null,null,null,null,null,{"$f":"IF(L32=\"\",\"\",L32*U32)","v":""},null,null,null,null,null,null,"NO.22",null,null,null,null,null,{"$f":"IF(AM5=\"\",\"\",IF(AJ32=\"\",\"\",AM5))","v":""},{"$f":"IF(AM7=\"\",\"\",IF(AJ32=\"\",\"\",AM7))","v":""},null,null,"NO.22",null,null,null,null,null,{"$f":"IF(AW5=\"\",\"\",IF(AT32=\"\",\"\",AW5))","v":""},{"$f":"IF(AW7=\"\",\"\",IF(AT32=\"\",\"\",AW7))","v":""},null,null,"NO.22",null,null,null,null,null,{"$f":"IF(BG5=\"\",\"\",IF(BD32=\"\",\"\",BG5))","v":""},{"$f":"IF(BG7=\"\",\"\",IF(BD32=\"\",\"\",BG7))","v":""},null,null,"NO.22",null,null,null,null,null,{"$f":"IF(BQ5=\"\",\"\",IF(BN32=\"\",\"\",BQ5))","v":""},{"$f":"IF(BQ7=\"\",\"\",IF(BN32=\"\",\"\",BQ7))","v":""},null,null,"NO.22",null,null,null,null,null,{"$f":"IF(CA5=\"\",\"\",IF(BX32=\"\",\"\",CA5))","v":""},{"$f":"IF(CA7=\"\",\"\",IF(BX32=\"\",\"\",CA7))","v":""}]
["中学生の部",null,null,null,null,null,null,null,null,null,null,null,null,null,null,"名",null,null,"*",null,3800,null,null,null,null,null,null,{"$f":"IF(L33=\"\",\"\",L33*U33)","v":""},null,null,null,null,null,null,"NO.23",null,null,null,null,null,{"$f":"IF(AM5=\"\",\"\",IF(AJ33=\"\",\"\",AM5))","v":""},{"$f":"IF(AM7=\"\",\"\",IF(AJ33=\"\",\"\",AM7))","v":""},null,null,"NO.23",null,null,null,null,null,{"$f":"IF(AW5=\"\",\"\",IF(AT33=\"\",\"\",AW5))","v":""},{"$f":"IF(AW7=\"\",\"\",IF(AT33=\"\",\"\",AW7))","v":""},null,null,"NO.23",null,null,null,null,null,{"$f":"IF(BG5=\"\",\"\",IF(BD33=\"\",\"\",BG5))","v":""},{"$f":"IF(BG7=\"\",\"\",IF(BD33=\"\",\"\",BG7))","v":""},null,null,"NO.23",null,null,null,null,null,{"$f":"IF(BQ5=\"\",\"\",IF(BN33=\"\",\"\",BQ5))","v":""},{"$f":"IF(BQ7=\"\",\"\",IF(BN33=\"\",\"\",BQ7))","v":""},null,null,"NO.23",null,null,null,null,null,{"$f":"IF(CA5=\"\",\"\",IF(BX33=\"\",\"\",CA5))","v":""},{"$f":"IF(CA7=\"\",\"\",IF(BX33=\"\",\"\",CA7))","v":""}]
["高校生の部",null,null,null,null,null,null,null,null,null,null,null,null,null,null,"名",null,null,"*",null,3800,null,null,null,null,null,null,{"$f":"IF(L34=\"\",\"\",L34*U34)","v":""},null,null,null,null,null,null,"NO.24",null,null,null,null,null,{"$f":"IF(AM5=\"\",\"\",IF(AJ34=\"\",\"\",AM5))","v":""},{"$f":"IF(AM7=\"\",\"\",IF(AJ34=\"\",\"\",AM7))","v":""},null,null,"NO.24",null,null,null,null,null,{"$f":"IF(AW5=\"\",\"\",IF(AT34=\"\",\"\",AW5))","v":""},{"$f":"IF(AW7=\"\",\"\",IF(AT34=\"\",\"\",AW7))","v":""},null,null,"NO.24",null,null,null,null,null,{"$f":"IF(BG5=\"\",\"\",IF(BD34=\"\",\"\",BG5))","v":""},{"$f":"IF(BG7=\"\",\"\",IF(BD34=\"\",\"\",BG7))","v":""},null,null,"NO.24",null,null,null,null,null,{"$f":"IF(BQ5=\"\",\"\",IF(BN34=\"\",\"\",BQ5))","v":""},{"$f":"IF(BQ7=\"\",\"\",IF(BN34=\"\",\"\",BQ7))","v":""},null,null,"NO.24",null,null,null,null,null,{"$f":"IF(CA5=\"\",\"\",IF(BX34=\"\",\"\",CA5))","v":""},{"$f":"IF(CA7=\"\",\"\",IF(BX34=\"\",\"\",CA7))","v":""}]
["一般の部",null,null,null,null,null,null,null,null,null,null,null,null,null,null,"名",null,null,"*",null,3800,null,null,null,null,null,null,{"$f":"IF(L35=\"\",\"\",L35*U35)","v":""},null,null,null,null,null,null,"NO.25",null,null,null,null,null,{"$f":"IF(AM5=\"\",\"\",IF(AJ35=\"\",\"\",AM5))","v":""},{"$f":"IF(AM7=\"\",\"\",IF(AJ35=\"\",\"\",AM7))","v":""},null,null,"NO.25",null,null,null,null,null,{"$f":"IF(AW5=\"\",\"\",IF(AT35=\"\",\"\",AW5))","v":""},{"$f":"IF(AW7=\"\",\"\",IF(AT35=\"\",\"\",AW7))","v":""},null,null,"NO.25",null,null,null,null,null,{"$f":"IF(BG5=\"\",\"\",IF(BD35=\"\",\"\",BG5))","v":""},{"$f":"IF(BG7=\"\",\"\",IF(BD35=\"\",\"\",BG7))","v":""},null,null,"NO.25",null,null,null,null,null,{"$f":"IF(BQ5=\"\",\"\",IF(BN35=\"\",\"\",BQ5))","v":""},{"$f":"IF(BQ7=\"\",\"\",IF(BN35=\"\",\"\",BQ7))","v":""},null,null,"NO.25",null,null,null,null,null,{"$f":"IF(CA5=\"\",\"\",IF(BX35=\"\",\"\",CA5))","v":""},{"$f":"IF(CA7=\"\",\"\",IF(BX35=\"\",\"\",CA7))","v":""}]
[null,null,null,null,null,null,null,null,null,null,null,null,null,null,null,null,null,null,null,null,null,null,null,null,null,null,null,{"$f":"SUM(AB31:AF35)","v":0},null,null,null,null,null,null,"NO.26",null,null,null,null,null,{"$f":"IF(AM5=\"\",\"\",IF(AJ36=\"\",\"\",AM5))","v":""},{"$f":"IF(AM7=\"\",\"\",IF(AJ36=\"\",\"\",AM7))","v":""},null,null,"NO.26",null,null,null,null,null,{"$f":"IF(AW5=\"\",\"\",IF(AT36=\"\",\"\",AW5))","v":""},{"$f":"IF(AW7=\"\",\"\",IF(AT36=\"\",\"\",AW7))","v":""},null,null,"NO.26",null,null,null,null,null,{"$f":"IF(BG5=\"\",\"\",IF(BD36=\"\",\"\",BG5))","v":""},{"$f":"IF(BG7=\"\",\"\",IF(BD36=\"\",\"\",BG7))","v":""},null,null,"NO.26",null,null,null,null,null,{"$f":"IF(BQ5=\"\",\"\",IF(BN36=\"\",\"\",BQ5))","v":""},{"$f":"IF(BQ7=\"\",\"\",IF(BN36=\"\",\"\",BQ7))","v":""},null,null,"NO.26",null,null,null,null,null,{"$f":"IF(CA5=\"\",\"\",IF(BX36=\"\",\"\",CA5))","v":""},{"$f":"IF(CA7=\"\",\"\",IF(BX36=\"\",\"\",CA7))","v":""}]
[null,null,null,null,null,null,null,null,null,null,null,null,null,null,null,null,null,null,null,null,null,null,null,null,null,null,null,null,null,null,null,null,null,null,"NO.27",null,null,null,null,null,{"$f":"IF(AM5=\"\",\"\",IF(AJ37=\"\",\"\",AM5))","v":""},{"$f":"IF(AM7=\"\",\"\",IF(AJ37=\"\",\"\",AM7))","v":""},null,null,"NO.27",null,null,null,null,null,{"$f":"IF(AW5=\"\",\"\",IF(AT37=\"\",\"\",AW5))","v":""},{"$f":"IF(AW7=\"\",\"\",IF(AT37=\"\",\"\",AW7))","v":""},null,null,"NO.27",null,null,null,null,null,{"$f":"IF(BG5=\"\",\"\",IF(BD37=\"\",\"\",BG5))","v":""},{"$f":"IF(BG7=\"\",\"\",IF(BD37=\"\",\"\",BG7))","v":""},null,null,"NO.27",null,null,null,null,null,{"$f":"IF(BQ5=\"\",\"\",IF(BN37=\"\",\"\",BQ5))","v":""},{"$f":"IF(BQ7=\"\",\"\",IF(BN37=\"\",\"\",BQ7))","v":""},null,null,"NO.27",null,null,null,null,null,{"$f":"IF(CA5=\"\",\"\",IF(BX37=\"\",\"\",CA5))","v":""},{"$f":"IF(CA7=\"\",\"\",IF(BX37=\"\",\"\",CA7))","v":""}]
[null,null,null,null,null,null,null,null,null,null,null,null,null,null,null,null,null,null,null,null,null,null,null,null,null,null,null,null,null,null,null,null,null,null,"NO.28",null,null,null,null,null,{"$f":"IF(AM5=\"\",\"\",IF(AJ38=\"\",\"\",AM5))","v":""},{"$f":"IF(AM7=\"\",\"\",IF(AJ38=\"\",\"\",AM7))","v":""},null,null,"NO.28",null,null,null,null,null,{"$f":"IF(AW5=\"\",\"\",IF(AT38=\"\",\"\",AW5))","v":""},{"$f":"IF(AW7=\"\",\"\",IF(AT38=\"\",\"\",AW7))","v":""},null,null,"NO.28",null,null,null,null,null,{"$f":"IF(BG5=\"\",\"\",IF(BD38=\"\",\"\",BG5))","v":""},{"$f":"IF(BG7=\"\",\"\",IF(BD38=\"\",\"\",BG7))","v":""},null,null,"NO.28",null,null,null,null,null,{"$f":"IF(BQ5=\"\",\"\",IF(BN38=\"\",\"\",BQ5))","v":""},{"$f":"IF(BQ7=\"\",\"\",IF(BN38=\"\",\"\",BQ7))","v":""},null,null,"NO.28",null,null,null,null,null,{"$f":"IF(CA5=\"\",\"\",IF(BX38=\"\",\"\",CA5))","v":""},{"$f":"IF(CA7=\"\",\"\",IF(BX38=\"\",\"\",CA7))","v":""}]
[null,null,null,null,null,null,null,null,null,null,null,null,null,null,null,null,null,null,null,null,null,null,null,null,null,null,null,null,null,null,null,null,null,null,"NO.29",null,null,null,null,null,{"$f":"IF(AM5=\"\",\"\",IF(AJ39=\"\",\"\",AM5))","v":""},{"$f":"IF(AM7=\"\",\"\",IF(AJ39=\"\",\"\",AM7))","v":""},null,null,"NO.29",null,null,null,null,null,{"$f":"IF(AW5=\"\",\"\",IF(AT39=\"\",\"\",AW5))","v":""},{"$f":"IF(AW7=\"\",\"\",IF(AT39=\"\",\"\",AW7))","v":""},null,null,"NO.29",null,null,null,null,null,{"$f":"IF(BG5=\"\",\"\",IF(BD39=\"\",\"\",BG5))","v":""},{"$f":"IF(BG7=\"\",\"\",IF(BD39=\"\",\"\",BG7))","v":""},null,null,"NO.29",null,null,null,null,null,{"$f":"IF(BQ5=\"\",\"\",IF(BN39=\"\",\"\",BQ5))","v":""},{"$f":"IF(BQ7=\"\",\"\",IF(BN39=\"\",\"\",BQ7))","v":""},null,null,"NO.29",null,null,null,null,null,{"$f":"IF(CA5=\"\",\"\",IF(BX39=\"\",\"\",CA5))","v":""},{"$f":"IF(CA7=\"\",\"\",IF(BX39=\"\",\"\",CA7))","v":""}]
[null,null,null,null,null,null,null,null,null,null,null,null,null,null,null,null,null,null,null,null,null,null,null,null,null,null,null,null,null,null,null,null,null,null,"NO.30",null,null,null,null,null,{"$f":"IF(AM5=\"\",\"\",IF(AJ40=\"\",\"\",AM5))","v":""},{"$f":"IF(AM7=\"\",\"\",IF(AJ40=\"\",\"\",AM7))","v":""},null,null,"NO.30",null,null,null,null,null,{"$f":"IF(AW5=\"\",\"\",IF(AT40=\"\",\"\",AW5))","v":""},{"$f":"IF(AW7=\"\",\"\",IF(AT40=\"\",\"\",AW7))","v":""},null,null,"NO.30",null,null,null,null,null,{"$f":"IF(BG5=\"\",\"\",IF(BD40=\"\",\"\",BG5))","v":""},{"$f":"IF(BG7=\"\",\"\",IF(BD40=\"\",\"\",BG7))","v":""},null,null,"NO.30",null,null,null,null,null,{"$f":"IF(BQ5=\"\",\"\",IF(BN40=\"\",\"\",BQ5))","v":""},{"$f":"IF(BQ7=\"\",\"\",IF(BN40=\"\",\"\",BQ7))","v":""},null,null,"NO.30",null,null,null,null,null,{"$f":"IF(CA5=\"\",\"\",IF(BX40=\"\",\"\",CA5))","v":""},{"$f":"IF(CA7=\"\",\"\",IF(BX40=\"\",\"\",CA7))","v":""}]
[null,null,null,null,null,null,null,null,null,null,null,null,null,null,null,null,null,null,null,null,null,null,null,null,null,null,null,null,null,null,null,null,null,null,"NO.31",null,null,null,null,null,{"$f":"IF(AM5=\"\",\"\",IF(AJ41=\"\",\"\",AM5))","v":""},{"$f":"IF(AM7=\"\",\"\",IF(AJ41=\"\",\"\",AM7))","v":""},null,null,"NO.31",null,null,null,null,null,{"$f":"IF(AW5=\"\",\"\",IF(AT41=\"\",\"\",AW5))","v":""},{"$f":"IF(AW7=\"\",\"\",IF(AT41=\"\",\"\",AW7))","v":""},null,null,"NO.31",null,null,null,null,null,{"$f":"IF(BG5=\"\",\"\",IF(BD41=\"\",\"\",BG5))","v":""},{"$f":"IF(BG7=\"\",\"\",IF(BD41=\"\",\"\",BG7))","v":""},null,null,"NO.31",null,null,null,null,null,{"$f":"IF(BQ5=\"\",\"\",IF(BN41=\"\",\"\",BQ5))","v":""},{"$f":"IF(BQ7=\"\",\"\",IF(BN41=\"\",\"\",BQ7))","v":""},null,null,"NO.31",null,null,null,null,null,{"$f":"IF(CA5=\"\",\"\",IF(BX41=\"\",\"\",CA5))","v":""},{"$f":"IF(CA7=\"\",\"\",IF(BX41=\"\",\"\",CA7))","v":""}]
[null,null,null,null,null,null,null,null,null,null,null,null,null,null,null,null,null,null,null,null,null,null,null,null,null,null,null,null,null,null,null,null,null,null,"NO.32",null,null,null,null,null,{"$f":"IF(AM5=\"\",\"\",IF(AJ42=\"\",\"\",AM5))","v":""},{"$f":"IF(AM7=\"\",\"\",IF(AJ42=\"\",\"\",AM7))","v":""},null,null,"NO.32",null,null,null,null,null,{"$f":"IF(AW5=\"\",\"\",IF(AT42=\"\",\"\",AW5))","v":""},{"$f":"IF(AW7=\"\",\"\",IF(AT42=\"\",\"\",AW7))","v":""},null,null,"NO.32",null,null,null,null,null,{"$f":"IF(BG5=\"\",\"\",IF(BD42=\"\",\"\",BG5))","v":""},{"$f":"IF(BG7=\"\",\"\",IF(BD42=\"\",\"\",BG7))","v":""},null,null,"NO.32",null,null,null,null,null,{"$f":"IF(BQ5=\"\",\"\",IF(BN42=\"\",\"\",BQ5))","v":""},{"$f":"IF(BQ7=\"\",\"\",IF(BN42=\"\",\"\",BQ7))","v":""},null,null,"NO.32",null,null,null,null,null,{"$f":"IF(CA5=\"\",\"\",IF(BX42=\"\",\"\",CA5))","v":""},{"$f":"IF(CA7=\"\",\"\",IF(BX42=\"\",\"\",CA7))","v":""}]
[null,null,null,null,null,null,null,null,null,null,null,null,null,null,null,null,null,null,null,null,null,null,null,null,null,null,null,null,null,null,null,null,null,null,"NO.33",null,null,null,null,null,{"$f":"IF(AM5=\"\",\"\",IF(AJ43=\"\",\"\",AM5))","v":""},{"$f":"IF(AM7=\"\",\"\",IF(AJ43=\"\",\"\",AM7))","v":""},null,null,"NO.33",null,null,null,null,null,{"$f":"IF(AW5=\"\",\"\",IF(AT43=\"\",\"\",AW5))","v":""},{"$f":"IF(AW7=\"\",\"\",IF(AT43=\"\",\"\",AW7))","v":""},null,null,"NO.33",null,null,null,null,null,{"$f":"IF(BG5=\"\",\"\",IF(BD43=\"\",\"\",BG5))","v":""},{"$f":"IF(BG7=\"\",\"\",IF(BD43=\"\",\"\",BG7))","v":""},null,null,"NO.33",null,null,null,null,null,{"$f":"IF(BQ5=\"\",\"\",IF(BN43=\"\",\"\",BQ5))","v":""},{"$f":"IF(BQ7=\"\",\"\",IF(BN43=\"\",\"\",BQ7))","v":""},null,null,"NO.33",null,null,null,null,null,{"$f":"IF(CA5=\"\",\"\",IF(BX43=\"\",\"\",CA5))","v":""},{"$f":"IF(CA7=\"\",\"\",IF(BX43=\"\",\"\",CA7))","v":""}]
[null,null,null,null,null,null,null,null,null,null,null,null,null,null,null,null,null,null,null,null,null,null,null,null,null,null,null,null,null,null,null,null,null,null,"NO.34",null,null,null,null,null,{"$f":"IF(AM5=\"\",\"\",IF(AJ44=\"\",\"\",AM5))","v":""},{"$f":"IF(AM7=\"\",\"\",IF(AJ44=\"\",\"\",AM7))","v":""},null,null,"NO.34",null,null,null,null,null,{"$f":"IF(AW5=\"\",\"\",IF(AT44=\"\",\"\",AW5))","v":""},{"$f":"IF(AW7=\"\",\"\",IF(AT44=\"\",\"\",AW7))","v":""},null,null,"NO.34",null,null,null,null,null,{"$f":"IF(BG5=\"\",\"\",IF(BD44=\"\",\"\",BG5))","v":""},{"$f":"IF(BG7=\"\",\"\",IF(BD44=\"\",\"\",BG7))","v":""},null,null,"NO.34",null,null,null,null,null,{"$f":"IF(BQ5=\"\",\"\",IF(BN44=\"\",\"\",BQ5))","v":""},{"$f":"IF(BQ7=\"\",\"\",IF(BN44=\"\",\"\",BQ7))","v":""},null,null,"NO.34",null,null,null,null,null,{"$f":"IF(CA5=\"\",\"\",IF(BX44=\"\",\"\",CA5))","v":""},{"$f":"IF(CA7=\"\",\"\",IF(BX44=\"\",\"\",CA7))","v":""}]
[null,null,null,null,null,null,null,null,null,null,null,null,null,null,null,null,null,null,null,null,null,null,null,null,null,null,null,null,null,null,null,null,null,null,"NO.35",null,null,null,null,null,{"$f":"IF(AM5=\"\",\"\",IF(AJ45=\"\",\"\",AM5))","v":""},{"$f":"IF(AM7=\"\",\"\",IF(AJ45=\"\",\"\",AM7))","v":""},null,null,"NO.35",null,null,null,null,null,{"$f":"IF(AW5=\"\",\"\",IF(AT45=\"\",\"\",AW5))","v":""},{"$f":"IF(AW7=\"\",\"\",IF(AT45=\"\",\"\",AW7))","v":""},null,null,"NO.35",null,null,null,null,null,{"$f":"IF(BG5=\"\",\"\",IF(BD45=\"\",\"\",BG5))","v":""},{"$f":"IF(BG7=\"\",\"\",IF(BD45=\"\",\"\",BG7))","v":""},null,null,"NO.35",null,null,null,null,null,{"$f":"IF(BQ5=\"\",\"\",IF(BN45=\"\",\"\",BQ5))","v":""},{"$f":"IF(BQ7=\"\",\"\",IF(BN45=\"\",\"\",BQ7))","v":""},null,null,"NO.35",null,null,null,null,null,{"$f":"IF(CA5=\"\",\"\",IF(BX45=\"\",\"\",CA5))","v":""},{"$f":"IF(CA7=\"\",\"\",IF(BX45=\"\",\"\",CA7))","v":""}]
[null,null,null,null,null,null,null,null,null,null,null,null,null,null,null,null,null,null,null,null,null,null,null,null,null,null,null,null,null,null,null,null,null,null,"NO.36",null,null,null,null,null,{"$f":"IF(AM5=\"\",\"\",IF(AJ46=\"\",\"\",AM5))","v":""},{"$f":"IF(AM7=\"\",\"\",IF(AJ46=\"\",\"\",AM7))","v":""},null,null,"NO.36",null,null,null,null,null,{"$f":"IF(AW5=\"\",\"\",IF(AT46=\"\",\"\",AW5))","v":""},{"$f":"IF(AW7=\"\",\"\",IF(AT46=\"\",\"\",AW7))","v":""},null,null,"NO.36",null,null,null,null,null,{"$f":"IF(BG5=\"\",\"\",IF(BD46=\"\",\"\",BG5))","v":""},{"$f":"IF(BG7=\"\",\"\",IF(BD46=\"\",\"\",BG7))","v":""},null,null,"NO.36",null,null,null,null,null,{"$f":"IF(BQ5=\"\",\"\",IF(BN46=\"\",\"\",BQ5))","v":""},{"$f":"IF(BQ7=\"\",\"\",IF(BN46=\"\",\"\",BQ7))","v":""},null,null,"NO.36",null,null,null,null,null,{"$f":"IF(CA5=\"\",\"\",IF(BX46=\"\",\"\",CA5))","v":""},{"$f":"IF(CA7=\"\",\"\",IF(BX46=\"\",\"\",CA7))","v":""}]
[null,null,null,null,null,null,null,null,null,null,null,null,null,null,null,null,null,null,null,null,null,null,null,null,null,null,null,null,null,null,null,null,null,null,"NO.37",null,null,null,null,null,{"$f":"IF(AM5=\"\",\"\",IF(AJ47=\"\",\"\",AM5))","v":""},{"$f":"IF(AM7=\"\",\"\",IF(AJ47=\"\",\"\",AM7))","v":""},null,null,"NO.37",null,null,null,null,null,{"$f":"IF(AW5=\"\",\"\",IF(AT47=\"\",\"\",AW5))","v":""},{"$f":"IF(AW7=\"\",\"\",IF(AT47=\"\",\"\",AW7))","v":""},null,null,"NO.37",null,null,null,null,null,{"$f":"IF(BG5=\"\",\"\",IF(BD47=\"\",\"\",BG5))","v":""},{"$f":"IF(BG7=\"\",\"\",IF(BD47=\"\",\"\",BG7))","v":""},null,null,"NO.37",null,null,null,null,null,{"$f":"IF(BQ5=\"\",\"\",IF(BN47=\"\",\"\",BQ5))","v":""},{"$f":"IF(BQ7=\"\",\"\",IF(BN47=\"\",\"\",BQ7))","v":""},null,null,"NO.37",null,null,null,null,null,{"$f":"IF(CA5=\"\",\"\",IF(BX47=\"\",\"\",CA5))","v":""},{"$f":"IF(CA7=\"\",\"\",IF(BX47=\"\",\"\",CA7))","v":""}]
[null,null,null,null,null,null,null,null,null,null,null,null,null,null,null,null,null,null,null,null,null,null,null,null,null,null,null,null,null,null,null,null,null,null,"NO.38",null,null,null,null,null,{"$f":"IF(AM5=\"\",\"\",IF(AJ48=\"\",\"\",AM5))","v":""},{"$f":"IF(AM7=\"\",\"\",IF(AJ48=\"\",\"\",AM7))","v":""},null,null,"NO.38",null,null,null,null,null,{"$f":"IF(AW5=\"\",\"\",IF(AT48=\"\",\"\",AW5))","v":""},{"$f":"IF(AW7=\"\",\"\",IF(AT48=\"\",\"\",AW7))","v":""},null,null,"NO.38",null,null,null,null,null,{"$f":"IF(BG5=\"\",\"\",IF(BD48=\"\",\"\",BG5))","v":""},{"$f":"IF(BG7=\"\",\"\",IF(BD48=\"\",\"\",BG7))","v":""},null,null,"NO.38",null,null,null,null,null,{"$f":"IF(BQ5=\"\",\"\",IF(BN48=\"\",\"\",BQ5))","v":""},{"$f":"IF(BQ7=\"\",\"\",IF(BN48=\"\",\"\",BQ7))","v":""},null,null,"NO.38",null,null,null,null,null,{"$f":"IF(CA5=\"\",\"\",IF(BX48=\"\",\"\",CA5))","v":""},{"$f":"IF(CA7=\"\",\"\",IF(BX48=\"\",\"\",CA7))","v":""}]
[null,null,null,null,null,null,null,null,null,null,null,null,null,null,null,null,null,null,null,null,null,null,null,null,null,null,null,null,null,null,null,null,null,null,"NO.39",null,null,null,null,null,{"$f":"IF(AM5=\"\",\"\",IF(AJ49=\"\",\"\",AM5))","v":""},{"$f":"IF(AM7=\"\",\"\",IF(AJ49=\"\",\"\",AM7))","v":""},null,null,"NO.39",null,null,null,null,null,{"$f":"IF(AW5=\"\",\"\",IF(AT49=\"\",\"\",AW5))","v":""},{"$f":"IF(AW7=\"\",\"\",IF(AT49=\"\",\"\",AW7))","v":""},null,null,"NO.39",null,null,null,null,null,{"$f":"IF(BG5=\"\",\"\",IF(BD49=\"\",\"\",BG5))","v":""},{"$f":"IF(BG7=\"\",\"\",IF(BD49=\"\",\"\",BG7))","v":""},null,null,"NO.39",null,null,null,null,null,{"$f":"IF(BQ5=\"\",\"\",IF(BN49=\"\",\"\",BQ5))","v":""},{"$f":"IF(BQ7=\"\",\"\",IF(BN49=\"\",\"\",BQ7))","v":""},null,null,"NO.39",null,null,null,null,null,{"$f":"IF(CA5=\"\",\"\",IF(BX49=\"\",\"\",CA5))","v":""},{"$f":"IF(CA7=\"\",\"\",IF(BX49=\"\",\"\",CA7))","v":""}]
[null,null,null,null,null,null,null,null,null,null,null,null,null,null,null,null,null,null,null,null,null,null,null,null,null,null,null,null,null,null,null,null,null,null,"NO.40",null,null,null,null,null,{"$f":"IF(AM5=\"\",\"\",IF(AJ50=\"\",\"\",AM5))","v":""},{"$f":"IF(AM7=\"\",\"\",IF(AJ50=\"\",\"\",AM7))","v":""},null,null,"NO.40",null,null,null,null,null,{"$f":"IF(AW5=\"\",\"\",IF(AT50=\"\",\"\",AW5))","v":""},{"$f":"IF(AW7=\"\",\"\",IF(AT50=\"\",\"\",AW7))","v":""},null,null,"NO.40",null,null,null,null,null,{"$f":"IF(BG5=\"\",\"\",IF(BD50=\"\",\"\",BG5))","v":""},{"$f":"IF(BG7=\"\",\"\",IF(BD50=\"\",\"\",BG7))","v":""},null,null,"NO.40",null,null,null,null,null,{"$f":"IF(BQ5=\"\",\"\",IF(BN50=\"\",\"\",BQ5))","v":""},{"$f":"IF(BQ7=\"\",\"\",IF(BN50=\"\",\"\",BQ7))","v":""},null,null,"NO.40",null,null,null,null,null,{"$f":"IF(CA5=\"\",\"\",IF(BX50=\"\",\"\",CA5))","v":""},{"$f":"IF(CA7=\"\",\"\",IF(BX50=\"\",\"\",CA7))","v":""}]
[null,null,null,null,null,null,null,null,null,null,null,null,null,null,null,null,null,null,null,null,null,null,null,null,null,null,null,null,null,null,null,null,null,null,"NO.41",null,null,null,null,null,{"$f":"IF(AM5=\"\",\"\",IF(AJ51=\"\",\"\",AM5))","v":""},{"$f":"IF(AM7=\"\",\"\",IF(AJ51=\"\",\"\",AM7))","v":""},null,null,"NO.41",null,null,null,null,null,{"$f":"IF(AW5=\"\",\"\",IF(AT51=\"\",\"\",AW5))","v":""},{"$f":"IF(AW7=\"\",\"\",IF(AT51=\"\",\"\",AW7))","v":""},null,null,"NO.41",null,null,null,null,null,{"$f":"IF(BG5=\"\",\"\",IF(BD51=\"\",\"\",BG5))","v":""},{"$f":"IF(BG7=\"\",\"\",IF(BD51=\"\",\"\",BG7))","v":""},null,null,"NO.41",null,null,null,null,null,{"$f":"IF(BQ5=\"\",\"\",IF(BN51=\"\",\"\",BQ5))","v":""},{"$f":"IF(BQ7=\"\",\"\",IF(BN51=\"\",\"\",BQ7))","v":""},null,null,"NO.41",null,null,null,null,null,{"$f":"IF(CA5=\"\",\"\",IF(BX51=\"\",\"\",CA5))","v":""},{"$f":"IF(CA7=\"\",\"\",IF(BX51=\"\",\"\",CA7))","v":""}]
[null,null,null,null,null,null,null,null,null,null,null,null,null,null,null,null,null,null,null,null,null,null,null,null,null,null,null,null,null,null,null,null,null,null,"NO.42",null,null,null,null,null,{"$f":"IF(AM5=\"\",\"\",IF(AJ52=\"\",\"\",AM5))","v":""},{"$f":"IF(AM7=\"\",\"\",IF(AJ52=\"\",\"\",AM7))","v":""},null,null,"NO.42",null,null,null,null,null,{"$f":"IF(AW5=\"\",\"\",IF(AT52=\"\",\"\",AW5))","v":""},{"$f":"IF(AW7=\"\",\"\",IF(AT52=\"\",\"\",AW7))","v":""},null,null,"NO.42",null,null,null,null,null,{"$f":"IF(BG5=\"\",\"\",IF(BD52=\"\",\"\",BG5))","v":""},{"$f":"IF(BG7=\"\",\"\",IF(BD52=\"\",\"\",BG7))","v":""},null,null,"NO.42",null,null,null,null,null,{"$f":"IF(BQ5=\"\",\"\",IF(BN52=\"\",\"\",BQ5))","v":""},{"$f":"IF(BQ7=\"\",\"\",IF(BN52=\"\",\"\",BQ7))","v":""},null,null,"NO.42",null,null,null,null,null,{"$f":"IF(CA5=\"\",\"\",IF(BX52=\"\",\"\",CA5))","v":""},{"$f":"IF(CA7=\"\",\"\",IF(BX52=\"\",\"\",CA7))","v":""}]
[null,null,null,null,null,null,null,null,null,null,null,null,null,null,null,null,null,null,null,null,null,null,null,null,null,null,null,null,null,null,null,null,null,null,"NO.43",null,null,null,null,null,{"$f":"IF(AM5=\"\",\"\",IF(AJ53=\"\",\"\",AM5))","v":""},{"$f":"IF(AM7=\"\",\"\",IF(AJ53=\"\",\"\",AM7))","v":""},null,null,"NO.43",null,null,null,null,null,{"$f":"IF(AW5=\"\",\"\",IF(AT53=\"\",\"\",AW5))","v":""},{"$f":"IF(AW7=\"\",\"\",IF(AT53=\"\",\"\",AW7))","v":""},null,null,"NO.43",null,null,null,null,null,{"$f":"IF(BG5=\"\",\"\",IF(BD53=\"\",\"\",BG5))","v":""},{"$f":"IF(BG7=\"\",\"\",IF(BD53=\"\",\"\",BG7))","v":""},null,null,"NO.43",null,null,null,null,null,{"$f":"IF(BQ5=\"\",\"\",IF(BN53=\"\",\"\",BQ5))","v":""},{"$f":"IF(BQ7=\"\",\"\",IF(BN53=\"\",\"\",BQ7))","v":""},null,null,"NO.43",null,null,null,null,null,{"$f":"IF(CA5=\"\",\"\",IF(BX53=\"\",\"\",CA5))","v":""},{"$f":"IF(CA7=\"\",\"\",IF(BX53=\"\",\"\",CA7))","v":""}]
[null,null,null,null,null,null,null,null,null,null,null,null,null,null,null,null,null,null,null,null,null,null,null,null,null,null,null,null,null,null,null,null,null,null,"NO.44",null,null,null,null,null,{"$f":"IF(AM5=\"\",\"\",IF(AJ54=\"\",\"\",AM5))","v":""},{"$f":"IF(AM7=\"\",\"\",IF(AJ54=\"\",\"\",AM7))","v":""},null,null,"NO.44",null,null,null,null,null,{"$f":"IF(AW5=\"\",\"\",IF(AT54=\"\",\"\",AW5))","v":""},{"$f":"IF(AW7=\"\",\"\",IF(AT54=\"\",\"\",AW7))","v":""},null,null,"NO.44",null,null,null,null,null,{"$f":"IF(BG5=\"\",\"\",IF(BD54=\"\",\"\",BG5))","v":""},{"$f":"IF(BG7=\"\",\"\",IF(BD54=\"\",\"\",BG7))","v":""},null,null,"NO.44",null,null,null,null,null,{"$f":"IF(BQ5=\"\",\"\",IF(BN54=\"\",\"\",BQ5))","v":""},{"$f":"IF(BQ7=\"\",\"\",IF(BN54=\"\",\"\",BQ7))","v":""},null,null,"NO.44",null,null,null,null,null,{"$f":"IF(CA5=\"\",\"\",IF(BX54=\"\",\"\",CA5))","v":""},{"$f":"IF(CA7=\"\",\"\",IF(BX54=\"\",\"\",CA7))","v":""}]
[null,null,null,null,null,null,null,null,null,null,null,null,null,null,null,null,null,null,null,null,null,null,null,null,null,null,null,null,null,null,null,null,null,null,"NO.45",null,null,null,null,null,{"$f":"IF(AM5=\"\",\"\",IF(AJ55=\"\",\"\",AM5))","v":""},{"$f":"IF(AM7=\"\",\"\",IF(AJ55=\"\",\"\",AM7))","v":""},null,null,"NO.45",null,null,null,null,null,{"$f":"IF(AW5=\"\",\"\",IF(AT55=\"\",\"\",AW5))","v":""},{"$f":"IF(AW7=\"\",\"\",IF(AT55=\"\",\"\",AW7))","v":""},null,null,"NO.45",null,null,null,null,null,{"$f":"IF(BG5=\"\",\"\",IF(BD55=\"\",\"\",BG5))","v":""},{"$f":"IF(BG7=\"\",\"\",IF(BD55=\"\",\"\",BG7))","v":""},null,null,"NO.45",null,null,null,null,null,{"$f":"IF(BQ5=\"\",\"\",IF(BN55=\"\",\"\",BQ5))","v":""},{"$f":"IF(BQ7=\"\",\"\",IF(BN55=\"\",\"\",BQ7))","v":""},null,null,"NO.45",null,null,null,null,null,{"$f":"IF(CA5=\"\",\"\",IF(BX55=\"\",\"\",CA5))","v":""},{"$f":"IF(CA7=\"\",\"\",IF(BX55=\"\",\"\",CA7))","v":""}]
[null,null,null,null,null,null,null,null,null,null,null,null,null,null,null,null,null,null,null,null,null,null,null,null,null,null,null,null,null,null,null,null,null,null,"NO.46",null,null,null,null,null,{"$f":"IF(AM5=\"\",\"\",IF(AJ56=\"\",\"\",AM5))","v":""},{"$f":"IF(AM7=\"\",\"\",IF(AJ56=\"\",\"\",AM7))","v":""},null,null,"NO.46",null,null,null,null,null,{"$f":"IF(AW5=\"\",\"\",IF(AT56=\"\",\"\",AW5))","v":""},{"$f":"IF(AW7=\"\",\"\",IF(AT56=\"\",\"\",AW7))","v":""},null,null,"NO.46",null,null,null,null,null,{"$f":"IF(BG5=\"\",\"\",IF(BD56=\"\",\"\",BG5))","v":""},{"$f":"IF(BG7=\"\",\"\",IF(BD56=\"\",\"\",BG7))","v":""},null,null,"NO.46",null,null,null,null,null,{"$f":"IF(BQ5=\"\",\"\",IF(BN56=\"\",\"\",BQ5))","v":""},{"$f":"IF(BQ7=\"\",\"\",IF(BN56=\"\",\"\",BQ7))","v":""},null,null,"NO.46",null,null,null,null,null,{"$f":"IF(CA5=\"\",\"\",IF(BX56=\"\",\"\",CA5))","v":""},{"$f":"IF(CA7=\"\",\"\",IF(BX56=\"\",\"\",CA7))","v":""}]
[null,null,null,null,null,null,null,null,null,null,null,null,null,null,null,null,null,null,null,null,null,null,null,null,null,null,null,null,null,null,null,null,null,null,"NO.47",null,null,null,null,null,{"$f":"IF(AM5=\"\",\"\",IF(AJ57=\"\",\"\",AM5))","v":""},{"$f":"IF(AM7=\"\",\"\",IF(AJ57=\"\",\"\",AM7))","v":""},null,null,"NO.47",null,null,null,null,null,{"$f":"IF(AW5=\"\",\"\",IF(AT57=\"\",\"\",AW5))","v":""},{"$f":"IF(AW7=\"\",\"\",IF(AT57=\"\",\"\",AW7))","v":""},null,null,"NO.47",null,null,null,null,null,{"$f":"IF(BG5=\"\",\"\",IF(BD57=\"\",\"\",BG5))","v":""},{"$f":"IF(BG7=\"\",\"\",IF(BD57=\"\",\"\",BG7))","v":""},null,null,"NO.47",null,null,null,null,null,{"$f":"IF(BQ5=\"\",\"\",IF(BN57=\"\",\"\",BQ5))","v":""},{"$f":"IF(BQ7=\"\",\"\",IF(BN57=\"\",\"\",BQ7))","v":""},null,null,"NO.47",null,null,null,null,null,{"$f":"IF(CA5=\"\",\"\",IF(BX57=\"\",\"\",CA5))","v":""},{"$f":"IF(CA7=\"\",\"\",IF(BX57=\"\",\"\",CA7))","v":""}]
[null,null,null,null,null,null,null,null,null,null,null,null,null,null,null,null,null,null,null,null,null,null,null,null,null,null,null,null,null,null,null,null,null,null,"NO.48",null,null,null,null,null,{"$f":"IF(AM5=\"\",\"\",IF(AJ58=\"\",\"\",AM5))","v":""},{"$f":"IF(AM7=\"\",\"\",IF(AJ58=\"\",\"\",AM7))","v":""},null,null,"NO.48",null,null,null,null,null,{"$f":"IF(AW5=\"\",\"\",IF(AT58=\"\",\"\",AW5))","v":""},{"$f":"IF(AW7=\"\",\"\",IF(AT58=\"\",\"\",AW7))","v":""},null,null,"NO.48",null,null,null,null,null,{"$f":"IF(BG5=\"\",\"\",IF(BD58=\"\",\"\",BG5))","v":""},{"$f":"IF(BG7=\"\",\"\",IF(BD58=\"\",\"\",BG7))","v":""},null,null,"NO.48",null,null,null,null,null,{"$f":"IF(BQ5=\"\",\"\",IF(BN58=\"\",\"\",BQ5))","v":""},{"$f":"IF(BQ7=\"\",\"\",IF(BN58=\"\",\"\",BQ7))","v":""},null,null,"NO.48",null,null,null,null,null,{"$f":"IF(CA5=\"\",\"\",IF(BX58=\"\",\"\",CA5))","v":""},{"$f":"IF(CA7=\"\",\"\",IF(BX58=\"\",\"\",CA7))","v":""}]
[null,null,null,null,null,null,null,null,null,null,null,null,null,null,null,null,2,null,null,null,null,null,null,null,null,null,null,null,null,null,null,null,null,null,"NO.49",null,null,null,null,null,{"$f":"IF(AM5=\"\",\"\",IF(AJ59=\"\",\"\",AM5))","v":""},{"$f":"IF(AM7=\"\",\"\",IF(AJ59=\"\",\"\",AM7))","v":""},null,null,"NO.49",null,null,null,null,null,{"$f":"IF(AW5=\"\",\"\",IF(AT59=\"\",\"\",AW5))","v":""},{"$f":"IF(AW7=\"\",\"\",IF(AT59=\"\",\"\",AW7))","v":""},null,null,"NO.49",null,null,null,null,null,{"$f":"IF(BG5=\"\",\"\",IF(BD59=\"\",\"\",BG5))","v":""},{"$f":"IF(BG7=\"\",\"\",IF(BD59=\"\",\"\",BG7))","v":""},null,null,"NO.49",null,null,null,null,null,{"$f":"IF(BQ5=\"\",\"\",IF(BN59=\"\",\"\",BQ5))","v":""},{"$f":"IF(BQ5=\"\",\"\",IF(BN59=\"\",\"\",BQ5))","v":""},null,null,"NO.49",null,null,null,null,null,{"$f":"IF(CA5=\"\",\"\",IF(BX59=\"\",\"\",CA5))","v":""},{"$f":"IF(CA5=\"\",\"\",IF(BX59=\"\",\"\",CA5))","v":""}]
[null,null,null,null,null,null,null,null,null,null,null,null,null,null,null,null,5,null,null,null,null,null,null,null,null,null,null,null,null,null,null,null,null,null,"NO.50",null,null,null,null,null,{"$f":"IF(AM5=\"\",\"\",IF(AJ60=\"\",\"\",AM5))","v":""},{"$f":"IF(AM7=\"\",\"\",IF(AJ60=\"\",\"\",AM7))","v":""},null,null,"NO.50",null,null,null,null,null,{"$f":"IF(AW5=\"\",\"\",IF(AT60=\"\",\"\",AW5))","v":""},{"$f":"IF(AW7=\"\",\"\",IF(AT60=\"\",\"\",AW7))","v":""},null,null,"NO.50",null,null,null,null,null,{"$f":"IF(BG5=\"\",\"\",IF(BD60=\"\",\"\",BG5))","v":""},{"$f":"IF(BG7=\"\",\"\",IF(BD60=\"\",\"\",BG7))","v":""},null,null,"NO.50",null,null,null,null,null,{"$f":"IF(BQ5=\"\",\"\",IF(BN60=\"\",\"\",BQ5))","v":""},{"$f":"IF(BQ5=\"\",\"\",IF(BN60=\"\",\"\",BQ5))","v":""},null,null,"NO.50",null,null,null,null,null,{"$f":"IF(CA5=\"\",\"\",IF(BX60=\"\",\"\",CA5))","v":""},{"$f":"IF(CA5=\"\",\"\",IF(BX60=\"\",\"\",CA5))","v":""}]
[null,null,null,null,null,null,null,null,null,null,null,null,null,null,null,null,9]
[null,null,null,null,null,null,null,null,null,null,null,null,null,null,null,null,10]
[null,null,null,null,null,null,null,null,null,null,null,null,null,null,null,null,11]
[null,null,null,null,null,null,null,null,null,null,null,null,null,null,null,null,13]
[null,null,null,null,null,null,null,null,null,null,null,null,null,null,null,null,14]
[null,null,null,null,null,null,null,null,null,null,null,null,null,null,null,null,15]
[null,null,null,null,null,null,null,null,null,null,null,null,null,null,null,null,17]
[null,null,null,null,null,null,null,null,null,null,null,null,null,null,null,null,18]
[null,null,null,null,null,null,null,null,null,null,null,null,null,null,null,null,19]
[null,null,null,null,null,null,null,null,null,null,null,null,null,null,null,null,20]
[null,null,null,null,null,null,null,null,null,null,null,null,null,null,null,null,21]
[null,null,null,null,null,null,null,null,null,null,null,null,null,null,null,null,22]
[null,null,null,null,null,null,null,null,null,null,null,null,null,null,null,null,23]
[null,null,null,null,null,null,null,null,null,null,null,null,null,null,null,null,25]
[null,null,null,null,null,null,null,null,null,null,null,null,null,null,null,null,26]
[null,null,null,null,null,null,null,null,null,null,null,null,null,null,null,null,28]
[null,null,null,null,null,null,null,null,null,null,null,null,null,null,null,null,30]
[null,null,null,null,null,null,null,null,null,null,null,null,null,null,null,null,"外部"]

{"sheet":"処理","index":1,"n_rows":53,"n_cols":65,"rows_kept":53,"cut":false,"hidden":false,"merged":[[0,52,1,64],[0,0,1,12],[0,13,1,25],[0,26,1,38],[0,39,1,51]]}
["4年生以下の部",null,null,null,null,null,null,null,null,null,null,null,null,"小学校の部",null,null,null,null,null,null,null,null,null,null,null,null,"中学校の部",null,null,null,null,null,null,null,null,null,null,null,null,"高等学校の部",null,null,null,null,null,null,null,null,null,null,null,null,"一般の部"]
[]
["NO.","姓","名","文字数","賞状氏名","名簿氏名","ふりがな","学年","学校・勤務先","ふりがな","教室名","教室名ふりがな","東京協会","NO.","姓","名","文字数","賞状氏名","名簿氏名","ふりがな","学年","学校・勤務先","ふりがな","教室名","教室名ふりがな","東京協会","NO.","姓","名","文字数","賞状氏名","名簿氏名","ふりがな","学年","学校・勤務先","ふりがな","教室名","教室名ふりがな","東京協会","NO.","姓","名","文字数","賞状氏名","名簿氏名","ふりがな","学年","学校・勤務先","ふりがな","教室名","教室名ふりがな","東京協会","NO.","姓","名","文字数","賞状氏名","名簿氏名","ふりがな","年齢","学校・勤務先","ふりがな","教室名","教室名ふりがな","東京協会"]
[1,{"$f":"IF(申込入力シート!AJ11=\"\",\"\",申込入力シート!AJ11)","v":""},{"$f":"IF(申込入力シート!AK11=\"\",\"\",申込入力シート!AK11)","v":""},{"$f":"IF(B4=\"\",\"\",LEN(B4)+LEN(C4))","v":""},{"$f":"IF(D4=3,B4&\" \"&C4,IF(D4=2,B4&\"　　\"&C4,B4&C4))","v":""},{"$f":"IF(D4=3,B4&\"　　\"&C4,IF(D4=2,B4&\"　　　\"&C4,IF(D4=4,B4&\"　\"&C4,B4&C4)))","v":""},{"$f":"IF(申込入力シート!AL11=\"\",\"\",申込入力シート!AL11&\"　\"&申込入力シート!AM11)","v":""},{"$f":"IF(申込入力シート!AN11=\"\",\"\",IF(LEN(申込入力シート!AN11)=1,\"小\"&\" \"&申込入力シート!AN11,申込入力シート!AN11))","v":""},{"$f":"IF(申込入力シート!AO11=\"\",\"\",申込入力シート!AO11)","v":""},{"$f":"IF(申込入力シート!AP11=\"\",\"\",申込入力シート!AP11)","v":""},{"$f":"IF(B4=\"\",\"\",申込入力シート!$L$14)","v":""},{"$f":"IF(B4=\"\",\"\",申込入力シート!$L$15)","v":""},{"$f":"IF(申込入力シート!AQ11=\"\",\"\",申込入力シート!AQ11)","v":""},1,{"$f":"IF(申込入力シート!AT11=\"\",\"\",申込入力シート!AT11)","v":""},{"$f":"IF(申込入力シート!AU11=\"\",\"\",申込入力シート!AU11)","v":""},{"$f":"IF(O4=\"\",\"\",LEN(O4)+LEN(P4))","v":""},{"$f":"IF(Q4=3,O4&\" \"&P4,IF(Q4=2,O4&\"　　\"&P4,O4&P4))","v":""},{"$f":"IF(Q4=3,O4&\"　　\"&P4,IF(Q4=2,O4&\"　　　\"&P4,IF(Q4=4,O4&\"　\"&P4,O4&P4)))","v":""},{"$f":"IF(申込入力シート!AV11=\"\",\"\",申込入力シート!AV11&\"　\"&申込入力シート!AW11)","v":""},{"$f":"IF(申込入力シート!AX11=\"\",\"\",\"小\"&\" \"&申込入力シート!AX11)","v":""},{"$f":"IF(申込入力シート!AY11=\"\",\"\",申込入力シート!AY11)","v":""},{"$f":"IF(申込入力シート!AZ11=\"\",\"\",申込入力シート!AZ11)","v":""},{"$f":"IF(O4=\"\",\"\",申込入力シート!$L$14)","v":""},{"$f":"IF(O4=\"\",\"\",申込入力シート!$L$15)","v":""},{"$f":"IF(申込入力シート!BA11=\"\",\"\",申込入力シート!BA11)","v":""},1,{"$f":"IF(申込入力シート!BD11=\"\",\"\",申込入力シート!BD11)","v":""},{"$f":"IF(申込入力シート!BE11=\"\",\"\",申込入力シート!BE11)","v":""},{"$f":"IF(AB4=\"\",\"\",LEN(AB4)+LEN(AC4))","v":""},{"$f":"IF(AD4=3,AB4&\" \"&AC4,IF(AD4=2,AB4&\"　　\"&AC4,AB4&AC4))","v":""},{"$f":"IF(AD4=3,AB4&\"　　\"&AC4,IF(AD4=2,AB4&\"　　　\"&AC4,IF(AD4=4,AB4&\"　\"&AC4,AB4&AC4)))","v":""},{"$f":"IF(申込入力シート!BF11=\"\",\"\",申込入力シート!BF11&\"　\"&申込入力シート!BG11)","v":""},{"$f":"IF(申込入力シート!BH11=\"\",\"\",\"中\"&\" \"&申込入力シート!BH11)","v":""},{"$f":"IF(申込入力シート!BI11=\"\",\"\",申込入力シート!BI11)","v":""},{"$f":"IF(申込入力シート!BJ11=\"\",\"\",申込入力シート!BJ11)","v":""},{"$f":"IF(AB4=\"\",\"\",申込入力シート!$L$14)","v":""},{"$f":"IF(AB4=\"\",\"\",申込入力シート!$L$15)","v":""},{"$f":"IF(申込入力シート!BK11=\"\",\"\",申込入力シート!BK11)","v":""},1,{"$f":"IF(申込入力シート!BN11=\"\",\"\",申込入力シート!BN11)","v":""},{"$f":"IF(申込入力シート!BO11=\"\",\"\",申込入力シート!BO11)","v":""},{"$f":"IF(AO4=\"\",\"\",LEN(AO4)+LEN(AP4))","v":""},{"$f":"IF(AQ4=3,AO4&\" \"&AP4,IF(AQ4=2,AO4&\"　　\"&AP4,AO4&AP4))","v":""},{"$f":"IF(AQ4=3,AO4&\"　　\"&AP4,IF(AQ4=2,AO4&\"　　　\"&AP4,IF(AQ4=4,AO4&\"　\"&AP4,AO4&AP4)))","v":""},{"$f":"IF(申込入力シート!BP11=\"\",\"\",申込入力シート!BP11&\"　\"&申込入力シート!BQ11)","v":""},{"$f":"IF(申込入力シート!BR11=\"\",\"\",\"高\"&\" \"&申込入力シート!BR11)","v":""},{"$f":"IF(申込入力シート!BS11=\"\",\"\",申込入力シート!BS11)","v":""},{"$f":"IF(申込入力シート!BT11=\"\",\"\",申込入力シート!BT11)","v":""},{"$f":"IF(処理!AO4=\"\",\"\",申込入力シート!$L$14)","v":""},{"$f":"IF(AO4=\"\",\"\",申込入力シート!$L$15)","v":""},{"$f":"IF(申込入力シート!BU11=\"\",\"\",申込入力シート!BU11)","v":""},1,{"$f":"IF(申込入力シート!BX11=\"\",\"\",申込入力シート!BX11)","v":""},{"$f":"IF(申込入力シート!BY11=\"\",\"\",申込入力シート!BY11)","v":""},{"$f":"IF(BB4=\"\",\"\",LEN(BB4)+LEN(BC4))","v":""},{"$f":"IF(BD4=3,BB4&\" \"&BC4,IF(BD4=2,BB4&\"　　\"&BC4,BB4&BC4))","v":""},{"$f":"IF(BD4=3,BB4&\"　　\"&BC4,IF(BD4=2,BB4&\"　　　\"&BC4,IF(BD4=4,BB4&\"　\"&BC4,BB4&BC4)))","v":""},{"$f":"IF(申込入力シート!BZ11=\"\",\"\",申込入力シート!BZ11&\"　\"&申込入力シート!CA11)","v":""},{"$f":"IF(申込入力シート!CB11=\"\",\"\",申込入力シート!CB11&\" \"&\"才\")","v":""},{"$f":"IF(申込入力シート!CC11=\"\",\"\",申込入力シート!CC11)","v":""},{"$f":"IF(申込入力シート!CD11=\"\",\"\",申込入力シート!CD11)","v":""},{"$f":"IF(BB4=\"\",\"\",申込入力シート!$L$14)","v":""},{"$f":"IF(BB4=\"\",\"\",申込入力シート!$L$15)","v":""},{"$f":"IF(申込入力シート!CE11=\"\",\"\",申込入力シート!CE11)","v":""}]
[2,{"$f":"IF(申込入力シート!AJ12=\"\",\"\",申込入力シート!AJ12)","v":""},{"$f":"IF(申込入力シート!AK12=\"\",\"\",申込入力シート!AK12)","v":""},{"$f":"IF(B5=\"\",\"\",LEN(B5)+LEN(C5))","v":""},{"$f":"IF(D5=3,B5&\" \"&C5,IF(D5=2,B5&\"　　\"&C5,B5&C5))","v":""},{"$f":"IF(D5=3,B5&\"　　\"&C5,IF(D5=2,B5&\"　　　\"&C5,IF(D5=4,B5&\"　\"&C5,B5&C5)))","v":""},{"$f":"IF(申込入力シート!AL12=\"\",\"\",申込入力シート!AL12&\"　\"&申込入力シート!AM12)","v":""},{"$f":"IF(申込入力シート!AN12=\"\",\"\",IF(LEN(申込入力シート!AN12)=1,\"小\"&\" \"&申込入力シート!AN12,申込入力シート!AN12))","v":""},{"$f":"IF(申込入力シート!AO12=\"\",\"\",申込入力シート!AO12)","v":""},{"$f":"IF(申込入力シート!AP12=\"\",\"\",申込入力シート!AP12)","v":""},{"$f":"IF(B5=\"\",\"\",申込入力シート!$L$14)","v":""},{"$f":"IF(B5=\"\",\"\",申込入力シート!$L$15)","v":""},{"$f":"IF(申込入力シート!AQ12=\"\",\"\",申込入力シート!AQ12)","v":""},2,{"$f":"IF(申込入力シート!AT12=\"\",\"\",申込入力シート!AT12)","v":""},{"$f":"IF(申込入力シート!AU12=\"\",\"\",申込入力シート!AU12)","v":""},{"$f":"IF(O5=\"\",\"\",LEN(O5)+LEN(P5))","v":""},{"$f":"IF(Q5=3,O5&\" \"&P5,IF(Q5=2,O5&\"　　\"&P5,O5&P5))","v":""},{"$f":"IF(Q5=3,O5&\"　　\"&P5,IF(Q5=2,O5&\"　　　\"&P5,IF(Q5=4,O5&\"　\"&P5,O5&P5)))","v":""},{"$f":"IF(申込入力シート!AV12=\"\",\"\",申込入力シート!AV12&\"　\"&申込入力シート!AW12)","v":""},{"$f":"IF(申込入力シート!AX12=\"\",\"\",\"小\"&\" \"&申込入力シート!AX12)","v":""},{"$f":"IF(申込入力シート!AY12=\"\",\"\",申込入力シート!AY12)","v":""},{"$f":"IF(申込入力シート!AZ12=\"\",\"\",申込入力シート!AZ12)","v":""},{"$f":"IF(O5=\"\",\"\",申込入力シート!$L$14)","v":""},{"$f":"IF(O5=\"\",\"\",申込入力シート!$L$15)","v":""},{"$f":"IF(申込入力シート!BA12=\"\",\"\",申込入力シート!BA12)","v":""},2,{"$f":"IF(申込入力シート!BD12=\"\",\"\",申込入力シート!BD12)","v":""},{"$f":"IF(申込入力シート!BE12=\"\",\"\",申込入力シート!BE12)","v":""},{"$f":"IF(AB5=\"\",\"\",LEN(AB5)+LEN(AC5))","v":""},{"$f":"IF(AD5=3,AB5&\" \"&AC5,IF(AD5=2,AB5&\"　　\"&AC5,AB5&AC5))","v":""},{"$f":"IF(AD5=3,AB5&\"　　\"&AC5,IF(AD5=2,AB5&\"　　　\"&AC5,IF(AD5=4,AB5&\"　\"&AC5,AB5&AC5)))","v":""},{"$f":"IF(申込入力シート!BF12=\"\",\"\",申込入力シート!BF12&\"　\"&申込入力シート!BG12)","v":""},{"$f":"IF(申込入力シート!BH12=\"\",\"\",\"中\"&\" \"&申込入力シート!BH12)","v":""},{"$f":"IF(申込入力シート!BI12=\"\",\"\",申込入力シート!BI12)","v":""},{"$f":"IF(申込入力シート!BJ12=\"\",\"\",申込入力シート!BJ12)","v":""},{"$f":"IF(AB5=\"\",\"\",申込入力シート!$L$14)","v":""},{"$f":"IF(AB5=\"\",\"\",申込入力シート!$L$15)","v":""},{"$f":"IF(申込入力シート!BK12=\"\",\"\",申込入力シート!BK12)","v":""},2,{"$f":"IF(申込入力シート!BN12=\"\",\"\",申込入力シート!BN12)","v":""},{"$f":"IF(申込入力シート!BO12=\"\",\"\",申込入力シート!BO12)","v":""},{"$f":"IF(AO5=\"\",\"\",LEN(AO5)+LEN(AP5))","v":""},{"$f":"IF(AQ5=3,AO5&\" \"&AP5,IF(AQ5=2,AO5&\"　　\"&AP5,AO5&AP5))","v":""},{"$f":"IF(AQ5=3,AO5&\"　　\"&AP5,IF(AQ5=2,AO5&\"　　　\"&AP5,IF(AQ5=4,AO5&\"　\"&AP5,AO5&AP5)))","v":""},{"$f":"IF(申込入力シート!BP12=\"\",\"\",申込入力シート!BP12&\"　\"&申込入力シート!BQ12)","v":""},{"$f":"IF(申込入力シート!BR12=\"\",\"\",\"高\"&\" \"&申込入力シート!BR12)","v":""},{"$f":"IF(申込入力シート!BS12=\"\",\"\",申込入力シート!BS12)","v":""},{"$f":"IF(申込入力シート!BT12=\"\",\"\",申込入力シート!BT12)","v":""},{"$f":"IF(処理!AO5=\"\",\"\",申込入力シート!$L$14)","v":""},{"$f":"IF(AO5=\"\",\"\",申込入力シート!$L$15)","v":""},{"$f":"IF(申込入力シート!BU12=\"\",\"\",申込入力シート!BU12)","v":""},2,{"$f":"IF(申込入力シート!BX12=\"\",\"\",申込入力シート!BX12)","v":""},{"$f":"IF(申込入力シート!BY12=\"\",\"\",申込入力シート!BY12)","v":""},{"$f":"IF(BB5=\"\",\"\",LEN(BB5)+LEN(BC5))","v":""},{"$f":"IF(BD5=3,BB5&\" \"&BC5,IF(BD5=2,BB5&\"　　\"&BC5,BB5&BC5))","v":""},{"$f":"IF(BD5=3,BB5&\"　　\"&BC5,IF(BD5=2,BB5&\"　　　\"&BC5,IF(BD5=4,BB5&\"　\"&BC5,BB5&BC5)))","v":""},{"$f":"IF(申込入力シート!BZ12=\"\",\"\",申込入力シート!BZ12&\"　\"&申込入力シート!CA12)","v":""},{"$f":"IF(申込入力シート!CB12=\"\",\"\",申込入力シート!CB12&\" \"&\"才\")","v":""},{"$f":"IF(申込入力シート!CC12=\"\",\"\",申込入力シート!CC12)","v":""},{"$f":"IF(申込入力シート!CD12=\"\",\"\",申込入力シート!CD12)","v":""},{"$f":"IF(BB5=\"\",\"\",申込入力シート!$L$14)","v":""},{"$f":"IF(BB5=\"\",\"\",申込入力シート!$L$15)","v":""},{"$f":"IF(申込入力シート!CE12=\"\",\"\",申込入力シート!CE12)","v":""}]
[3,{"$f":"IF(申込入力シート!AJ13=\"\",\"\",申込入力シート!AJ13)","v":""},{"$f":"IF(申込入力シート!AK13=\"\",\"\",申込入力シート!AK13)","v":""},"","","",{"$f":"IF(申込入力シート!AL13=\"\",\"\",申込入力シート!AL13&\"　\"&申込入力シート!AM13)","v":""},{"$f":"IF(申込入力シート!AN13=\"\",\"\",IF(LEN(申込入力シート!AN13)=1,\"小\"&\" \"&申込入力シート!AN13,申込入力シート!AN13))","v":""},{"$f":"IF(申込入力シート!AO13=\"\",\"\",申込入力シート!AO13)","v":""},{"$f":"IF(申込入力シート!AP13=\"\",\"\",申込入力シート!AP13)","v":""},{"$f":"IF(B6=\"\",\"\",申込入力シート!$L$14)","v":""},{"$f":"IF(B6=\"\",\"\",申込入力シート!$L$15)","v":""},{"$f":"IF(申込入力シート!AQ13=\"\",\"\",申込入力シート!AQ13)","v":""},3,{"$f":"IF(申込入力シート!AT13=\"\",\"\",申込入力シート!AT13)","v":""},{"$f":"IF(申込入力シート!AU13=\"\",\"\",申込入力シート!AU13)","v":""},"","","",{"$f":"IF(申込入力シート!AV13=\"\",\"\",申込入力シート!AV13&\"　\"&申込入力シート!AW13)","v":""},{"$f":"IF(申込入力シート!AX13=\"\",\"\",\"小\"&\" \"&申込入力シート!AX13)","v":""},{"$f":"IF(申込入力シート!AY13=\"\",\"\",申込入力シート!AY13)","v":""},{"$f":"IF(申込入力シート!AZ13=\"\",\"\",申込入力シート!AZ13)","v":""},{"$f":"IF(O6=\"\",\"\",申込入力シート!$L$14)","v":""},{"$f":"IF(O6=\"\",\"\",申込入力シート!$L$15)","v":""},{"$f":"IF(申込入力シート!BA13=\"\",\"\",申込入力シート!BA13)","v":""},3,{"$f":"IF(申込入力シート!BD13=\"\",\"\",申込入力シート!BD13)","v":""},{"$f":"IF(申込入力シート!BE13=\"\",\"\",申込入力シート!BE13)","v":""},"","","",{"$f":"IF(申込入力シート!BF13=\"\",\"\",申込入力シート!BF13&\"　\"&申込入力シート!BG13)","v":""},{"$f":"IF(申込入力シート!BH13=\"\",\"\",\"中\"&\" \"&申込入力シート!BH13)","v":""},{"$f":"IF(申込入力シート!BI13=\"\",\"\",申込入力シート!BI13)","v":""},{"$f":"IF(申込入力シート!BJ13=\"\",\"\",申込入力シート!BJ13)","v":""},{"$f":"IF(AB6=\"\",\"\",申込入力シート!$L$14)","v":""},{"$f":"IF(AB6=\"\",\"\",申込入力シート!$L$15)","v":""},{"$f":"IF(申込入力シート!BK13=\"\",\"\",申込入力シート!BK13)","v":""},3,{"$f":"IF(申込入力シート!BN13=\"\",\"\",申込入力シート!BN13)","v":""},{"$f":"IF(申込入力シート!BO13=\"\",\"\",申込入力シート!BO13)","v":""},"","","",{"$f":"IF(申込入力シート!BP13=\"\",\"\",申込入力シート!BP13&\"　\"&申込入力シート!BQ13)","v":""},{"$f":"IF(申込入力シート!BR13=\"\",\"\",\"高\"&\" \"&申込入力シート!BR13)","v":""},{"$f":"IF(申込入力シート!BS13=\"\",\"\",申込入力シート!BS13)","v":""},{"$f":"IF(申込入力シート!BT13=\"\",\"\",申込入力シート!BT13)","v":""},{"$f":"IF(処理!AO6=\"\",\"\",申込入力シート!$L$14)","v":""},{"$f":"IF(AO6=\"\",\"\",申込入力シート!$L$15)","v":""},{"$f":"IF(申込入力シート!BU13=\"\",\"\",申込入力シート!BU13)","v":""},3,{"$f":"IF(申込入力シート!BX13=\"\",\"\",申込入力シート!BX13)","v":""},{"$f":"IF(申込入力シート!BY13=\"\",\"\",申込入力シート!BY13)","v":""},"","","",{"$f":"IF(申込入力シート!BZ13=\"\",\"\",申込入力シート!BZ13&\"　\"&申込入力シート!CA13)","v":""},{"$f":"IF(申込入力シート!CB13=\"\",\"\",申込入力シート!CB13&\" \"&\"才\")","v":""},{"$f":"IF(申込入力シート!CC13=\"\",\"\",申込入力シート!CC13)","v":""},{"$f":"IF(申込入力シート!CD13=\"\",\"\",申込入力シート!CD13)","v":""},{"$f":"IF(BB6=\"\",\"\",申込入力シート!$L$14)","v":""},{"$f":"IF(BB6=\"\",\"\",申込入力シート!$L$15)","v":""},{"$f":"IF(申込入力シート!CE13=\"\",\"\",申込入力シート!CE13)","v":""}]
[4,{"$f":"IF(申込入力シート!AJ14=\"\",\"\",申込入力シート!AJ14)","v":""},{"$f":"IF(申込入力シート!AK14=\"\",\"\",申込入力シート!AK14)","v":""},"","","",{"$f":"IF(申込入力シート!AL14=\"\",\"\",申込入力シート!AL14&\"　\"&申込入力シート!AM14)","v":""},{"$f":"IF(申込入力シート!AN14=\"\",\"\",IF(LEN(申込入力シート!AN14)=1,\"小\"&\" \"&申込入力シート!AN14,申込入力シート!AN14))","v":""},{"$f":"IF(申込入力シート!AO14=\"\",\"\",申込入力シート!AO14)","v":""},{"$f":"IF(申込入力シート!AP14=\"\",\"\",申込入力シート!AP14)","v":""},{"$f":"IF(B7=\"\",\"\",申込入力シート!$L$14)","v":""},{"$f":"IF(B7=\"\",\"\",申込入力シート!$L$15)","v":""},{"$f":"IF(申込入力シート!AQ14=\"\",\"\",申込入力シート!AQ14)","v":""},4,{"$f":"IF(申込入力シート!AT14=\"\",\"\",申込入力シート!AT14)","v":""},{"$f":"IF(申込入力シート!AU14=\"\",\"\",申込入力シート!AU14)","v":""},"","","",{"$f":"IF(申込入力シート!AV14=\"\",\"\",申込入力シート!AV14&\"　\"&申込入力シート!AW14)","v":""},{"$f":"IF(申込入力シート!AX14=\"\",\"\",\"小\"&\" \"&申込入力シート!AX14)","v":""},{"$f":"IF(申込入力シート!AY14=\"\",\"\",申込入力シート!AY14)","v":""},{"$f":"IF(申込入力シート!AZ14=\"\",\"\",申込入力シート!AZ14)","v":""},{"$f":"IF(O7=\"\",\"\",申込入力シート!$L$14)","v":""},{"$f":"IF(O7=\"\",\"\",申込入力シート!$L$15)","v":""},{"$f":"IF(申込入力シート!BA14=\"\",\"\",申込入力シート!BA14)","v":""},4,{"$f":"IF(申込入力シート!BD14=\"\",\"\",申込入力シート!BD14)","v":""},{"$f":"IF(申込入力シート!BE14=\"\",\"\",申込入力シート!BE14)","v":""},"","","",{"$f":"IF(申込入力シート!BF14=\"\",\"\",申込入力シート!BF14&\"　\"&申込入力シート!BG14)","v":""},{"$f":"IF(申込入力シート!BH14=\"\",\"\",\"中\"&\" \"&申込入力シート!BH14)","v":""},{"$f":"IF(申込入力シート!BI14=\"\",\"\",申込入力シート!BI14)","v":""},{"$f":"IF(申込入力シート!BJ14=\"\",\"\",申込入力シート!BJ14)","v":""},{"$f":"IF(AB7=\"\",\"\",申込入力シート!$L$14)","v":""},{"$f":"IF(AB7=\"\",\"\",申込入力シート!$L$15)","v":""},{"$f":"IF(申込入力シート!BK14=\"\",\"\",申込入力シート!BK14)","v":""},4,{"$f":"IF(申込入力シート!BN14=\"\",\"\",申込入力シート!BN14)","v":""},{"$f":"IF(申込入力シート!BO14=\"\",\"\",申込入力シート!BO14)","v":""},"","","",{"$f":"IF(申込入力シート!BP14=\"\",\"\",申込入力シート!BP14&\"　\"&申込入力シート!BQ14)","v":""},{"$f":"IF(申込入力シート!BR14=\"\",\"\",\"高\"&\" \"&申込入力シート!BR14)","v":""},{"$f":"IF(申込入力シート!BS14=\"\",\"\",申込入力シート!BS14)","v":""},{"$f":"IF(申込入力シート!BT14=\"\",\"\",申込入力シート!BT14)","v":""},{"$f":"IF(処理!AO7=\"\",\"\",申込入力シート!$L$14)","v":""},{"$f":"IF(AO7=\"\",\"\",申込入力シート!$L$15)","v":""},{"$f":"IF(申込入力シート!BU14=\"\",\"\",申込入力シート!BU14)","v":""},4,{"$f":"IF(申込入力シート!BX14=\"\",\"\",申込入力シート!BX14)","v":""},{"$f":"IF(申込入力シート!BY14=\"\",\"\",申込入力シート!BY14)","v":""},"","","",{"$f":"IF(申込入力シート!BZ14=\"\",\"\",申込入力シート!BZ14&\"　\"&申込入力シート!CA14)","v":""},{"$f":"IF(申込入力シート!CB14=\"\",\"\",申込入力シート!CB14&\" \"&\"才\")","v":""},{"$f":"IF(申込入力シート!CC14=\"\",\"\",申込入力シート!CC14)","v":""},{"$f":"IF(申込入力シート!CD14=\"\",\"\",申込入力シート!CD14)","v":""},{"$f":"IF(BB7=\"\",\"\",申込入力シート!$L$14)","v":""},{"$f":"IF(BB7=\"\",\"\",申込入力シート!$L$15)","v":""},{"$f":"IF(申込入力シート!CE14=\"\",\"\",申込入力シート!CE14)","v":""}]
[5,{"$f":"IF(申込入力シート!AJ15=\"\",\"\",申込入力シート!AJ15)","v":""},{"$f":"IF(申込入力シート!AK15=\"\",\"\",申込入力シート!AK15)","v":""},"","","",{"$f":"IF(申込入力シート!AL15=\"\",\"\",申込入力シート!AL15&\"　\"&申込入力シート!AM15)","v":""},{"$f":"IF(申込入力シート!AN15=\"\",\"\",IF(LEN(申込入力シート!AN15)=1,\"小\"&\" \"&申込入力シート!AN15,申込入力シート!AN15))","v":""},{"$f":"IF(申込入力シート!AO15=\"\",\"\",申込入力シート!AO15)","v":""},{"$f":"IF(申込入力シート!AP15=\"\",\"\",申込入力シート!AP15)","v":""},{"$f":"IF(B8=\"\",\"\",申込入力シート!$L$14)","v":""},{"$f":"IF(B8=\"\",\"\",申込入力シート!$L$15)","v":""},{"$f":"IF(申込入力シート!AQ15=\"\",\"\",申込入力シート!AQ15)","v":""},5,{"$f":"IF(申込入力シート!AT15=\"\",\"\",申込入力シート!AT15)","v":""},{"$f":"IF(申込入力シート!AU15=\"\",\"\",申込入力シート!AU15)","v":""},"","","",{"$f":"IF(申込入力シート!AV15=\"\",\"\",申込入力シート!AV15&\"　\"&申込入力シート!AW15)","v":""},{"$f":"IF(申込入力シート!AX15=\"\",\"\",\"小\"&\" \"&申込入力シート!AX15)","v":""},{"$f":"IF(申込入力シート!AY15=\"\",\"\",申込入力シート!AY15)","v":""},{"$f":"IF(申込入力シート!AZ15=\"\",\"\",申込入力シート!AZ15)","v":""},{"$f":"IF(O8=\"\",\"\",申込入力シート!$L$14)","v":""},{"$f":"IF(O8=\"\",\"\",申込入力シート!$L$15)","v":""},{"$f":"IF(申込入力シート!BA15=\"\",\"\",申込入力シート!BA15)","v":""},5,{"$f":"IF(申込入力シート!BD15=\"\",\"\",申込入力シート!BD15)","v":""},{"$f":"IF(申込入力シート!BE15=\"\",\"\",申込入力シート!BE15)","v":""},"","","",{"$f":"IF(申込入力シート!BF15=\"\",\"\",申込入力シート!BF15&\"　\"&申込入力シート!BG15)","v":""},{"$f":"IF(申込入力シート!BH15=\"\",\"\",\"中\"&\" \"&申込入力シート!BH15)","v":""},{"$f":"IF(申込入力シート!BI15=\"\",\"\",申込入力シート!BI15)","v":""},{"$f":"IF(申込入力シート!BJ15=\"\",\"\",申込入力シート!BJ15)","v":""},{"$f":"IF(AB8=\"\",\"\",申込入力シート!$L$14)","v":""},{"$f":"IF(AB8=\"\",\"\",申込入力シート!$L$15)","v":""},{"$f":"IF(申込入力シート!BK15=\"\",\"\",申込入力シート!BK15)","v":""},5,{"$f":"IF(申込入力シート!BN15=\"\",\"\",申込入力シート!BN15)","v":""},{"$f":"IF(申込入力シート!BO15=\"\",\"\",申込入力シート!BO15)","v":""},"","","",{"$f":"IF(申込入力シート!BP15=\"\",\"\",申込入力シート!BP15&\"　\"&申込入力シート!BQ15)","v":""},{"$f":"IF(申込入力シート!BR15=\"\",\"\",\"高\"&\" \"&申込入力シート!BR15)","v":""},{"$f":"IF(申込入力シート!BS15=\"\",\"\",申込入力シート!BS15)","v":""},{"$f":"IF(申込入力シート!BT15=\"\",\"\",申込入力シート!BT15)","v":""},{"$f":"IF(処理!AO8=\"\",\"\",申込入力シート!$L$14)","v":""},{"$f":"IF(AO8=\"\",\"\",申込入力シート!$L$15)","v":""},{"$f":"IF(申込入力シート!BU15=\"\",\"\",申込入力シート!BU15)","v":""},5,{"$f":"IF(申込入力シート!BX15=\"\",\"\",申込入力シート!BX15)","v":""},{"$f":"IF(申込入力シート!BY15=\"\",\"\",申込入力シート!BY15)","v":""},"","","",{"$f":"IF(申込入力シート!BZ15=\"\",\"\",申込入力シート!BZ15&\"　\"&申込入力シート!CA15)","v":""},{"$f":"IF(申込入力シート!CB15=\"\",\"\",申込入力シート!CB15&\" \"&\"才\")","v":""},{"$f":"IF(申込入力シート!CC15=\"\",\"\",申込入力シート!CC15)","v":""},{"$f":"IF(申込入力シート!CD15=\"\",\"\",申込入力シート!CD15)","v":""},{"$f":"IF(BB8=\"\",\"\",申込入力シート!$L$14)","v":""},{"$f":"IF(BB8=\"\",\"\",申込入力シート!$L$15)","v":""},{"$f":"IF(申込入力シート!CE15=\"\",\"\",申込入力シート!CE15)","v":""}]
[6,{"$f":"IF(申込入力シート!AJ16=\"\",\"\",申込入力シート!AJ16)","v":""},{"$f":"IF(申込入力シート!AK16=\"\",\"\",申込入力シート!AK16)","v":""},"","","",{"$f":"IF(申込入力シート!AL16=\"\",\"\",申込入力シート!AL16&\"　\"&申込入力シート!AM16)","v":""},{"$f":"IF(申込入力シート!AN16=\"\",\"\",IF(LEN(申込入力シート!AN16)=1,\"小\"&\" \"&申込入力シート!AN16,申込入力シート!AN16))","v":""},{"$f":"IF(申込入力シート!AO16=\"\",\"\",申込入力シート!AO16)","v":""},{"$f":"IF(申込入力シート!AP16=\"\",\"\",申込入力シート!AP16)","v":""},{"$f":"IF(B9=\"\",\"\",申込入力シート!$L$14)","v":""},{"$f":"IF(B9=\"\",\"\",申込入力シート!$L$15)","v":""},{"$f":"IF(申込入力シート!AQ16=\"\",\"\",申込入力シート!AQ16)","v":""},6,{"$f":"IF(申込入力シート!AT16=\"\",\"\",申込入力シート!AT16)","v":""},{"$f":"IF(申込入力シート!AU16=\"\",\"\",申込入力シート!AU16)","v":""},"","","",{"$f":"IF(申込入力シート!AV16=\"\",\"\",申込入力シート!AV16&\"　\"&申込入力シート!AW16)","v":""},{"$f":"IF(申込入力シート!AX16=\"\",\"\",\"小\"&\" \"&申込入力シート!AX16)","v":""},{"$f":"IF(申込入力シート!AY16=\"\",\"\",申込入力シート!AY16)","v":""},{"$f":"IF(申込入力シート!AZ16=\"\",\"\",申込入力シート!AZ16)","v":""},{"$f":"IF(O9=\"\",\"\",申込入力シート!$L$14)","v":""},{"$f":"IF(O9=\"\",\"\",申込入力シート!$L$15)","v":""},{"$f":"IF(申込入力シート!BA16=\"\",\"\",申込入力シート!BA16)","v":""},6,{"$f":"IF(申込入力シート!BD16=\"\",\"\",申込入力シート!BD16)","v":""},{"$f":"IF(申込入力シート!BE16=\"\",\"\",申込入力シート!BE16)","v":""},"","","",{"$f":"IF(申込入力シート!BF16=\"\",\"\",申込入力シート!BF16&\"　\"&申込入力シート!BG16)","v":""},{"$f":"IF(申込入力シート!BH16=\"\",\"\",\"中\"&\" \"&申込入力シート!BH16)","v":""},{"$f":"IF(申込入力シート!BI16=\"\",\"\",申込入力シート!BI16)","v":""},{"$f":"IF(申込入力シート!BJ16=\"\",\"\",申込入力シート!BJ16)","v":""},{"$f":"IF(AB9=\"\",\"\",申込入力シート!$L$14)","v":""},{"$f":"IF(AB9=\"\",\"\",申込入力シート!$L$15)","v":""},{"$f":"IF(申込入力シート!BK16=\"\",\"\",申込入力シート!BK16)","v":""},6,{"$f":"IF(申込入力シート!BN16=\"\",\"\",申込入力シート!BN16)","v":""},{"$f":"IF(申込入力シート!BO16=\"\",\"\",申込入力シート!BO16)","v":""},"","","",{"$f":"IF(申込入力シート!BP16=\"\",\"\",申込入力シート!BP16&\"　\"&申込入力シート!BQ16)","v":""},{"$f":"IF(申込入力シート!BR16=\"\",\"\",\"高\"&\" \"&申込入力シート!BR16)","v":""},{"$f":"IF(申込入力シート!BS16=\"\",\"\",申込入力シート!BS16)","v":""},{"$f":"IF(申込入力シート!BT16=\"\",\"\",申込入力シート!BT16)","v":""},{"$f":"IF(処理!AO9=\"\",\"\",申込入力シート!$L$14)","v":""},{"$f":"IF(AO9=\"\",\"\",申込入力シート!$L$15)","v":""},{"$f":"IF(申込入力シート!BU16=\"\",\"\",申込入力シート!BU16)","v":""},6,{"$f":"IF(申込入力シート!BX16=\"\",\"\",申込入力シート!BX16)","v":""},{"$f":"IF(申込入力シート!BY16=\"\",\"\",申込入力シート!BY16)","v":""},"","","",{"$f":"IF(申込入力シート!BZ16=\"\",\"\",申込入力シート!BZ16&\"　\"&申込入力シート!CA16)","v":""},{"$f":"IF(申込入力シート!CB16=\"\",\"\",申込入力シート!CB16&\" \"&\"才\")","v":""},{"$f":"IF(申込入力シート!CC16=\"\",\"\",申込入力シート!CC16)","v":""},{"$f":"IF(申込入力シート!CD16=\"\",\"\",申込入力シート!CD16)","v":""},{"$f":"IF(BB9=\"\",\"\",申込入力シート!$L$14)","v":""},{"$f":"IF(BB9=\"\",\"\",申込入力シート!$L$15)","v":""},{"$f":"IF(申込入力シート!CE16=\"\",\"\",申込入力シート!CE16)","v":""}]
[7,{"$f":"IF(申込入力シート!AJ17=\"\",\"\",申込入力シート!AJ17)","v":""},{"$f":"IF(申込入力シート!AK17=\"\",\"\",申込入力シート!AK17)","v":""},"","","",{"$f":"IF(申込入力シート!AL17=\"\",\"\",申込入力シート!AL17&\"　\"&申込入力シート!AM17)","v":""},{"$f":"IF(申込入力シート!AN17=\"\",\"\",IF(LEN(申込入力シート!AN17)=1,\"小\"&\" \"&申込入力シート!AN17,申込入力シート!AN17))","v":""},{"$f":"IF(申込入力シート!AO17=\"\",\"\",申込入力シート!AO17)","v":""},{"$f":"IF(申込入力シート!AP17=\"\",\"\",申込入力シート!AP17)","v":""},{"$f":"IF(B10=\"\",\"\",申込入力シート!$L$14)","v":""},{"$f":"IF(B10=\"\",\"\",申込入力シート!$L$15)","v":""},{"$f":"IF(申込入力シート!AQ17=\"\",\"\",申込入力シート!AQ17)","v":""},7,{"$f":"IF(申込入力シート!AT17=\"\",\"\",申込入力シート!AT17)","v":""},{"$f":"IF(申込入力シート!AU17=\"\",\"\",申込入力シート!AU17)","v":""},"","","",{"$f":"IF(申込入力シート!AV17=\"\",\"\",申込入力シート!AV17&\"　\"&申込入力シート!AW17)","v":""},{"$f":"IF(申込入力シート!AX17=\"\",\"\",\"小\"&\" \"&申込入力シート!AX17)","v":""},{"$f":"IF(申込入力シート!AY17=\"\",\"\",申込入力シート!AY17)","v":""},{"$f":"IF(申込入力シート!AZ17=\"\",\"\",申込入力シート!AZ17)","v":""},{"$f":"IF(O10=\"\",\"\",申込入力シート!$L$14)","v":""},{"$f":"IF(O10=\"\",\"\",申込入力シート!$L$15)","v":""},{"$f":"IF(申込入力シート!BA17=\"\",\"\",申込入力シート!BA17)","v":""},7,{"$f":"IF(申込入力シート!BD17=\"\",\"\",申込入力シート!BD17)","v":""},{"$f":"IF(申込入力シート!BE17=\"\",\"\",申込入力シート!BE17)","v":""},"","","",{"$f":"IF(申込入力シート!BF17=\"\",\"\",申込入力シート!BF17&\"　\"&申込入力シート!BG17)","v":""},{"$f":"IF(申込入力シート!BH17=\"\",\"\",\"中\"&\" \"&申込入力シート!BH17)","v":""},{"$f":"IF(申込入力シート!BI17=\"\",\"\",申込入力シート!BI17)","v":""},{"$f":"IF(申込入力シート!BJ17=\"\",\"\",申込入力シート!BJ17)","v":""},{"$f":"IF(AB10=\"\",\"\",申込入力シート!$L$14)","v":""},{"$f":"IF(AB10=\"\",\"\",申込入力シート!$L$15)","v":""},{"$f":"IF(申込入力シート!BK17=\"\",\"\",申込入力シート!BK17)","v":""},7,{"$f":"IF(申込入力シート!BN17=\"\",\"\",申込入力シート!BN17)","v":""},{"$f":"IF(申込入力シート!BO17=\"\",\"\",申込入力シート!BO17)","v":""},"","","",{"$f":"IF(申込入力シート!BP17=\"\",\"\",申込入力シート!BP17&\"　\"&申込入力シート!BQ17)","v":""},{"$f":"IF(申込入力シート!BR17=\"\",\"\",\"高\"&\" \"&申込入力シート!BR17)","v":""},{"$f":"IF(申込入力シート!BS17=\"\",\"\",申込入力シート!BS17)","v":""},{"$f":"IF(申込入力シート!BT17=\"\",\"\",申込入力シート!BT17)","v":""},{"$f":"IF(処理!AO10=\"\",\"\",申込入力シート!$L$14)","v":""},{"$f":"IF(AO10=\"\",\"\",申込入力シート!$L$15)","v":""},{"$f":"IF(申込入力シート!BU17=\"\",\"\",申込入力シート!BU17)","v":""},7,{"$f":"IF(申込入力シート!BX17=\"\",\"\",申込入力シート!BX17)","v":""},{"$f":"IF(申込入力シート!BY17=\"\",\"\",申込入力シート!BY17)","v":""},"","","",{"$f":"IF(申込入力シート!BZ17=\"\",\"\",申込入力シート!BZ17&\"　\"&申込入力シート!CA17)","v":""},{"$f":"IF(申込入力シート!CB17=\"\",\"\",申込入力シート!CB17&\" \"&\"才\")","v":""},{"$f":"IF(申込入力シート!CC17=\"\",\"\",申込入力シート!CC17)","v":""},{"$f":"IF(申込入力シート!CD17=\"\",\"\",申込入力シート!CD17)","v":""},{"$f":"IF(BB10=\"\",\"\",申込入力シート!$L$14)","v":""},{"$f":"IF(BB10=\"\",\"\",申込入力シート!$L$15)","v":""},{"$f":"IF(申込入力シート!CE17=\"\",\"\",申込入力シート!CE17)","v":""}]
[8,{"$f":"IF(申込入力シート!AJ18=\"\",\"\",申込入力シート!AJ18)","v":""},{"$f":"IF(申込入力シート!AK18=\"\",\"\",申込入力シート!AK18)","v":""},"","","",{"$f":"IF(申込入力シート!AL18=\"\",\"\",申込入力シート!AL18&\"　\"&申込入力シート!AM18)","v":""},{"$f":"IF(申込入力シート!AN18=\"\",\"\",IF(LEN(申込入力シート!AN18)=1,\"小\"&\" \"&申込入力シート!AN18,申込入力シート!AN18))","v":""},{"$f":"IF(申込入力シート!AO18=\"\",\"\",申込入力シート!AO18)","v":""},{"$f":"IF(申込入力シート!AP18=\"\",\"\",申込入力シート!AP18)","v":""},{"$f":"IF(B11=\"\",\"\",申込入力シート!$L$14)","v":""},{"$f":"IF(B11=\"\",\"\",申込入力シート!$L$15)","v":""},{"$f":"IF(申込入力シート!AQ18=\"\",\"\",申込入力シート!AQ18)","v":""},8,{"$f":"IF(申込入力シート!AT18=\"\",\"\",申込入力シート!AT18)","v":""},{"$f":"IF(申込入力シート!AU18=\"\",\"\",申込入力シート!AU18)","v":""},"","","",{"$f":"IF(申込入力シート!AV18=\"\",\"\",申込入力シート!AV18&\"　\"&申込入力シート!AW18)","v":""},{"$f":"IF(申込入力シート!AX18=\"\",\"\",\"小\"&\" \"&申込入力シート!AX18)","v":""},{"$f":"IF(申込入力シート!AY18=\"\",\"\",申込入力シート!AY18)","v":""},{"$f":"IF(申込入力シート!AZ18=\"\",\"\",申込入力シート!AZ18)","v":""},{"$f":"IF(O11=\"\",\"\",申込入力シート!$L$14)","v":""},{"$f":"IF(O11=\"\",\"\",申込入力シート!$L$15)","v":""},{"$f":"IF(申込入力シート!BA18=\"\",\"\",申込入力シート!BA18)","v":""},8,{"$f":"IF(申込入力シート!BD18=\"\",\"\",申込入力シート!BD18)","v":""},{"$f":"IF(申込入力シート!BE18=\"\",\"\",申込入力シート!BE18)","v":""},"","","",{"$f":"IF(申込入力シート!BF18=\"\",\"\",申込入力シート!BF18&\"　\"&申込入力シート!BG18)","v":""},{"$f":"IF(申込入力シート!BH18=\"\",\"\",\"中\"&\" \"&申込入力シート!BH18)","v":""},{"$f":"IF(申込入力シート!BI18=\"\",\"\",申込入力シート!BI18)","v":""},{"$f":"IF(申込入力シート!BJ18=\"\",\"\",申込入力シート!BJ18)","v":""},{"$f":"IF(AB11=\"\",\"\",申込入力シート!$L$14)","v":""},{"$f":"IF(AB11=\"\",\"\",申込入力シート!$L$15)","v":""},{"$f":"IF(申込入力シート!BK18=\"\",\"\",申込入力シート!BK18)","v":""},8,{"$f":"IF(申込入力シート!BN18=\"\",\"\",申込入力シート!BN18)","v":""},{"$f":"IF(申込入力シート!BO18=\"\",\"\",申込入力シート!BO18)","v":""},"","","",{"$f":"IF(申込入力シート!BP18=\"\",\"\",申込入力シート!BP18&\"　\"&申込入力シート!BQ18)","v":""},{"$f":"IF(申込入力シート!BR18=\"\",\"\",\"高\"&\" \"&申込入力シート!BR18)","v":""},{"$f":"IF(申込入力シート!BS18=\"\",\"\",申込入力シート!BS18)","v":""},{"$f":"IF(申込入力シート!BT18=\"\",\"\",申込入力シート!BT18)","v":""},{"$f":"IF(処理!AO11=\"\",\"\",申込入力シート!$L$14)","v":""},{"$f":"IF(AO11=\"\",\"\",申込入力シート!$L$15)","v":""},{"$f":"IF(申込入力シート!BU18=\"\",\"\",申込入力シート!BU18)","v":""},8,{"$f":"IF(申込入力シート!BX18=\"\",\"\",申込入力シート!BX18)","v":""},{"$f":"IF(申込入力シート!BY18=\"\",\"\",申込入力シート!BY18)","v":""},"","","",{"$f":"IF(申込入力シート!BZ18=\"\",\"\",申込入力シート!BZ18&\"　\"&申込入力シート!CA18)","v":""},{"$f":"IF(申込入力シート!CB18=\"\",\"\",申込入力シート!CB18&\" \"&\"才\")","v":""},{"$f":"IF(申込入力シート!CC18=\"\",\"\",申込入力シート!CC18)","v":""},{"$f":"IF(申込入力シート!CD18=\"\",\"\",申込入力シート!CD18)","v":""},{"$f":"IF(BB11=\"\",\"\",申込入力シート!$L$14)","v":""},{"$f":"IF(BB11=\"\",\"\",申込入力シート!$L$15)","v":""},{"$f":"IF(申込入力シート!CE18=\"\",\"\",申込入力シート!CE18)","v":""}]
[9,{"$f":"IF(申込入力シート!AJ19=\"\",\"\",申込入力シート!AJ19)","v":""},{"$f":"IF(申込入力シート!AK19=\"\",\"\",申込入力シート!AK19)","v":""},"","","",{"$f":"IF(申込入力シート!AL19=\"\",\"\",申込入力シート!AL19&\"　\"&申込入力シート!AM19)","v":""},{"$f":"IF(申込入力シート!AN19=\"\",\"\",IF(LEN(申込入力シート!AN19)=1,\"小\"&\" \"&申込入力シート!AN19,申込入力シート!AN19))","v":""},{"$f":"IF(申込入力シート!AO19=\"\",\"\",申込入力シート!AO19)","v":""},{"$f":"IF(申込入力シート!AP19=\"\",\"\",申込入力シート!AP19)","v":""},{"$f":"IF(B12=\"\",\"\",申込入力シート!$L$14)","v":""},{"$f":"IF(B12=\"\",\"\",申込入力シート!$L$15)","v":""},{"$f":"IF(申込入力シート!AQ19=\"\",\"\",申込入力シート!AQ19)","v":""},9,{"$f":"IF(申込入力シート!AT19=\"\",\"\",申込入力シート!AT19)","v":""},{"$f":"IF(申込入力シート!AU19=\"\",\"\",申込入力シート!AU19)","v":""},"","","",{"$f":"IF(申込入力シート!AV19=\"\",\"\",申込入力シート!AV19&\"　\"&申込入力シート!AW19)","v":""},{"$f":"IF(申込入力シート!AX19=\"\",\"\",\"小\"&\" \"&申込入力シート!AX19)","v":""},{"$f":"IF(申込入力シート!AY19=\"\",\"\",申込入力シート!AY19)","v":""},{"$f":"IF(申込入力シート!AZ19=\"\",\"\",申込入力シート!AZ19)","v":""},{"$f":"IF(O12=\"\",\"\",申込入力シート!$L$14)","v":""},{"$f":"IF(O12=\"\",\"\",申込入力シート!$L$15)","v":""},{"$f":"IF(申込入力シート!BA19=\"\",\"\",申込入力シート!BA19)","v":""},9,{"$f":"IF(申込入力シート!BD19=\"\",\"\",申込入力シート!BD19)","v":""},{"$f":"IF(申込入力シート!BE19=\"\",\"\",申込入力シート!BE19)","v":""},"","","",{"$f":"IF(申込入力シート!BF19=\"\",\"\",申込入力シート!BF19&\"　\"&申込入力シート!BG19)","v":""},{"$f":"IF(申込入力シート!BH19=\"\",\"\",\"中\"&\" \"&申込入力シート!BH19)","v":""},{"$f":"IF(申込入力シート!BI19=\"\",\"\",申込入力シート!BI19)","v":""},{"$f":"IF(申込入力シート!BJ19=\"\",\"\",申込入力シート!BJ19)","v":""},{"$f":"IF(AB12=\"\",\"\",申込入力シート!$L$14)","v":""},{"$f":"IF(AB12=\"\",\"\",申込入力シート!$L$15)","v":""},{"$f":"IF(申込入力シート!BK19=\"\",\"\",申込入力シート!BK19)","v":""},9,{"$f":"IF(申込入力シート!BN19=\"\",\"\",申込入力シート!BN19)","v":""},{"$f":"IF(申込入力シート!BO19=\"\",\"\",申込入力シート!BO19)","v":""},"","","",{"$f":"IF(申込入力シート!BP19=\"\",\"\",申込入力シート!BP19&\"　\"&申込入力シート!BQ19)","v":""},{"$f":"IF(申込入力シート!BR19=\"\",\"\",\"高\"&\" \"&申込入力シート!BR19)","v":""},{"$f":"IF(申込入力シート!BS19=\"\",\"\",申込入力シート!BS19)","v":""},{"$f":"IF(申込入力シート!BT19=\"\",\"\",申込入力シート!BT19)","v":""},{"$f":"IF(処理!AO12=\"\",\"\",申込入力シート!$L$14)","v":""},{"$f":"IF(AO12=\"\",\"\",申込入力シート!$L$15)","v":""},{"$f":"IF(申込入力シート!BU19=\"\",\"\",申込入力シート!BU19)","v":""},9,{"$f":"IF(申込入力シート!BX19=\"\",\"\",申込入力シート!BX19)","v":""},{"$f":"IF(申込入力シート!BY19=\"\",\"\",申込入力シート!BY19)","v":""},"","","",{"$f":"IF(申込入力シート!BZ19=\"\",\"\",申込入力シート!BZ19&\"　\"&申込入力シート!CA19)","v":""},{"$f":"IF(申込入力シート!CB19=\"\",\"\",申込入力シート!CB19&\" \"&\"才\")","v":""},{"$f":"IF(申込入力シート!CC19=\"\",\"\",申込入力シート!CC19)","v":""},{"$f":"IF(申込入力シート!CD19=\"\",\"\",申込入力シート!CD19)","v":""},{"$f":"IF(BB12=\"\",\"\",申込入力シート!$L$14)","v":""},{"$f":"IF(BB12=\"\",\"\",申込入力シート!$L$15)","v":""},{"$f":"IF(申込入力シート!CE19=\"\",\"\",申込入力シート!CE19)","v":""}]
[10,{"$f":"IF(申込入力シート!AJ20=\"\",\"\",申込入力シート!AJ20)","v":""},{"$f":"IF(申込入力シート!AK20=\"\",\"\",申込入力シート!AK20)","v":""},"","","",{"$f":"IF(申込入力シート!AL20=\"\",\"\",申込入力シート!AL20&\"　\"&申込入力シート!AM20)","v":""},{"$f":"IF(申込入力シート!AN20=\"\",\"\",IF(LEN(申込入力シート!AN20)=1,\"小\"&\" \"&申込入力シート!AN20,申込入力シート!AN20))","v":""},{"$f":"IF(申込入力シート!AO20=\"\",\"\",申込入力シート!AO20)","v":""},{"$f":"IF(申込入力シート!AP20=\"\",\"\",申込入力シート!AP20)","v":""},{"$f":"IF(B13=\"\",\"\",申込入力シート!$L$14)","v":""},{"$f":"IF(B13=\"\",\"\",申込入力シート!$L$15)","v":""},{"$f":"IF(申込入力シート!AQ20=\"\",\"\",申込入力シート!AQ20)","v":""},10,{"$f":"IF(申込入力シート!AT20=\"\",\"\",申込入力シート!AT20)","v":""},{"$f":"IF(申込入力シート!AU20=\"\",\"\",申込入力シート!AU20)","v":""},"","","",{"$f":"IF(申込入力シート!AV20=\"\",\"\",申込入力シート!AV20&\"　\"&申込入力シート!AW20)","v":""},{"$f":"IF(申込入力シート!AX20=\"\",\"\",\"小\"&\" \"&申込入力シート!AX20)","v":""},{"$f":"IF(申込入力シート!AY20=\"\",\"\",申込入力シート!AY20)","v":""},{"$f":"IF(申込入力シート!AZ20=\"\",\"\",申込入力シート!AZ20)","v":""},{"$f":"IF(O13=\"\",\"\",申込入力シート!$L$14)","v":""},{"$f":"IF(O13=\"\",\"\",申込入力シート!$L$15)","v":""},{"$f":"IF(申込入力シート!BA20=\"\",\"\",申込入力シート!BA20)","v":""},10,{"$f":"IF(申込入力シート!BD20=\"\",\"\",申込入力シート!BD20)","v":""},{"$f":"IF(申込入力シート!BE20=\"\",\"\",申込入力シート!BE20)","v":""},"","","",{"$f":"IF(申込入力シート!BF20=\"\",\"\",申込入力シート!BF20&\"　\"&申込入力シート!BG20)","v":""},{"$f":"IF(申込入力シート!BH20=\"\",\"\",\"中\"&\" \"&申込入力シート!BH20)","v":""},{"$f":"IF(申込入力シート!BI20=\"\",\"\",申込入力シート!BI20)","v":""},{"$f":"IF(申込入力シート!BJ20=\"\",\"\",申込入力シート!BJ20)","v":""},{"$f":"IF(AB13=\"\",\"\",申込入力シート!$L$14)","v":""},{"$f":"IF(AB13=\"\",\"\",申込入力シート!$L$15)","v":""},{"$f":"IF(申込入力シート!BK20=\"\",\"\",申込入力シート!BK20)","v":""},10,{"$f":"IF(申込入力シート!BN20=\"\",\"\",申込入力シート!BN20)","v":""},{"$f":"IF(申込入力シート!BO20=\"\",\"\",申込入力シート!BO20)","v":""},"","","",{"$f":"IF(申込入力シート!BP20=\"\",\"\",申込入力シート!BP20&\"　\"&申込入力シート!BQ20)","v":""},{"$f":"IF(申込入力シート!BR20=\"\",\"\",\"高\"&\" \"&申込入力シート!BR20)","v":""},{"$f":"IF(申込入力シート!BS20=\"\",\"\",申込入力シート!BS20)","v":""},{"$f":"IF(申込入力シート!BT20=\"\",\"\",申込入力シート!BT20)","v":""},{"$f":"IF(処理!AO13=\"\",\"\",申込入力シート!$L$14)","v":""},{"$f":"IF(AO13=\"\",\"\",申込入力シート!$L$15)","v":""},{"$f":"IF(申込入力シート!BU20=\"\",\"\",申込入力シート!BU20)","v":""},10,{"$f":"IF(申込入力シート!BX20=\"\",\"\",申込入力シート!BX20)","v":""},{"$f":"IF(申込入力シート!BY20=\"\",\"\",申込入力シート!BY20)","v":""},"","","",{"$f":"IF(申込入力シート!BZ20=\"\",\"\",申込入力シート!BZ20&\"　\"&申込入力シート!CA20)","v":""},{"$f":"IF(申込入力シート!CB20=\"\",\"\",申込入力シート!CB20&\" \"&\"才\")","v":""},{"$f":"IF(申込入力シート!CC20=\"\",\"\",申込入力シート!CC20)","v":""},{"$f":"IF(申込入力シート!CD20=\"\",\"\",申込入力シート!CD20)","v":""},{"$f":"IF(BB13=\"\",\"\",申込入力シート!$L$14)","v":""},{"$f":"IF(BB13=\"\",\"\",申込入力シート!$L$15)","v":""},{"$f":"IF(申込入力シート!CE20=\"\",\"\",申込入力シート!CE20)","v":""}]
[11,{"$f":"IF(申込入力シート!AJ21=\"\",\"\",申込入力シート!AJ21)","v":""},{"$f":"IF(申込入力シート!AK21=\"\",\"\",申込入力シート!AK21)","v":""},"","","",{"$f":"IF(申込入力シート!AL21=\"\",\"\",申込入力シート!AL21&\"　\"&申込入力シート!AM21)","v":""},{"$f":"IF(申込入力シート!AN21=\"\",\"\",IF(LEN(申込入力シート!AN21)=1,\"小\"&\" \"&申込入力シート!AN21,申込入力シート!AN21))","v":""},{"$f":"IF(申込入力シート!AO21=\"\",\"\",申込入力シート!AO21)","v":""},{"$f":"IF(申込入力シート!AP21=\"\",\"\",申込入力シート!AP21)","v":""},{"$f":"IF(B14=\"\",\"\",申込入力シート!$L$14)","v":""},{"$f":"IF(B14=\"\",\"\",申込入力シート!$L$15)","v":""},{"$f":"IF(申込入力シート!AQ21=\"\",\"\",申込入力シート!AQ21)","v":""},11,{"$f":"IF(申込入力シート!AT21=\"\",\"\",申込入力シート!AT21)","v":""},{"$f":"IF(申込入力シート!AU21=\"\",\"\",申込入力シート!AU21)","v":""},"","","",{"$f":"IF(申込入力シート!AV21=\"\",\"\",申込入力シート!AV21&\"　\"&申込入力シート!AW21)","v":""},{"$f":"IF(申込入力シート!AX21=\"\",\"\",\"小\"&\" \"&申込入力シート!AX21)","v":""},{"$f":"IF(申込入力シート!AY21=\"\",\"\",申込入力シート!AY21)","v":""},{"$f":"IF(申込入力シート!AZ21=\"\",\"\",申込入力シート!AZ21)","v":""},{"$f":"IF(O14=\"\",\"\",申込入力シート!$L$14)","v":""},{"$f":"IF(O14=\"\",\"\",申込入力シート!$L$15)","v":""},{"$f":"IF(申込入力シート!BA21=\"\",\"\",申込入力シート!BA21)","v":""},11,{"$f":"IF(申込入力シート!BD21=\"\",\"\",申込入力シート!BD21)","v":""},{"$f":"IF(申込入力シート!BE21=\"\",\"\",申込入力シート!BE21)","v":""},"","","",{"$f":"IF(申込入力シート!BF21=\"\",\"\",申込入力シート!BF21&\"　\"&申込入力シート!BG21)","v":""},{"$f":"IF(申込入力シート!BH21=\"\",\"\",\"中\"&\" \"&申込入力シート!BH21)","v":""},{"$f":"IF(申込入力シート!BI21=\"\",\"\",申込入力シート!BI21)","v":""},{"$f":"IF(申込入力シート!BJ21=\"\",\"\",申込入力シート!BJ21)","v":""},{"$f":"IF(AB14=\"\",\"\",申込入力シート!$L$14)","v":""},{"$f":"IF(AB14=\"\",\"\",申込入力シート!$L$15)","v":""},{"$f":"IF(申込入力シート!BK21=\"\",\"\",申込入力シート!BK21)","v":""},11,{"$f":"IF(申込入力シート!BN21=\"\",\"\",申込入力シート!BN21)","v":""},{"$f":"IF(申込入力シート!BO21=\"\",\"\",申込入力シート!BO21)","v":""},"","","",{"$f":"IF(申込入力シート!BP21=\"\",\"\",申込入力シート!BP21&\"　\"&申込入力シート!BQ21)","v":""},{"$f":"IF(申込入力シート!BR21=\"\",\"\",\"高\"&\" \"&申込入力シート!BR21)","v":""},{"$f":"IF(申込入力シート!BS21=\"\",\"\",申込入力シート!BS21)","v":""},{"$f":"IF(申込入力シート!BT21=\"\",\"\",申込入力シート!BT21)","v":""},{"$f":"IF(処理!AO14=\"\",\"\",申込入力シート!$L$14)","v":""},{"$f":"IF(AO14=\"\",\"\",申込入力シート!$L$15)","v":""},{"$f":"IF(申込入力シート!BU21=\"\",\"\",申込入力シート!BU21)","v":""},11,{"$f":"IF(申込入力シート!BX21=\"\",\"\",申込入力シート!BX21)","v":""},{"$f":"IF(申込入力シート!BY21=\"\",\"\",申込入力シート!BY21)","v":""},"","","",{"$f":"IF(申込入力シート!BZ21=\"\",\"\",申込入力シート!BZ21&\"　\"&申込入力シート!CA21)","v":""},{"$f":"IF(申込入力シート!CB21=\"\",\"\",申込入力シート!CB21&\" \"&\"才\")","v":""},{"$f":"IF(申込入力シート!CC21=\"\",\"\",申込入力シート!CC21)","v":""},{"$f":"IF(申込入力シート!CD21=\"\",\"\",申込入力シート!CD21)","v":""},{"$f":"IF(BB14=\"\",\"\",申込入力シート!$L$14)","v":""},{"$f":"IF(BB14=\"\",\"\",申込入力シート!$L$15)","v":""},{"$f":"IF(申込入力シート!CE21=\"\",\"\",申込入力シート!CE21)","v":""}]
[12,{"$f":"IF(申込入力シート!AJ22=\"\",\"\",申込入力シート!AJ22)","v":""},{"$f":"IF(申込入力シート!AK22=\"\",\"\",申込入力シート!AK22)","v":""},"","","",{"$f":"IF(申込入力シート!AL22=\"\",\"\",申込入力シート!AL22&\"　\"&申込入力シート!AM22)","v":""},{"$f":"IF(申込入力シート!AN22=\"\",\"\",IF(LEN(申込入力シート!AN22)=1,\"小\"&\" \"&申込入力シート!AN22,申込入力シート!AN22))","v":""},{"$f":"IF(申込入力シート!AO22=\"\",\"\",申込入力シート!AO22)","v":""},{"$f":"IF(申込入力シート!AP22=\"\",\"\",申込入力シート!AP22)","v":""},{"$f":"IF(B15=\"\",\"\",申込入力シート!$L$14)","v":""},{"$f":"IF(B15=\"\",\"\",申込入力シート!$L$15)","v":""},{"$f":"IF(申込入力シート!AQ22=\"\",\"\",申込入力シート!AQ22)","v":""},12,{"$f":"IF(申込入力シート!AT22=\"\",\"\",申込入力シート!AT22)","v":""},{"$f":"IF(申込入力シート!AU22=\"\",\"\",申込入力シート!AU22)","v":""},"","","",{"$f":"IF(申込入力シート!AV22=\"\",\"\",申込入力シート!AV22&\"　\"&申込入力シート!AW22)","v":""},{"$f":"IF(申込入力シート!AX22=\"\",\"\",\"小\"&\" \"&申込入力シート!AX22)","v":""},{"$f":"IF(申込入力シート!AY22=\"\",\"\",申込入力シート!AY22)","v":""},{"$f":"IF(申込入力シート!AZ22=\"\",\"\",申込入力シート!AZ22)","v":""},{"$f":"IF(O15=\"\",\"\",申込入力シート!$L$14)","v":""},{"$f":"IF(O15=\"\",\"\",申込入力シート!$L$15)","v":""},{"$f":"IF(申込入力シート!BA22=\"\",\"\",申込入力シート!BA22)","v":""},12,{"$f":"IF(申込入力シート!BD22=\"\",\"\",申込入力シート!BD22)","v":""},{"$f":"IF(申込入力シート!BE22=\"\",\"\",申込入力シート!BE22)","v":""},"","","",{"$f":"IF(申込入力シート!BF22=\"\",\"\",申込入力シート!BF22&\"　\"&申込入力シート!BG22)","v":""},{"$f":"IF(申込入力シート!BH22=\"\",\"\",\"中\"&\" \"&申込入力シート!BH22)","v":""},{"$f":"IF(申込入力シート!BI22=\"\",\"\",申込入力シート!BI22)","v":""},{"$f":"IF(申込入力シート!BJ22=\"\",\"\",申込入力シート!BJ22)","v":""},{"$f":"IF(AB15=\"\",\"\",申込入力シート!$L$14)","v":""},{"$f":"IF(AB15=\"\",\"\",申込入力シート!$L$15)","v":""},{"$f":"IF(申込入力シート!BK22=\"\",\"\",申込入力シート!BK22)","v":""},12,{"$f":"IF(申込入力シート!BN22=\"\",\"\",申込入力シート!BN22)","v":""},{"$f":"IF(申込入力シート!BO22=\"\",\"\",申込入力シート!BO22)","v":""},"","","",{"$f":"IF(申込入力シート!BP22=\"\",\"\",申込入力シート!BP22&\"　\"&申込入力シート!BQ22)","v":""},{"$f":"IF(申込入力シート!BR22=\"\",\"\",\"高\"&\" \"&申込入力シート!BR22)","v":""},{"$f":"IF(申込入力シート!BS22=\"\",\"\",申込入力シート!BS22)","v":""},{"$f":"IF(申込入力シート!BT22=\"\",\"\",申込入力シート!BT22)","v":""},{"$f":"IF(処理!AO15=\"\",\"\",申込入力シート!$L$14)","v":""},{"$f":"IF(AO15=\"\",\"\",申込入力シート!$L$15)","v":""},{"$f":"IF(申込入力シート!BU22=\"\",\"\",申込入力シート!BU22)","v":""},12,{"$f":"IF(申込入力シート!BX22=\"\",\"\",申込入力シート!BX22)","v":""},{"$f":"IF(申込入力シート!BY22=\"\",\"\",申込入力シート!BY22)","v":""},"","","",{"$f":"IF(申込入力シート!BZ22=\"\",\"\",申込入力シート!BZ22&\"　\"&申込入力シート!CA22)","v":""},{"$f":"IF(申込入力シート!CB22=\"\",\"\",申込入力シート!CB22&\" \"&\"才\")","v":""},{"$f":"IF(申込入力シート!CC22=\"\",\"\",申込入力シート!CC22)","v":""},{"$f":"IF(申込入力シート!CD22=\"\",\"\",申込入力シート!CD22)","v":""},{"$f":"IF(BB15=\"\",\"\",申込入力シート!$L$14)","v":""},{"$f":"IF(BB15=\"\",\"\",申込入力シート!$L$15)","v":""},{"$f":"IF(申込入力シート!CE22=\"\",\"\",申込入力シート!CE22)","v":""}]
[13,{"$f":"IF(申込入力シート!AJ23=\"\",\"\",申込入力シート!AJ23)","v":""},{"$f":"IF(申込入力シート!AK23=\"\",\"\",申込入力シート!AK23)","v":""},"","","",{"$f":"IF(申込入力シート!AL23=\"\",\"\",申込入力シート!AL23&\"　\"&申込入力シート!AM23)","v":""},{"$f":"IF(申込入力シート!AN23=\"\",\"\",IF(LEN(申込入力シート!AN23)=1,\"小\"&\" \"&申込入力シート!AN23,申込入力シート!AN23))","v":""},{"$f":"IF(申込入力シート!AO23=\"\",\"\",申込入力シート!AO23)","v":""},{"$f":"IF(申込入力シート!AP23=\"\",\"\",申込入力シート!AP23)","v":""},{"$f":"IF(B16=\"\",\"\",申込入力シート!$L$14)","v":""},{"$f":"IF(B16=\"\",\"\",申込入力シート!$L$15)","v":""},{"$f":"IF(申込入力シート!AQ23=\"\",\"\",申込入力シート!AQ23)","v":""},13,{"$f":"IF(申込入力シート!AT23=\"\",\"\",申込入力シート!AT23)","v":""},{"$f":"IF(申込入力シート!AU23=\"\",\"\",申込入力シート!AU23)","v":""},"","","",{"$f":"IF(申込入力シート!AV23=\"\",\"\",申込入力シート!AV23&\"　\"&申込入力シート!AW23)","v":""},{"$f":"IF(申込入力シート!AX23=\"\",\"\",\"小\"&\" \"&申込入力シート!AX23)","v":""},{"$f":"IF(申込入力シート!AY23=\"\",\"\",申込入力シート!AY23)","v":""},{"$f":"IF(申込入力シート!AZ23=\"\",\"\",申込入力シート!AZ23)","v":""},{"$f":"IF(O16=\"\",\"\",申込入力シート!$L$14)","v":""},{"$f":"IF(O16=\"\",\"\",申込入力シート!$L$15)","v":""},{"$f":"IF(申込入力シート!BA23=\"\",\"\",申込入力シート!BA23)","v":""},13,{"$f":"IF(申込入力シート!BD23=\"\",\"\",申込入力シート!BD23)","v":""},{"$f":"IF(申込入力シート!BE23=\"\",\"\",申込入力シート!BE23)","v":""},"","","",{"$f":"IF(申込入力シート!BF23=\"\",\"\",申込入力シート!BF23&\"　\"&申込入力シート!BG23)","v":""},{"$f":"IF(申込入力シート!BH23=\"\",\"\",\"中\"&\" \"&申込入力シート!BH23)","v":""},{"$f":"IF(申込入力シート!BI23=\"\",\"\",申込入力シート!BI23)","v":""},{"$f":"IF(申込入力シート!BJ23=\"\",\"\",申込入力シート!BJ23)","v":""},{"$f":"IF(AB16=\"\",\"\",申込入力シート!$L$14)","v":""},{"$f":"IF(AB16=\"\",\"\",申込入力シート!$L$15)","v":""},{"$f":"IF(申込入力シート!BK23=\"\",\"\",申込入力シート!BK23)","v":""},13,{"$f":"IF(申込入力シート!BN23=\"\",\"\",申込入力シート!BN23)","v":""},{"$f":"IF(申込入力シート!BO23=\"\",\"\",申込入力シート!BO23)","v":""},"","","",{"$f":"IF(申込入力シート!BP23=\"\",\"\",申込入力シート!BP23&\"　\"&申込入力シート!BQ23)","v":""},{"$f":"IF(申込入力シート!BR23=\"\",\"\",\"高\"&\" \"&申込入力シート!BR23)","v":""},{"$f":"IF(申込入力シート!BS23=\"\",\"\",申込入力シート!BS23)","v":""},{"$f":"IF(申込入力シート!BT23=\"\",\"\",申込入力シート!BT23)","v":""},{"$f":"IF(処理!AO16=\"\",\"\",申込入力シート!$L$14)","v":""},{"$f":"IF(AO16=\"\",\"\",申込入力シート!$L$15)","v":""},{"$f":"IF(申込入力シート!BU23=\"\",\"\",申込入力シート!BU23)","v":""},13,{"$f":"IF(申込入力シート!BX23=\"\",\"\",申込入力シート!BX23)","v":""},{"$f":"IF(申込入力シート!BY23=\"\",\"\",申込入力シート!BY23)","v":""},"","","",{"$f":"IF(申込入力シート!BZ23=\"\",\"\",申込入力シート!BZ23&\"　\"&申込入力シート!CA23)","v":""},{"$f":"IF(申込入力シート!CB23=\"\",\"\",申込入力シート!CB23&\" \"&\"才\")","v":""},{"$f":"IF(申込入力シート!CC23=\"\",\"\",申込入力シート!CC23)","v":""},{"$f":"IF(申込入力シート!CD23=\"\",\"\",申込入力シート!CD23)","v":""},{"$f":"IF(BB16=\"\",\"\",申込入力シート!$L$14)","v":""},{"$f":"IF(BB16=\"\",\"\",申込入力シート!$L$15)","v":""},{"$f":"IF(申込入力シート!CE23=\"\",\"\",申込入力シート!CE23)","v":""}]
[14,{"$f":"IF(申込入力シート!AJ24=\"\",\"\",申込入力シート!AJ24)","v":""},{"$f":"IF(申込入力シート!AK24=\"\",\"\",申込入力シート!AK24)","v":""},"","","",{"$f":"IF(申込入力シート!AL24=\"\",\"\",申込入力シート!AL24&\"　\"&申込入力シート!AM24)","v":""},{"$f":"IF(申込入力シート!AN24=\"\",\"\",IF(LEN(申込入力シート!AN24)=1,\"小\"&\" \"&申込入力シート!AN24,申込入力シート!AN24))","v":""},{"$f":"IF(申込入力シート!AO24=\"\",\"\",申込入力シート!AO24)","v":""},{"$f":"IF(申込入力シート!AP24=\"\",\"\",申込入力シート!AP24)","v":""},{"$f":"IF(B17=\"\",\"\",申込入力シート!$L$14)","v":""},{"$f":"IF(B17=\"\",\"\",申込入力シート!$L$15)","v":""},{"$f":"IF(申込入力シート!AQ24=\"\",\"\",申込入力シート!AQ24)","v":""},14,{"$f":"IF(申込入力シート!AT24=\"\",\"\",申込入力シート!AT24)","v":""},{"$f":"IF(申込入力シート!AU24=\"\",\"\",申込入力シート!AU24)","v":""},"","","",{"$f":"IF(申込入力シート!AV24=\"\",\"\",申込入力シート!AV24&\"　\"&申込入力シート!AW24)","v":""},{"$f":"IF(申込入力シート!AX24=\"\",\"\",\"小\"&\" \"&申込入力シート!AX24)","v":""},{"$f":"IF(申込入力シート!AY24=\"\",\"\",申込入力シート!AY24)","v":""},{"$f":"IF(申込入力シート!AZ24=\"\",\"\",申込入力シート!AZ24)","v":""},{"$f":"IF(O17=\"\",\"\",申込入力シート!$L$14)","v":""},{"$f":"IF(O17=\"\",\"\",申込入力シート!$L$15)","v":""},{"$f":"IF(申込入力シート!BA24=\"\",\"\",申込入力シート!BA24)","v":""},14,{"$f":"IF(申込入力シート!BD24=\"\",\"\",申込入力シート!BD24)","v":""},{"$f":"IF(申込入力シート!BE24=\"\",\"\",申込入力シート!BE24)","v":""},"","","",{"$f":"IF(申込入力シート!BF24=\"\",\"\",申込入力シート!BF24&\"　\"&申込入力シート!BG24)","v":""},{"$f":"IF(申込入力シート!BH24=\"\",\"\",\"中\"&\" \"&申込入力シート!BH24)","v":""},{"$f":"IF(申込入力シート!BI24=\"\",\"\",申込入力シート!BI24)","v":""},{"$f":"IF(申込入力シート!BJ24=\"\",\"\",申込入力シート!BJ24)","v":""},{"$f":"IF(AB17=\"\",\"\",申込入力シート!$L$14)","v":""},{"$f":"IF(AB17=\"\",\"\",申込入力シート!$L$15)","v":""},{"$f":"IF(申込入力シート!BK24=\"\",\"\",申込入力シート!BK24)","v":""},14,{"$f":"IF(申込入力シート!BN24=\"\",\"\",申込入力シート!BN24)","v":""},{"$f":"IF(申込入力シート!BO24=\"\",\"\",申込入力シート!BO24)","v":""},"","","",{"$f":"IF(申込入力シート!BP24=\"\",\"\",申込入力シート!BP24&\"　\"&申込入力シート!BQ24)","v":""},{"$f":"IF(申込入力シート!BR24=\"\",\"\",\"高\"&\" \"&申込入力シート!BR24)","v":""},{"$f":"IF(申込入力シート!BS24=\"\",\"\",申込入力シート!BS24)","v":""},{"$f":"IF(申込入力シート!BT24=\"\",\"\",申込入力シート!BT24)","v":""},{"$f":"IF(処理!AO17=\"\",\"\",申込入力シート!$L$14)","v":""},{"$f":"IF(AO17=\"\",\"\",申込入力シート!$L$15)","v":""},{"$f":"IF(申込入力シート!BU24=\"\",\"\",申込入力シート!BU24)","v":""},14,{"$f":"IF(申込入力シート!BX24=\"\",\"\",申込入力シート!BX24)","v":""},{"$f":"IF(申込入力シート!BY24=\"\",\"\",申込入力シート!BY24)","v":""},"","","",{"$f":"IF(申込入力シート!BZ24=\"\",\"\",申込入力シート!BZ24&\"　\"&申込入力シート!CA24)","v":""},{"$f":"IF(申込入力シート!CB24=\"\",\"\",申込入力シート!CB24&\" \"&\"才\")","v":""},{"$f":"IF(申込入力シート!CC24=\"\",\"\",申込入力シート!CC24)","v":""},{"$f":"IF(申込入力シート!CD24=\"\",\"\",申込入力シート!CD24)","v":""},{"$f":"IF(BB17=\"\",\"\",申込入力シート!$L$14)","v":""},{"$f":"IF(BB17=\"\",\"\",申込入力シート!$L$15)","v":""},{"$f":"IF(申込入力シート!CE24=\"\",\"\",申込入力シート!CE24)","v":""}]
[15,{"$f":"IF(申込入力シート!AJ25=\"\",\"\",申込入力シート!AJ25)","v":""},{"$f":"IF(申込入力シート!AK25=\"\",\"\",申込入力シート!AK25)","v":""},"","","",{"$f":"IF(申込入力シート!AL25=\"\",\"\",申込入力シート!AL25&\"　\"&申込入力シート!AM25)","v":""},{"$f":"IF(申込入力シート!AN25=\"\",\"\",IF(LEN(申込入力シート!AN25)=1,\"小\"&\" \"&申込入力シート!AN25,申込入力シート!AN25))","v":""},{"$f":"IF(申込入力シート!AO25=\"\",\"\",申込入力シート!AO25)","v":""},{"$f":"IF(申込入力シート!AP25=\"\",\"\",申込入力シート!AP25)","v":""},{"$f":"IF(B18=\"\",\"\",申込入力シート!$L$14)","v":""},{"$f":"IF(B18=\"\",\"\",申込入力シート!$L$15)","v":""},{"$f":"IF(申込入力シート!AQ25=\"\",\"\",申込入力シート!AQ25)","v":""},15,{"$f":"IF(申込入力シート!AT25=\"\",\"\",申込入力シート!AT25)","v":""},{"$f":"IF(申込入力シート!AU25=\"\",\"\",申込入力シート!AU25)","v":""},"","","",{"$f":"IF(申込入力シート!AV25=\"\",\"\",申込入力シート!AV25&\"　\"&申込入力シート!AW25)","v":""},{"$f":"IF(申込入力シート!AX25=\"\",\"\",\"小\"&\" \"&申込入力シート!AX25)","v":""},{"$f":"IF(申込入力シート!AY25=\"\",\"\",申込入力シート!AY25)","v":""},{"$f":"IF(申込入力シート!AZ25=\"\",\"\",申込入力シート!AZ25)","v":""},{"$f":"IF(O18=\"\",\"\",申込入力シート!$L$14)","v":""},{"$f":"IF(O18=\"\",\"\",申込入力シート!$L$15)","v":""},{"$f":"IF(申込入力シート!BA25=\"\",\"\",申込入力シート!BA25)","v":""},15,{"$f":"IF(申込入力シート!BD25=\"\",\"\",申込入力シート!BD25)","v":""},{"$f":"IF(申込入力シート!BE25=\"\",\"\",申込入力シート!BE25)","v":""},"","","",{"$f":"IF(申込入力シート!BF25=\"\",\"\",申込入力シート!BF25&\"　\"&申込入力シート!BG25)","v":""},{"$f":"IF(申込入力シート!BH25=\"\",\"\",\"中\"&\" \"&申込入力シート!BH25)","v":""},{"$f":"IF(申込入力シート!BI25=\"\",\"\",申込入力シート!BI25)","v":""},{"$f":"IF(申込入力シート!BJ25=\"\",\"\",申込入力シート!BJ25)","v":""},{"$f":"IF(AB18=\"\",\"\",申込入力シート!$L$14)","v":""},{"$f":"IF(AB18=\"\",\"\",申込入力シート!$L$15)","v":""},{"$f":"IF(申込入力シート!BK25=\"\",\"\",申込入力シート!BK25)","v":""},15,{"$f":"IF(申込入力シート!BN25=\"\",\"\",申込入力シート!BN25)","v":""},{"$f":"IF(申込入力シート!BO25=\"\",\"\",申込入力シート!BO25)","v":""},"","","",{"$f":"IF(申込入力シート!BP25=\"\",\"\",申込入力シート!BP25&\"　\"&申込入力シート!BQ25)","v":""},{"$f":"IF(申込入力シート!BR25=\"\",\"\",\"高\"&\" \"&申込入力シート!BR25)","v":""},{"$f":"IF(申込入力シート!BS25=\"\",\"\",申込入力シート!BS25)","v":""},{"$f":"IF(申込入力シート!BT25=\"\",\"\",申込入力シート!BT25)","v":""},{"$f":"IF(処理!AO18=\"\",\"\",申込入力シート!$L$14)","v":""},{"$f":"IF(AO18=\"\",\"\",申込入力シート!$L$15)","v":""},{"$f":"IF(申込入力シート!BU25=\"\",\"\",申込入力シート!BU25)","v":""},15,{"$f":"IF(申込入力シート!BX25=\"\",\"\",申込入力シート!BX25)","v":""},{"$f":"IF(申込入力シート!BY25=\"\",\"\",申込入力シート!BY25)","v":""},"","","",{"$f":"IF(申込入力シート!BZ25=\"\",\"\",申込入力シート!BZ25&\"　\"&申込入力シート!CA25)","v":""},{"$f":"IF(申込入力シート!CB25=\"\",\"\",申込入力シート!CB25&\" \"&\"才\")","v":""},{"$f":"IF(申込入力シート!CC25=\"\",\"\",申込入力シート!CC25)","v":""},{"$f":"IF(申込入力シート!CD25=\"\",\"\",申込入力シート!CD25)","v":""},{"$f":"IF(BB18=\"\",\"\",申込入力シート!$L$14)","v":""},{"$f":"IF(BB18=\"\",\"\",申込入力シート!$L$15)","v":""},{"$f":"IF(申込入力シート!CE25=\"\",\"\",申込入力シート!CE25)","v":""}]
[16,{"$f":"IF(申込入力シート!AJ26=\"\",\"\",申込入力シート!AJ26)","v":""},{"$f":"IF(申込入力シート!AK26=\"\",\"\",申込入力シート!AK26)","v":""},"","","",{"$f":"IF(申込入力シート!AL26=\"\",\"\",申込入力シート!AL26&\"　\"&申込入力シート!AM26)","v":""},{"$f":"IF(申込入力シート!AN26=\"\",\"\",IF(LEN(申込入力シート!AN26)=1,\"小\"&\" \"&申込入力シート!AN26,申込入力シート!AN26))","v":""},{"$f":"IF(申込入力シート!AO26=\"\",\"\",申込入力シート!AO26)","v":""},{"$f":"IF(申込入力シート!AP26=\"\",\"\",申込入力シート!AP26)","v":""},{"$f":"IF(B19=\"\",\"\",申込入力シート!$L$14)","v":""},{"$f":"IF(B19=\"\",\"\",申込入力シート!$L$15)","v":""},{"$f":"IF(申込入力シート!AQ26=\"\",\"\",申込入力シート!AQ26)","v":""},16,{"$f":"IF(申込入力シート!AT26=\"\",\"\",申込入力シート!AT26)","v":""},{"$f":"IF(申込入力シート!AU26=\"\",\"\",申込入力シート!AU26)","v":""},"","","",{"$f":"IF(申込入力シート!AV26=\"\",\"\",申込入力シート!AV26&\"　\"&申込入力シート!AW26)","v":""},{"$f":"IF(申込入力シート!AX26=\"\",\"\",\"小\"&\" \"&申込入力シート!AX26)","v":""},{"$f":"IF(申込入力シート!AY26=\"\",\"\",申込入力シート!AY26)","v":""},{"$f":"IF(申込入力シート!AZ26=\"\",\"\",申込入力シート!AZ26)","v":""},{"$f":"IF(O19=\"\",\"\",申込入力シート!$L$14)","v":""},{"$f":"IF(O19=\"\",\"\",申込入力シート!$L$15)","v":""},{"$f":"IF(申込入力シート!BA26=\"\",\"\",申込入力シート!BA26)","v":""},16,{"$f":"IF(申込入力シート!BD26=\"\",\"\",申込入力シート!BD26)","v":""},{"$f":"IF(申込入力シート!BE26=\"\",\"\",申込入力シート!BE26)","v":""},"","","",{"$f":"IF(申込入力シート!BF26=\"\",\"\",申込入力シート!BF26&\"　\"&申込入力シート!BG26)","v":""},{"$f":"IF(申込入力シート!BH26=\"\",\"\",\"中\"&\" \"&申込入力シート!BH26)","v":""},{"$f":"IF(申込入力シート!BI26=\"\",\"\",申込入力シート!BI26)","v":""},{"$f":"IF(申込入力シート!BJ26=\"\",\"\",申込入力シート!BJ26)","v":""},{"$f":"IF(AB19=\"\",\"\",申込入力シート!$L$14)","v":""},{"$f":"IF(AB19=\"\",\"\",申込入力シート!$L$15)","v":""},{"$f":"IF(申込入力シート!BK26=\"\",\"\",申込入力シート!BK26)","v":""},16,{"$f":"IF(申込入力シート!BN26=\"\",\"\",申込入力シート!BN26)","v":""},{"$f":"IF(申込入力シート!BO26=\"\",\"\",申込入力シート!BO26)","v":""},"","","",{"$f":"IF(申込入力シート!BP26=\"\",\"\",申込入力シート!BP26&\"　\"&申込入力シート!BQ26)","v":""},{"$f":"IF(申込入力シート!BR26=\"\",\"\",\"高\"&\" \"&申込入力シート!BR26)","v":""},{"$f":"IF(申込入力シート!BS26=\"\",\"\",申込入力シート!BS26)","v":""},{"$f":"IF(申込入力シート!BT26=\"\",\"\",申込入力シート!BT26)","v":""},{"$f":"IF(処理!AO19=\"\",\"\",申込入力シート!$L$14)","v":""},{"$f":"IF(AO19=\"\",\"\",申込入力シート!$L$15)","v":""},{"$f":"IF(申込入力シート!BU26=\"\",\"\",申込入力シート!BU26)","v":""},16,{"$f":"IF(申込入力シート!BX26=\"\",\"\",申込入力シート!BX26)","v":""},{"$f":"IF(申込入力シート!BY26=\"\",\"\",申込入力シート!BY26)","v":""},"","","",{"$f":"IF(申込入力シート!BZ26=\"\",\"\",申込入力シート!BZ26&\"　\"&申込入力シート!CA26)","v":""},{"$f":"IF(申込入力シート!CB26=\"\",\"\",申込入力シート!CB26&\" \"&\"才\")","v":""},{"$f":"IF(申込入力シート!CC26=\"\",\"\",申込入力シート!CC26)","v":""},{"$f":"IF(申込入力シート!CD26=\"\",\"\",申込入力シート!CD26)","v":""},{"$f":"IF(BB19=\"\",\"\",申込入力シート!$L$14)","v":""},{"$f":"IF(BB19=\"\",\"\",申込入力シート!$L$15)","v":""},{"$f":"IF(申込入力シート!CE26=\"\",\"\",申込入力シート!CE26)","v":""}]
[17,{"$f":"IF(申込入力シート!AJ27=\"\",\"\",申込入力シート!AJ27)","v":""},{"$f":"IF(申込入力シート!AK27=\"\",\"\",申込入力シート!AK27)","v":""},"","","",{"$f":"IF(申込入力シート!AL27=\"\",\"\",申込入力シート!AL27&\"　\"&申込入力シート!AM27)","v":""},{"$f":"IF(申込入力シート!AN27=\"\",\"\",IF(LEN(申込入力シート!AN27)=1,\"小\"&\" \"&申込入力シート!AN27,申込入力シート!AN27))","v":""},{"$f":"IF(申込入力シート!AO27=\"\",\"\",申込入力シート!AO27)","v":""},{"$f":"IF(申込入力シート!AP27=\"\",\"\",申込入力シート!AP27)","v":""},{"$f":"IF(B20=\"\",\"\",申込入力シート!$L$14)","v":""},{"$f":"IF(B20=\"\",\"\",申込入力シート!$L$15)","v":""},{"$f":"IF(申込入力シート!AQ27=\"\",\"\",申込入力シート!AQ27)","v":""},17,{"$f":"IF(申込入力シート!AT27=\"\",\"\",申込入力シート!AT27)","v":""},{"$f":"IF(申込入力シート!AU27=\"\",\"\",申込入力シート!AU27)","v":""},"","","",{"$f":"IF(申込入力シート!AV27=\"\",\"\",申込入力シート!AV27&\"　\"&申込入力シート!AW27)","v":""},{"$f":"IF(申込入力シート!AX27=\"\",\"\",\"小\"&\" \"&申込入力シート!AX27)","v":""},{"$f":"IF(申込入力シート!AY27=\"\",\"\",申込入力シート!AY27)","v":""},{"$f":"IF(申込入力シート!AZ27=\"\",\"\",申込入力シート!AZ27)","v":""},{"$f":"IF(O20=\"\",\"\",申込入力シート!$L$14)","v":""},{"$f":"IF(O20=\"\",\"\",申込入力シート!$L$15)","v":""},{"$f":"IF(申込入力シート!BA27=\"\",\"\",申込入力シート!BA27)","v":""},17,{"$f":"IF(申込入力シート!BD27=\"\",\"\",申込入力シート!BD27)","v":""},{"$f":"IF(申込入力シート!BE27=\"\",\"\",申込入力シート!BE27)","v":""},"","","",{"$f":"IF(申込入力シート!BF27=\"\",\"\",申込入力シート!BF27&\"　\"&申込入力シート!BG27)","v":""},{"$f":"IF(申込入力シート!BH27=\"\",\"\",\"中\"&\" \"&申込入力シート!BH27)","v":""},{"$f":"IF(申込入力シート!BI27=\"\",\"\",申込入力シート!BI27)","v":""},{"$f":"IF(申込入力シート!BJ27=\"\",\"\",申込入力シート!BJ27)","v":""},{"$f":"IF(AB20=\"\",\"\",申込入力シート!$L$14)","v":""},{"$f":"IF(AB20=\"\",\"\",申込入力シート!$L$15)","v":""},{"$f":"IF(申込入力シート!BK27=\"\",\"\",申込入力シート!BK27)","v":""},17,{"$f":"IF(申込入力シート!BN27=\"\",\"\",申込入力シート!BN27)","v":""},{"$f":"IF(申込入力シート!BO27=\"\",\"\",申込入力シート!BO27)","v":""},"","","",{"$f":"IF(申込入力シート!BP27=\"\",\"\",申込入力シート!BP27&\"　\"&申込入力シート!BQ27)","v":""},{"$f":"IF(申込入力シート!BR27=\"\",\"\",\"高\"&\" \"&申込入力シート!BR27)","v":""},{"$f":"IF(申込入力シート!BS27=\"\",\"\",申込入力シート!BS27)","v":""},{"$f":"IF(申込入力シート!BT27=\"\",\"\",申込入力シート!BT27)","v":""},{"$f":"IF(処理!AO20=\"\",\"\",申込入力シート!$L$14)","v":""},{"$f":"IF(AO20=\"\",\"\",申込入力シート!$L$15)","v":""},{"$f":"IF(申込入力シート!BU27=\"\",\"\",申込入力シート!BU27)","v":""},17,{"$f":"IF(申込入力シート!BX27=\"\",\"\",申込入力シート!BX27)","v":""},{"$f":"IF(申込入力シート!BY27=\"\",\"\",申込入力シート!BY27)","v":""},"","","",{"$f":"IF(申込入力シート!BZ27=\"\",\"\",申込入力シート!BZ27&\"　\"&申込入力シート!CA27)","v":""},{"$f":"IF(申込入力シート!CB27=\"\",\"\",申込入力シート!CB27&\" \"&\"才\")","v":""},{"$f":"IF(申込入力シート!CC27=\"\",\"\",申込入力シート!CC27)","v":""},{"$f":"IF(申込入力シート!CD27=\"\",\"\",申込入力シート!CD27)","v":""},{"$f":"IF(BB20=\"\",\"\",申込入力シート!$L$14)","v":""},{"$f":"IF(BB20=\"\",\"\",申込入力シート!$L$15)","v":""},{"$f":"IF(申込入力シート!CE27=\"\",\"\",申込入力シート!CE27)","v":""}]
[18,{"$f":"IF(申込入力シート!AJ28=\"\",\"\",申込入力シート!AJ28)","v":""},{"$f":"IF(申込入力シート!AK28=\"\",\"\",申込入力シート!AK28)","v":""},"","","",{"$f":"IF(申込入力シート!AL28=\"\",\"\",申込入力シート!AL28&\"　\"&申込入力シート!AM28)","v":""},{"$f":"IF(申込入力シート!AN28=\"\",\"\",IF(LEN(申込入力シート!AN28)=1,\"小\"&\" \"&申込入力シート!AN28,申込入力シート!AN28))","v":""},{"$f":"IF(申込入力シート!AO28=\"\",\"\",申込入力シート!AO28)","v":""},{"$f":"IF(申込入力シート!AP28=\"\",\"\",申込入力シート!AP28)","v":""},{"$f":"IF(B21=\"\",\"\",申込入力シート!$L$14)","v":""},{"$f":"IF(B21=\"\",\"\",申込入力シート!$L$15)","v":""},{"$f":"IF(申込入力シート!AQ28=\"\",\"\",申込入力シート!AQ28)","v":""},18,{"$f":"IF(申込入力シート!AT28=\"\",\"\",申込入力シート!AT28)","v":""},{"$f":"IF(申込入力シート!AU28=\"\",\"\",申込入力シート!AU28)","v":""},"","","",{"$f":"IF(申込入力シート!AV28=\"\",\"\",申込入力シート!AV28&\"　\"&申込入力シート!AW28)","v":""},{"$f":"IF(申込入力シート!AX28=\"\",\"\",\"小\"&\" \"&申込入力シート!AX28)","v":""},{"$f":"IF(申込入力シート!AY28=\"\",\"\",申込入力シート!AY28)","v":""},{"$f":"IF(申込入力シート!AZ28=\"\",\"\",申込入力シート!AZ28)","v":""},{"$f":"IF(O21=\"\",\"\",申込入力シート!$L$14)","v":""},{"$f":"IF(O21=\"\",\"\",申込入力シート!$L$15)","v":""},{"$f":"IF(申込入力シート!BA28=\"\",\"\",申込入力シート!BA28)","v":""},18,{"$f":"IF(申込入力シート!BD28=\"\",\"\",申込入力シート!BD28)","v":""},{"$f":"IF(申込入力シート!BE28=\"\",\"\",申込入力シート!BE28)","v":""},"","","",{"$f":"IF(申込入力シート!BF28=\"\",\"\",申込入力シート!BF28&\"　\"&申込入力シート!BG28)","v":""},{"$f":"IF(申込入力シート!BH28=\"\",\"\",\"中\"&\" \"&申込入力シート!BH28)","v":""},{"$f":"IF(申込入力シート!BI28=\"\",\"\",申込入力シート!BI28)","v":""},{"$f":"IF(申込入力シート!BJ28=\"\",\"\",申込入力シート!BJ28)","v":""},{"$f":"IF(AB21=\"\",\"\",申込入力シート!$L$14)","v":""},{"$f":"IF(AB21=\"\",\"\",申込入力シート!$L$15)","v":""},{"$f":"IF(申込入力シート!BK28=\"\",\"\",申込入力シート!BK28)","v":""},18,{"$f":"IF(申込入力シート!BN28=\"\",\"\",申込入力シート!BN28)","v":""},{"$f":"IF(申込入力シート!BO28=\"\",\"\",申込入力シート!BO28)","v":""},"","","",{"$f":"IF(申込入力シート!BP28=\"\",\"\",申込入力シート!BP28&\"　\"&申込入力シート!BQ28)","v":""},{"$f":"IF(申込入力シート!BR28=\"\",\"\",\"高\"&\" \"&申込入力シート!BR28)","v":""},{"$f":"IF(申込入力シート!BS28=\"\",\"\",申込入力シート!BS28)","v":""},{"$f":"IF(申込入力シート!BT28=\"\",\"\",申込入力シート!BT28)","v":""},{"$f":"IF(処理!AO21=\"\",\"\",申込入力シート!$L$14)","v":""},{"$f":"IF(AO21=\"\",\"\",申込入力シート!$L$15)","v":""},{"$f":"IF(申込入力シート!BU28=\"\",\"\",申込入力シート!BU28)","v":""},18,{"$f":"IF(申込入力シート!BX28=\"\",\"\",申込入力シート!BX28)","v":""},{"$f":"IF(申込入力シート!BY28=\"\",\"\",申込入力シート!BY28)","v":""},"","","",{"$f":"IF(申込入力シート!BZ28=\"\",\"\",申込入力シート!BZ28&\"　\"&申込入力シート!CA28)","v":""},{"$f":"IF(申込入力シート!CB28=\"\",\"\",申込入力シート!CB28&\" \"&\"才\")","v":""},{"$f":"IF(申込入力シート!CC28=\"\",\"\",申込入力シート!CC28)","v":""},{"$f":"IF(申込入力シート!CD28=\"\",\"\",申込入力シート!CD28)","v":""},{"$f":"IF(BB21=\"\",\"\",申込入力シート!$L$14)","v":""},{"$f":"IF(BB21=\"\",\"\",申込入力シート!$L$15)","v":""},{"$f":"IF(申込入力シート!CE28=\"\",\"\",申込入力シート!CE28)","v":""}]
[19,{"$f":"IF(申込入力シート!AJ29=\"\",\"\",申込入力シート!AJ29)","v":""},{"$f":"IF(申込入力シート!AK29=\"\",\"\",申込入力シート!AK29)","v":""},"","","",{"$f":"IF(申込入力シート!AL29=\"\",\"\",申込入力シート!AL29&\"　\"&申込入力シート!AM29)","v":""},{"$f":"IF(申込入力シート!AN29=\"\",\"\",IF(LEN(申込入力シート!AN29)=1,\"小\"&\" \"&申込入力シート!AN29,申込入力シート!AN29))","v":""},{"$f":"IF(申込入力シート!AO29=\"\",\"\",申込入力シート!AO29)","v":""},{"$f":"IF(申込入力シート!AP29=\"\",\"\",申込入力シート!AP29)","v":""},{"$f":"IF(B22=\"\",\"\",申込入力シート!$L$14)","v":""},{"$f":"IF(B22=\"\",\"\",申込入力シート!$L$15)","v":""},{"$f":"IF(申込入力シート!AQ29=\"\",\"\",申込入力シート!AQ29)","v":""},19,{"$f":"IF(申込入力シート!AT29=\"\",\"\",申込入力シート!AT29)","v":""},{"$f":"IF(申込入力シート!AU29=\"\",\"\",申込入力シート!AU29)","v":""},"","","",{"$f":"IF(申込入力シート!AV29=\"\",\"\",申込入力シート!AV29&\"　\"&申込入力シート!AW29)","v":""},{"$f":"IF(申込入力シート!AX29=\"\",\"\",\"小\"&\" \"&申込入力シート!AX29)","v":""},{"$f":"IF(申込入力シート!AY29=\"\",\"\",申込入力シート!AY29)","v":""},{"$f":"IF(申込入力シート!AZ29=\"\",\"\",申込入力シート!AZ29)","v":""},{"$f":"IF(O22=\"\",\"\",申込入力シート!$L$14)","v":""},{"$f":"IF(O22=\"\",\"\",申込入力シート!$L$15)","v":""},{"$f":"IF(申込入力シート!BA29=\"\",\"\",申込入力シート!BA29)","v":""},19,{"$f":"IF(申込入力シート!BD29=\"\",\"\",申込入力シート!BD29)","v":""},{"$f":"IF(申込入力シート!BE29=\"\",\"\",申込入力シート!BE29)","v":""},"","","",{"$f":"IF(申込入力シート!BF29=\"\",\"\",申込入力シート!BF29&\"　\"&申込入力シート!BG29)","v":""},{"$f":"IF(申込入力シート!BH29=\"\",\"\",\"中\"&\" \"&申込入力シート!BH29)","v":""},{"$f":"IF(申込入力シート!BI29=\"\",\"\",申込入力シート!BI29)","v":""},{"$f":"IF(申込入力シート!BJ29=\"\",\"\",申込入力シート!BJ29)","v":""},{"$f":"IF(AB22=\"\",\"\",申込入力シート!$L$14)","v":""},{"$f":"IF(AB22=\"\",\"\",申込入力シート!$L$15)","v":""},{"$f":"IF(申込入力シート!BK29=\"\",\"\",申込入力シート!BK29)","v":""},19,{"$f":"IF(申込入力シート!BN29=\"\",\"\",申込入力シート!BN29)","v":""},{"$f":"IF(申込入力シート!BO29=\"\",\"\",申込入力シート!BO29)","v":""},"","","",{"$f":"IF(申込入力シート!BP29=\"\",\"\",申込入力シート!BP29&\"　\"&申込入力シート!BQ29)","v":""},{"$f":"IF(申込入力シート!BR29=\"\",\"\",\"高\"&\" \"&申込入力シート!BR29)","v":""},{"$f":"IF(申込入力シート!BS29=\"\",\"\",申込入力シート!BS29)","v":""},{"$f":"IF(申込入力シート!BT29=\"\",\"\",申込入力シート!BT29)","v":""},{"$f":"IF(処理!AO22=\"\",\"\",申込入力シート!$L$14)","v":""},{"$f":"IF(AO22=\"\",\"\",申込入力シート!$L$15)","v":""},{"$f":"IF(申込入力シート!BU29=\"\",\"\",申込入力シート!BU29)","v":""},19,{"$f":"IF(申込入力シート!BX29=\"\",\"\",申込入力シート!BX29)","v":""},{"$f":"IF(申込入力シート!BY29=\"\",\"\",申込入力シート!BY29)","v":""},"","","",{"$f":"IF(申込入力シート!BZ29=\"\",\"\",申込入力シート!BZ29&\"　\"&申込入力シート!CA29)","v":""},{"$f":"IF(申込入力シート!CB29=\"\",\"\",申込入力シート!CB29&\" \"&\"才\")","v":""},{"$f":"IF(申込入力シート!CC29=\"\",\"\",申込入力シート!CC29)","v":""},{"$f":"IF(申込入力シート!CD29=\"\",\"\",申込入力シート!CD29)","v":""},{"$f":"IF(BB22=\"\",\"\",申込入力シート!$L$14)","v":""},{"$f":"IF(BB22=\"\",\"\",申込入力シート!$L$15)","v":""},{"$f":"IF(申込入力シート!CE29=\"\",\"\",申込入力シート!CE29)","v":""}]
[20,{"$f":"IF(申込入力シート!AJ30=\"\",\"\",申込入力シート!AJ30)","v":""},{"$f":"IF(申込入力シート!AK30=\"\",\"\",申込入力シート!AK30)","v":""},"","","",{"$f":"IF(申込入力シート!AL30=\"\",\"\",申込入力シート!AL30&\"　\"&申込入力シート!AM30)","v":""},{"$f":"IF(申込入力シート!AN30=\"\",\"\",IF(LEN(申込入力シート!AN30)=1,\"小\"&\" \"&申込入力シート!AN30,申込入力シート!AN30))","v":""},{"$f":"IF(申込入力シート!AO30=\"\",\"\",申込入力シート!AO30)","v":""},{"$f":"IF(申込入力シート!AP30=\"\",\"\",申込入力シート!AP30)","v":""},{"$f":"IF(B23=\"\",\"\",申込入力シート!$L$14)","v":""},{"$f":"IF(B23=\"\",\"\",申込入力シート!$L$15)","v":""},{"$f":"IF(申込入力シート!AQ30=\"\",\"\",申込入力シート!AQ30)","v":""},20,{"$f":"IF(申込入力シート!AT30=\"\",\"\",申込入力シート!AT30)","v":""},{"$f":"IF(申込入力シート!AU30=\"\",\"\",申込入力シート!AU30)","v":""},"","","",{"$f":"IF(申込入力シート!AV30=\"\",\"\",申込入力シート!AV30&\"　\"&申込入力シート!AW30)","v":""},{"$f":"IF(申込入力シート!AX30=\"\",\"\",\"小\"&\" \"&申込入力シート!AX30)","v":""},{"$f":"IF(申込入力シート!AY30=\"\",\"\",申込入力シート!AY30)","v":""},{"$f":"IF(申込入力シート!AZ30=\"\",\"\",申込入力シート!AZ30)","v":""},{"$f":"IF(O23=\"\",\"\",申込入力シート!$L$14)","v":""},{"$f":"IF(O23=\"\",\"\",申込入力シート!$L$15)","v":""},{"$f":"IF(申込入力シート!BA30=\"\",\"\",申込入力シート!BA30)","v":""},20,{"$f":"IF(申込入力シート!BD30=\"\",\"\",申込入力シート!BD30)","v":""},{"$f":"IF(申込入力シート!BE30=\"\",\"\",申込入力シート!BE30)","v":""},"","","",{"$f":"IF(申込入力シート!BF30=\"\",\"\",申込入力シート!BF30&\"　\"&申込入力シート!BG30)","v":""},{"$f":"IF(申込入力シート!BH30=\"\",\"\",\"中\"&\" \"&申込入力シート!BH30)","v":""},{"$f":"IF(申込入力シート!BI30=\"\",\"\",申込入力シート!BI30)","v":""},{"$f":"IF(申込入力シート!BJ30=\"\",\"\",申込入力シート!BJ30)","v":""},{"$f":"IF(AB23=\"\",\"\",申込入力シート!$L$14)","v":""},{"$f":"IF(AB23=\"\",\"\",申込入力シート!$L$15)","v":""},{"$f":"IF(申込入力シート!BK30=\"\",\"\",申込入力シート!BK30)","v":""},20,{"$f":"IF(申込入力シート!BN30=\"\",\"\",申込入力シート!BN30)","v":""},{"$f":"IF(申込入力シート!BO30=\"\",\"\",申込入力シート!BO30)","v":""},"","","",{"$f":"IF(申込入力シート!BP30=\"\",\"\",申込入力シート!BP30&\"　\"&申込入力シート!BQ30)","v":""},{"$f":"IF(申込入力シート!BR30=\"\",\"\",\"高\"&\" \"&申込入力シート!BR30)","v":""},{"$f":"IF(申込入力シート!BS30=\"\",\"\",申込入力シート!BS30)","v":""},{"$f":"IF(申込入力シート!BT30=\"\",\"\",申込入力シート!BT30)","v":""},{"$f":"IF(処理!AO23=\"\",\"\",申込入力シート!$L$14)","v":""},{"$f":"IF(AO23=\"\",\"\",申込入力シート!$L$15)","v":""},{"$f":"IF(申込入力シート!BU30=\"\",\"\",申込入力シート!BU30)","v":""},20,{"$f":"IF(申込入力シート!BX30=\"\",\"\",申込入力シート!BX30)","v":""},{"$f":"IF(申込入力シート!BY30=\"\",\"\",申込入力シート!BY30)","v":""},"","","",{"$f":"IF(申込入力シート!BZ30=\"\",\"\",申込入力シート!BZ30&\"　\"&申込入力シート!CA30)","v":""},{"$f":"IF(申込入力シート!CB30=\"\",\"\",申込入力シート!CB30&\" \"&\"才\")","v":""},{"$f":"IF(申込入力シート!CC30=\"\",\"\",申込入力シート!CC30)","v":""},{"$f":"IF(申込入力シート!CD30=\"\",\"\",申込入力シート!CD30)","v":""},{"$f":"IF(BB23=\"\",\"\",申込入力シート!$L$14)","v":""},{"$f":"IF(BB23=\"\",\"\",申込入力シート!$L$15)","v":""},{"$f":"IF(申込入力シート!CE30=\"\",\"\",申込入力シート!CE30)","v":""}]
[21,{"$f":"IF(申込入力シート!AJ31=\"\",\"\",申込入力シート!AJ31)","v":""},{"$f":"IF(申込入力シート!AK31=\"\",\"\",申込入力シート!AK31)","v":""},"","","",{"$f":"IF(申込入力シート!AL31=\"\",\"\",申込入力シート!AL31&\"　\"&申込入力シート!AM31)","v":""},{"$f":"IF(申込入力シート!AN31=\"\",\"\",IF(LEN(申込入力シート!AN31)=1,\"小\"&\" \"&申込入力シート!AN31,申込入力シート!AN31))","v":""},{"$f":"IF(申込入力シート!AO31=\"\",\"\",申込入力シート!AO31)","v":""},{"$f":"IF(申込入力シート!AP31=\"\",\"\",申込入力シート!AP31)","v":""},{"$f":"IF(B24=\"\",\"\",申込入力シート!$L$14)","v":""},{"$f":"IF(B24=\"\",\"\",申込入力シート!$L$15)","v":""},{"$f":"IF(申込入力シート!AQ31=\"\",\"\",申込入力シート!AQ31)","v":""},21,{"$f":"IF(申込入力シート!AT31=\"\",\"\",申込入力シート!AT31)","v":""},{"$f":"IF(申込入力シート!AU31=\"\",\"\",申込入力シート!AU31)","v":""},"","","",{"$f":"IF(申込入力シート!AV31=\"\",\"\",申込入力シート!AV31&\"　\"&申込入力シート!AW31)","v":""},{"$f":"IF(申込入力シート!AX31=\"\",\"\",\"小\"&\" \"&申込入力シート!AX31)","v":""},{"$f":"IF(申込入力シート!AY31=\"\",\"\",申込入力シート!AY31)","v":""},{"$f":"IF(申込入力シート!AZ31=\"\",\"\",申込入力シート!AZ31)","v":""},{"$f":"IF(O24=\"\",\"\",申込入力シート!$L$14)","v":""},{"$f":"IF(O24=\"\",\"\",申込入力シート!$L$15)","v":""},{"$f":"IF(申込入力シート!BA31=\"\",\"\",申込入力シート!BA31)","v":""},21,{"$f":"IF(申込入力シート!BD31=\"\",\"\",申込入力シート!BD31)","v":""},{"$f":"IF(申込入力シート!BE31=\"\",\"\",申込入力シート!BE31)","v":""},"","","",{"$f":"IF(申込入力シート!BF31=\"\",\"\",申込入力シート!BF31&\"　\"&申込入力シート!BG31)","v":""},{"$f":"IF(申込入力シート!BH31=\"\",\"\",\"中\"&\" \"&申込入力シート!BH31)","v":""},{"$f":"IF(申込入力シート!BI31=\"\",\"\",申込入力シート!BI31)","v":""},{"$f":"IF(申込入力シート!BJ31=\"\",\"\",申込入力シート!BJ31)","v":""},{"$f":"IF(AB24=\"\",\"\",申込入力シート!$L$14)","v":""},{"$f":"IF(AB24=\"\",\"\",申込入力シート!$L$15)","v":""},{"$f":"IF(申込入力シート!BK31=\"\",\"\",申込入力シート!BK31)","v":""},21,{"$f":"IF(申込入力シート!BN31=\"\",\"\",申込入力シート!BN31)","v":""},{"$f":"IF(申込入力シート!BO31=\"\",\"\",申込入力シート!BO31)","v":""},"","","",{"$f":"IF(申込入力シート!BP31=\"\",\"\",申込入力シート!BP31&\"　\"&申込入力シート!BQ31)","v":""},{"$f":"IF(申込入力シート!BR31=\"\",\"\",\"高\"&\" \"&申込入力シート!BR31)","v":""},{"$f":"IF(申込入力シート!BS31=\"\",\"\",申込入力シート!BS31)","v":""},{"$f":"IF(申込入力シート!BT31=\"\",\"\",申込入力シート!BT31)","v":""},{"$f":"IF(処理!AO24=\"\",\"\",申込入力シート!$L$14)","v":""},{"$f":"IF(AO24=\"\",\"\",申込入力シート!$L$15)","v":""},{"$f":"IF(申込入力シート!BU31=\"\",\"\",申込入力シート!BU31)","v":""},21,{"$f":"IF(申込入力シート!BX31=\"\",\"\",申込入力シート!BX31)","v":""},{"$f":"IF(申込入力シート!BY31=\"\",\"\",申込入力シート!BY31)","v":""},"","","",{"$f":"IF(申込入力シート!BZ31=\"\",\"\",申込入力シート!BZ31&\"　\"&申込入力シート!CA31)","v":""},{"$f":"IF(申込入力シート!CB31=\"\",\"\",申込入力シート!CB31&\" \"&\"才\")","v":""},{"$f":"IF(申込入力シート!CC31=\"\",\"\",申込入力シート!CC31)","v":""},{"$f":"IF(申込入力シート!CD31=\"\",\"\",申込入力シート!CD31)","v":""},{"$f":"IF(BB24=\"\",\"\",申込入力シート!$L$14)","v":""},{"$f":"IF(BB24=\"\",\"\",申込入力シート!$L$15)","v":""},{"$f":"IF(申込入力シート!CE31=\"\",\"\",申込入力シート!CE31)","v":""}]
[22,{"$f":"IF(申込入力シート!AJ32=\"\",\"\",申込入力シート!AJ32)","v":""},{"$f":"IF(申込入力シート!AK32=\"\",\"\",申込入力シート!AK32)","v":""},"","","",{"$f":"IF(申込入力シート!AL32=\"\",\"\",申込入力シート!AL32&\"　\"&申込入力シート!AM32)","v":""},{"$f":"IF(申込入力シート!AN32=\"\",\"\",IF(LEN(申込入力シート!AN32)=1,\"小\"&\" \"&申込入力シート!AN32,申込入力シート!AN32))","v":""},{"$f":"IF(申込入力シート!AO32=\"\",\"\",申込入力シート!AO32)","v":""},{"$f":"IF(申込入力シート!AP32=\"\",\"\",申込入力シート!AP32)","v":""},{"$f":"IF(B25=\"\",\"\",申込入力シート!$L$14)","v":""},{"$f":"IF(B25=\"\",\"\",申込入力シート!$L$15)","v":""},{"$f":"IF(申込入力シート!AQ32=\"\",\"\",申込入力シート!AQ32)","v":""},22,{"$f":"IF(申込入力シート!AT32=\"\",\"\",申込入力シート!AT32)","v":""},{"$f":"IF(申込入力シート!AU32=\"\",\"\",申込入力シート!AU32)","v":""},"","","",{"$f":"IF(申込入力シート!AV32=\"\",\"\",申込入力シート!AV32&\"　\"&申込入力シート!AW32)","v":""},{"$f":"IF(申込入力シート!AX32=\"\",\"\",\"小\"&\" \"&申込入力シート!AX32)","v":""},{"$f":"IF(申込入力シート!AY32=\"\",\"\",申込入力シート!AY32)","v":""},{"$f":"IF(申込入力シート!AZ32=\"\",\"\",申込入力シート!AZ32)","v":""},{"$f":"IF(O25=\"\",\"\",申込入力シート!$L$14)","v":""},{"$f":"IF(O25=\"\",\"\",申込入力シート!$L$15)","v":""},{"$f":"IF(申込入力シート!BA32=\"\",\"\",申込入力シート!BA32)","v":""},22,{"$f":"IF(申込入力シート!BD32=\"\",\"\",申込入力シート!BD32)","v":""},{"$f":"IF(申込入力シート!BE32=\"\",\"\",申込入力シート!BE32)","v":""},"","","",{"$f":"IF(申込入力シート!BF32=\"\",\"\",申込入力シート!BF32&\"　\"&申込入力シート!BG32)","v":""},{"$f":"IF(申込入力シート!BH32=\"\",\"\",\"中\"&\" \"&申込入力シート!BH32)","v":""},{"$f":"IF(申込入力シート!BI32=\"\",\"\",申込入力シート!BI32)","v":""},{"$f":"IF(申込入力シート!BJ32=\"\",\"\",申込入力シート!BJ32)","v":""},{"$f":"IF(AB25=\"\",\"\",申込入力シート!$L$14)","v":""},{"$f":"IF(AB25=\"\",\"\",申込入力シート!$L$15)","v":""},{"$f":"IF(申込入力シート!BK32=\"\",\"\",申込入力シート!BK32)","v":""},22,{"$f":"IF(申込入力シート!BN32=\"\",\"\",申込入力シート!BN32)","v":""},{"$f":"IF(申込入力シート!BO32=\"\",\"\",申込入力シート!BO32)","v":""},"","","",{"$f":"IF(申込入力シート!BP32=\"\",\"\",申込入力シート!BP32&\"　\"&申込入力シート!BQ32)","v":""},{"$f":"IF(申込入力シート!BR32=\"\",\"\",\"高\"&\" \"&申込入力シート!BR32)","v":""},{"$f":"IF(申込入力シート!BS32=\"\",\"\",申込入力シート!BS32)","v":""},{"$f":"IF(申込入力シート!BT32=\"\",\"\",申込入力シート!BT32)","v":""},{"$f":"IF(処理!AO25=\"\",\"\",申込入力シート!$L$14)","v":""},{"$f":"IF(AO25=\"\",\"\",申込入力シート!$L$15)","v":""},{"$f":"IF(申込入力シート!BU32=\"\",\"\",申込入力シート!BU32)","v":""},22,{"$f":"IF(申込入力シート!BX32=\"\",\"\",申込入力シート!BX32)","v":""},{"$f":"IF(申込入力シート!BY32=\"\",\"\",申込入力シート!BY32)","v":""},"","","",{"$f":"IF(申込入力シート!BZ32=\"\",\"\",申込入力シート!BZ32&\"　\"&申込入力シート!CA32)","v":""},{"$f":"IF(申込入力シート!CB32=\"\",\"\",申込入力シート!CB32&\" \"&\"才\")","v":""},{"$f":"IF(申込入力シート!CC32=\"\",\"\",申込入力シート!CC32)","v":""},{"$f":"IF(申込入力シート!CD32=\"\",\"\",申込入力シート!CD32)","v":""},{"$f":"IF(BB25=\"\",\"\",申込入力シート!$L$14)","v":""},{"$f":"IF(BB25=\"\",\"\",申込入力シート!$L$15)","v":""},{"$f":"IF(申込入力シート!CE32=\"\",\"\",申込入力シート!CE32)","v":""}]
[23,{"$f":"IF(申込入力シート!AJ33=\"\",\"\",申込入力シート!AJ33)","v":""},{"$f":"IF(申込入力シート!AK33=\"\",\"\",申込入力シート!AK33)","v":""},"","","",{"$f":"IF(申込入力シート!AL33=\"\",\"\",申込入力シート!AL33&\"　\"&申込入力シート!AM33)","v":""},{"$f":"IF(申込入力シート!AN33=\"\",\"\",IF(LEN(申込入力シート!AN33)=1,\"小\"&\" \"&申込入力シート!AN33,申込入力シート!AN33))","v":""},{"$f":"IF(申込入力シート!AO33=\"\",\"\",申込入力シート!AO33)","v":""},{"$f":"IF(申込入力シート!AP33=\"\",\"\",申込入力シート!AP33)","v":""},{"$f":"IF(B26=\"\",\"\",申込入力シート!$L$14)","v":""},{"$f":"IF(B26=\"\",\"\",申込入力シート!$L$15)","v":""},{"$f":"IF(申込入力シート!AQ33=\"\",\"\",申込入力シート!AQ33)","v":""},23,{"$f":"IF(申込入力シート!AT33=\"\",\"\",申込入力シート!AT33)","v":""},{"$f":"IF(申込入力シート!AU33=\"\",\"\",申込入力シート!AU33)","v":""},"","","",{"$f":"IF(申込入力シート!AV33=\"\",\"\",申込入力シート!AV33&\"　\"&申込入力シート!AW33)","v":""},{"$f":"IF(申込入力シート!AX33=\"\",\"\",\"小\"&\" \"&申込入力シート!AX33)","v":""},{"$f":"IF(申込入力シート!AY33=\"\",\"\",申込入力シート!AY33)","v":""},{"$f":"IF(申込入力シート!AZ33=\"\",\"\",申込入力シート!AZ33)","v":""},{"$f":"IF(O26=\"\",\"\",申込入力シート!$L$14)","v":""},{"$f":"IF(O26=\"\",\"\",申込入力シート!$L$15)","v":""},{"$f":"IF(申込入力シート!BA33=\"\",\"\",申込入力シート!BA33)","v":""},23,{"$f":"IF(申込入力シート!BD33=\"\",\"\",申込入力シート!BD33)","v":""},{"$f":"IF(申込入力シート!BE33=\"\",\"\",申込入力シート!BE33)","v":""},"","","",{"$f":"IF(申込入力シート!BF33=\"\",\"\",申込入力シート!BF33&\"　\"&申込入力シート!BG33)","v":""},{"$f":"IF(申込入力シート!BH33=\"\",\"\",\"中\"&\" \"&申込入力シート!BH33)","v":""},{"$f":"IF(申込入力シート!BI33=\"\",\"\",申込入力シート!BI33)","v":""},{"$f":"IF(申込入力シート!BJ33=\"\",\"\",申込入力シート!BJ33)","v":""},{"$f":"IF(AB26=\"\",\"\",申込入力シート!$L$14)","v":""},{"$f":"IF(AB26=\"\",\"\",申込入力シート!$L$15)","v":""},{"$f":"IF(申込入力シート!BK33=\"\",\"\",申込入力シート!BK33)","v":""},23,{"$f":"IF(申込入力シート!BN33=\"\",\"\",申込入力シート!BN33)","v":""},{"$f":"IF(申込入力シート!BO33=\"\",\"\",申込入力シート!BO33)","v":""},"","","",{"$f":"IF(申込入力シート!BP33=\"\",\"\",申込入力シート!BP33&\"　\"&申込入力シート!BQ33)","v":""},{"$f":"IF(申込入力シート!BR33=\"\",\"\",\"高\"&\" \"&申込入力シート!BR33)","v":""},{"$f":"IF(申込入力シート!BS33=\"\",\"\",申込入力シート!BS33)","v":""},{"$f":"IF(申込入力シート!BT33=\"\",\"\",申込入力シート!BT33)","v":""},{"$f":"IF(処理!AO26=\"\",\"\",申込入力シート!$L$14)","v":""},{"$f":"IF(AO26=\"\",\"\",申込入力シート!$L$15)","v":""},{"$f":"IF(申込入力シート!BU33=\"\",\"\",申込入力シート!BU33)","v":""},23,{"$f":"IF(申込入力シート!BX33=\"\",\"\",申込入力シート!BX33)","v":""},{"$f":"IF(申込入力シート!BY33=\"\",\"\",申込入力シート!BY33)","v":""},"","","",{"$f":"IF(申込入力シート!BZ33=\"\",\"\",申込入力シート!BZ33&\"　\"&申込入力シート!CA33)","v":""},{"$f":"IF(申込入力シート!CB33=\"\",\"\",申込入力シート!CB33&\" \"&\"才\")","v":""},{"$f":"IF(申込入力シート!CC33=\"\",\"\",申込入力シート!CC33)","v":""},{"$f":"IF(申込入力シート!CD33=\"\",\"\",申込入力シート!CD33)","v":""},{"$f":"IF(BB26=\"\",\"\",申込入力シート!$L$14)","v":""},{"$f":"IF(BB26=\"\",\"\",申込入力シート!$L$15)","v":""},{"$f":"IF(申込入力シート!CE33=\"\",\"\",申込入力シート!CE33)","v":""}]
[24,{"$f":"IF(申込入力シート!AJ34=\"\",\"\",申込入力シート!AJ34)","v":""},{"$f":"IF(申込入力シート!AK34=\"\",\"\",申込入力シート!AK34)","v":""},"","","",{"$f":"IF(申込入力シート!AL34=\"\",\"\",申込入力シート!AL34&\"　\"&申込入力シート!AM34)","v":""},{"$f":"IF(申込入力シート!AN34=\"\",\"\",IF(LEN(申込入力シート!AN34)=1,\"小\"&\" \"&申込入力シート!AN34,申込入力シート!AN34))","v":""},{"$f":"IF(申込入力シート!AO34=\"\",\"\",申込入力シート!AO34)","v":""},{"$f":"IF(申込入力シート!AP34=\"\",\"\",申込入力シート!AP34)","v":""},{"$f":"IF(B27=\"\",\"\",申込入力シート!$L$14)","v":""},{"$f":"IF(B27=\"\",\"\",申込入力シート!$L$15)","v":""},{"$f":"IF(申込入力シート!AQ34=\"\",\"\",申込入力シート!AQ34)","v":""},24,{"$f":"IF(申込入力シート!AT34=\"\",\"\",申込入力シート!AT34)","v":""},{"$f":"IF(申込入力シート!AU34=\"\",\"\",申込入力シート!AU34)","v":""},"","","",{"$f":"IF(申込入力シート!AV34=\"\",\"\",申込入力シート!AV34&\"　\"&申込入力シート!AW34)","v":""},{"$f":"IF(申込入力シート!AX34=\"\",\"\",\"小\"&\" \"&申込入力シート!AX34)","v":""},{"$f":"IF(申込入力シート!AY34=\"\",\"\",申込入力シート!AY34)","v":""},{"$f":"IF(申込入力シート!AZ34=\"\",\"\",申込入力シート!AZ34)","v":""},{"$f":"IF(O27=\"\",\"\",申込入力シート!$L$14)","v":""},{"$f":"IF(O27=\"\",\"\",申込入力シート!$L$15)","v":""},{"$f":"IF(申込入力シート!BA34=\"\",\"\",申込入力シート!BA34)","v":""},24,{"$f":"IF(申込入力シート!BD34=\"\",\"\",申込入力シート!BD34)","v":""},{"$f":"IF(申込入力シート!BE34=\"\",\"\",申込入力シート!BE34)","v":""},"","","",{"$f":"IF(申込入力シート!BF34=\"\",\"\",申込入力シート!BF34&\"　\"&申込入力シート!BG34)","v":""},{"$f":"IF(申込入力シート!BH34=\"\",\"\",\"中\"&\" \"&申込入力シート!BH34)","v":""},{"$f":"IF(申込入力シート!BI34=\"\",\"\",申込入力シート!BI34)","v":""},{"$f":"IF(申込入力シート!BJ34=\"\",\"\",申込入力シート!BJ34)","v":""},{"$f":"IF(AB27=\"\",\"\",申込入力シート!$L$14)","v":""},{"$f":"IF(AB27=\"\",\"\",申込入力シート!$L$15)","v":""},{"$f":"IF(申込入力シート!BK34=\"\",\"\",申込入力シート!BK34)","v":""},24,{"$f":"IF(申込入力シート!BN34=\"\",\"\",申込入力シート!BN34)","v":""},{"$f":"IF(申込入力シート!BO34=\"\",\"\",申込入力シート!BO34)","v":""},"","","",{"$f":"IF(申込入力シート!BP34=\"\",\"\",申込入力シート!BP34&\"　\"&申込入力シート!BQ34)","v":""},{"$f":"IF(申込入力シート!BR34=\"\",\"\",\"高\"&\" \"&申込入力シート!BR34)","v":""},{"$f":"IF(申込入力シート!BS34=\"\",\"\",申込入力シート!BS34)","v":""},{"$f":"IF(申込入力シート!BT34=\"\",\"\",申込入力シート!BT34)","v":""},{"$f":"IF(処理!AO27=\"\",\"\",申込入力シート!$L$14)","v":""},{"$f":"IF(AO27=\"\",\"\",申込入力シート!$L$15)","v":""},{"$f":"IF(申込入力シート!BU34=\"\",\"\",申込入力シート!BU34)","v":""},24,{"$f":"IF(申込入力シート!BX34=\"\",\"\",申込入力シート!BX34)","v":""},{"$f":"IF(申込入力シート!BY34=\"\",\"\",申込入力シート!BY34)","v":""},"","","",{"$f":"IF(申込入力シート!BZ34=\"\",\"\",申込入力シート!BZ34&\"　\"&申込入力シート!CA34)","v":""},{"$f":"IF(申込入力シート!CB34=\"\",\"\",申込入力シート!CB34&\" \"&\"才\")","v":""},{"$f":"IF(申込入力シート!CC34=\"\",\"\",申込入力シート!CC34)","v":""},{"$f":"IF(申込入力シート!CD34=\"\",\"\",申込入力シート!CD34)","v":""},{"$f":"IF(BB27=\"\",\"\",申込入力シート!$L$14)","v":""},{"$f":"IF(BB27=\"\",\"\",申込入力シート!$L$15)","v":""},{"$f":"IF(申込入力シート!CE34=\"\",\"\",申込入力シート!CE34)","v":""}]
[25,{"$f":"IF(申込入力シート!AJ35=\"\",\"\",申込入力シート!AJ35)","v":""},{"$f":"IF(申込入力シート!AK35=\"\",\"\",申込入力シート!AK35)","v":""},"","","",{"$f":"IF(申込入力シート!AL35=\"\",\"\",申込入力シート!AL35&\"　\"&申込入力シート!AM35)","v":""},{"$f":"IF(申込入力シート!AN35=\"\",\"\",IF(LEN(申込入力シート!AN35)=1,\"小\"&\" \"&申込入力シート!AN35,申込入力シート!AN35))","v":""},{"$f":"IF(申込入力シート!AO35=\"\",\"\",申込入力シート!AO35)","v":""},{"$f":"IF(申込入力シート!AP35=\"\",\"\",申込入力シート!AP35)","v":""},{"$f":"IF(B28=\"\",\"\",申込入力シート!$L$14)","v":""},{"$f":"IF(B28=\"\",\"\",申込入力シート!$L$15)","v":""},{"$f":"IF(申込入力シート!AQ35=\"\",\"\",申込入力シート!AQ35)","v":""},25,{"$f":"IF(申込入力シート!AT35=\"\",\"\",申込入力シート!AT35)","v":""},{"$f":"IF(申込入力シート!AU35=\"\",\"\",申込入力シート!AU35)","v":""},"","","",{"$f":"IF(申込入力シート!AV35=\"\",\"\",申込入力シート!AV35&\"　\"&申込入力シート!AW35)","v":""},{"$f":"IF(申込入力シート!AX35=\"\",\"\",\"小\"&\" \"&申込入力シート!AX35)","v":""},{"$f":"IF(申込入力シート!AY35=\"\",\"\",申込入力シート!AY35)","v":""},{"$f":"IF(申込入力シート!AZ35=\"\",\"\",申込入力シート!AZ35)","v":""},{"$f":"IF(O28=\"\",\"\",申込入力シート!$L$14)","v":""},{"$f":"IF(O28=\"\",\"\",申込入力シート!$L$15)","v":""},{"$f":"IF(申込入力シート!BA35=\"\",\"\",申込入力シート!BA35)","v":""},25,{"$f":"IF(申込入力シート!BD35=\"\",\"\",申込入力シート!BD35)","v":""},{"$f":"IF(申込入力シート!BE35=\"\",\"\",申込入力シート!BE35)","v":""},"","","",{"$f":"IF(申込入力シート!BF35=\"\",\"\",申込入力シート!BF35&\"　\"&申込入力シート!BG35)","v":""},{"$f":"IF(申込入力シート!BH35=\"\",\"\",\"中\"&\" \"&申込入力シート!BH35)","v":""},{"$f":"IF(申込入力シート!BI35=\"\",\"\",申込入力シート!BI35)","v":""},{"$f":"IF(申込入力シート!BJ35=\"\",\"\",申込入力シート!BJ35)","v":""},{"$f":"IF(AB28=\"\",\"\",申込入力シート!$L$14)","v":""},{"$f":"IF(AB28=\"\",\"\",申込入力シート!$L$15)","v":""},{"$f":"IF(申込入力シート!BK35=\"\",\"\",申込入力シート!BK35)","v":""},25,{"$f":"IF(申込入力シート!BN35=\"\",\"\",申込入力シート!BN35)","v":""},{"$f":"IF(申込入力シート!BO35=\"\",\"\",申込入力シート!BO35)","v":""},"","","",{"$f":"IF(申込入力シート!BP35=\"\",\"\",申込入力シート!BP35&\"　\"&申込入力シート!BQ35)","v":""},{"$f":"IF(申込入力シート!BR35=\"\",\"\",\"高\"&\" \"&申込入力シート!BR35)","v":""},{"$f":"IF(申込入力シート!BS35=\"\",\"\",申込入力シート!BS35)","v":""},{"$f":"IF(申込入力シート!BT35=\"\",\"\",申込入力シート!BT35)","v":""},{"$f":"IF(処理!AO28=\"\",\"\",申込入力シート!$L$14)","v":""},{"$f":"IF(AO28=\"\",\"\",申込入力シート!$L$15)","v":""},{"$f":"IF(申込入力シート!BU35=\"\",\"\",申込入力シート!BU35)","v":""},25,{"$f":"IF(申込入力シート!BX35=\"\",\"\",申込入力シート!BX35)","v":""},{"$f":"IF(申込入力シート!BY35=\"\",\"\",申込入力シート!BY35)","v":""},"","","",{"$f":"IF(申込入力シート!BZ35=\"\",\"\",申込入力シート!BZ35&\"　\"&申込入力シート!CA35)","v":""},{"$f":"IF(申込入力シート!CB35=\"\",\"\",申込入力シート!CB35&\" \"&\"才\")","v":""},{"$f":"IF(申込入力シート!CC35=\"\",\"\",申込入力シート!CC35)","v":""},{"$f":"IF(申込入力シート!CD35=\"\",\"\",申込入力シート!CD35)","v":""},{"$f":"IF(BB28=\"\",\"\",申込入力シート!$L$14)","v":""},{"$f":"IF(BB28=\"\",\"\",申込入力シート!$L$15)","v":""},{"$f":"IF(申込入力シート!CE35=\"\",\"\",申込入力シート!CE35)","v":""}]
[26,{"$f":"IF(申込入力シート!AJ36=\"\",\"\",申込入力シート!AJ36)","v":""},{"$f":"IF(申込入力シート!AK36=\"\",\"\",申込入力シート!AK36)","v":""},"","","",{"$f":"IF(申込入力シート!AL36=\"\",\"\",申込入力シート!AL36&\"　\"&申込入力シート!AM36)","v":""},{"$f":"IF(申込入力シート!AN36=\"\",\"\",IF(LEN(申込入力シート!AN36)=1,\"小\"&\" \"&申込入力シート!AN36,申込入力シート!AN36))","v":""},{"$f":"IF(申込入力シート!AO36=\"\",\"\",申込入力シート!AO36)","v":""},{"$f":"IF(申込入力シート!AP36=\"\",\"\",申込入力シート!AP36)","v":""},{"$f":"IF(B29=\"\",\"\",申込入力シート!$L$14)","v":""},{"$f":"IF(B29=\"\",\"\",申込入力シート!$L$15)","v":""},{"$f":"IF(申込入力シート!AQ36=\"\",\"\",申込入力シート!AQ36)","v":""},26,{"$f":"IF(申込入力シート!AT36=\"\",\"\",申込入力シート!AT36)","v":""},{"$f":"IF(申込入力シート!AU36=\"\",\"\",申込入力シート!AU36)","v":""},"","","",{"$f":"IF(申込入力シート!AV36=\"\",\"\",申込入力シート!AV36&\"　\"&申込入力シート!AW36)","v":""},{"$f":"IF(申込入力シート!AX36=\"\",\"\",\"小\"&\" \"&申込入力シート!AX36)","v":""},{"$f":"IF(申込入力シート!AY36=\"\",\"\",申込入力シート!AY36)","v":""},{"$f":"IF(申込入力シート!AZ36=\"\",\"\",申込入力シート!AZ36)","v":""},{"$f":"IF(O29=\"\",\"\",申込入力シート!$L$14)","v":""},{"$f":"IF(O29=\"\",\"\",申込入力シート!$L$15)","v":""},{"$f":"IF(申込入力シート!BA36=\"\",\"\",申込入力シート!BA36)","v":""},26,{"$f":"IF(申込入力シート!BD36=\"\",\"\",申込入力シート!BD36)","v":""},{"$f":"IF(申込入力シート!BE36=\"\",\"\",申込入力シート!BE36)","v":""},"","","",{"$f":"IF(申込入力シート!BF36=\"\",\"\",申込入力シート!BF36&\"　\"&申込入力シート!BG36)","v":""},{"$f":"IF(申込入力シート!BH36=\"\",\"\",\"中\"&\" \"&申込入力シート!BH36)","v":""},{"$f":"IF(申込入力シート!BI36=\"\",\"\",申込入力シート!BI36)","v":""},{"$f":"IF(申込入力シート!BJ36=\"\",\"\",申込入力シート!BJ36)","v":""},{"$f":"IF(AB29=\"\",\"\",申込入力シート!$L$14)","v":""},{"$f":"IF(AB29=\"\",\"\",申込入力シート!$L$15)","v":""},{"$f":"IF(申込入力シート!BK36=\"\",\"\",申込入力シート!BK36)","v":""},26,{"$f":"IF(申込入力シート!BN36=\"\",\"\",申込入力シート!BN36)","v":""},{"$f":"IF(申込入力シート!BO36=\"\",\"\",申込入力シート!BO36)","v":""},"","","",{"$f":"IF(申込入力シート!BP36=\"\",\"\",申込入力シート!BP36&\"　\"&申込入力シート!BQ36)","v":""},{"$f":"IF(申込入力シート!BR36=\"\",\"\",\"高\"&\" \"&申込入力シート!BR36)","v":""},{"$f":"IF(申込入力シート!BS36=\"\",\"\",申込入力シート!BS36)","v":""},{"$f":"IF(申込入力シート!BT36=\"\",\"\",申込入力シート!BT36)","v":""},{"$f":"IF(処理!AO29=\"\",\"\",申込入力シート!$L$14)","v":""},{"$f":"IF(AO29=\"\",\"\",申込入力シート!$L$15)","v":""},{"$f":"IF(申込入力シート!BU36=\"\",\"\",申込入力シート!BU36)","v":""},26,{"$f":"IF(申込入力シート!BX36=\"\",\"\",申込入力シート!BX36)","v":""},{"$f":"IF(申込入力シート!BY36=\"\",\"\",申込入力シート!BY36)","v":""},"","","",{"$f":"IF(申込入力シート!BZ36=\"\",\"\",申込入力シート!BZ36&\"　\"&申込入力シート!CA36)","v":""},{"$f":"IF(申込入力シート!CB36=\"\",\"\",申込入力シート!CB36&\" \"&\"才\")","v":""},{"$f":"IF(申込入力シート!CC36=\"\",\"\",申込入力シート!CC36)","v":""},{"$f":"IF(申込入力シート!CD36=\"\",\"\",申込入力シート!CD36)","v":""},{"$f":"IF(BB29=\"\",\"\",申込入力シート!$L$14)","v":""},{"$f":"IF(BB29=\"\",\"\",申込入力シート!$L$15)","v":""},{"$f":"IF(申込入力シート!CE36=\"\",\"\",申込入力シート!CE36)","v":""}]
[27,{"$f":"IF(申込入力シート!AJ37=\"\",\"\",申込入力シート!AJ37)","v":""},{"$f":"IF(申込入力シート!AK37=\"\",\"\",申込入力シート!AK37)","v":""},"","","",{"$f":"IF(申込入力シート!AL37=\"\",\"\",申込入力シート!AL37&\"　\"&申込入力シート!AM37)","v":""},{"$f":"IF(申込入力シート!AN37=\"\",\"\",IF(LEN(申込入力シート!AN37)=1,\"小\"&\" \"&申込入力シート!AN37,申込入力シート!AN37))","v":""},{"$f":"IF(申込入力シート!AO37=\"\",\"\",申込入力シート!AO37)","v":""},{"$f":"IF(申込入力シート!AP37=\"\",\"\",申込入力シート!AP37)","v":""},{"$f":"IF(B30=\"\",\"\",申込入力シート!$L$14)","v":""},{"$f":"IF(B30=\"\",\"\",申込入力シート!$L$15)","v":""},{"$f":"IF(申込入力シート!AQ37=\"\",\"\",申込入力シート!AQ37)","v":""},27,{"$f":"IF(申込入力シート!AT37=\"\",\"\",申込入力シート!AT37)","v":""},{"$f":"IF(申込入力シート!AU37=\"\",\"\",申込入力シート!AU37)","v":""},"","","",{"$f":"IF(申込入力シート!AV37=\"\",\"\",申込入力シート!AV37&\"　\"&申込入力シート!AW37)","v":""},{"$f":"IF(申込入力シート!AX37=\"\",\"\",\"小\"&\" \"&申込入力シート!AX37)","v":""},{"$f":"IF(申込入力シート!AY37=\"\",\"\",申込入力シート!AY37)","v":""},{"$f":"IF(申込入力シート!AZ37=\"\",\"\",申込入力シート!AZ37)","v":""},{"$f":"IF(O30=\"\",\"\",申込入力シート!$L$14)","v":""},{"$f":"IF(O30=\"\",\"\",申込入力シート!$L$15)","v":""},{"$f":"IF(申込入力シート!BA37=\"\",\"\",申込入力シート!BA37)","v":""},27,{"$f":"IF(申込入力シート!BD37=\"\",\"\",申込入力シート!BD37)","v":""},{"$f":"IF(申込入力シート!BE37=\"\",\"\",申込入力シート!BE37)","v":""},"","","",{"$f":"IF(申込入力シート!BF37=\"\",\"\",申込入力シート!BF37&\"　\"&申込入力シート!BG37)","v":""},{"$f":"IF(申込入力シート!BH37=\"\",\"\",\"中\"&\" \"&申込入力シート!BH37)","v":""},{"$f":"IF(申込入力シート!BI37=\"\",\"\",申込入力シート!BI37)","v":""},{"$f":"IF(申込入力シート!BJ37=\"\",\"\",申込入力シート!BJ37)","v":""},{"$f":"IF(AB30=\"\",\"\",申込入力シート!$L$14)","v":""},{"$f":"IF(AB30=\"\",\"\",申込入力シート!$L$15)","v":""},{"$f":"IF(申込入力シート!BK37=\"\",\"\",申込入力シート!BK37)","v":""},27,{"$f":"IF(申込入力シート!BN37=\"\",\"\",申込入力シート!BN37)","v":""},{"$f":"IF(申込入力シート!BO37=\"\",\"\",申込入力シート!BO37)","v":""},"","","",{"$f":"IF(申込入力シート!BP37=\"\",\"\",申込入力シート!BP37&\"　\"&申込入力シート!BQ37)","v":""},{"$f":"IF(申込入力シート!BR37=\"\",\"\",\"高\"&\" \"&申込入力シート!BR37)","v":""},{"$f":"IF(申込入力シート!BS37=\"\",\"\",申込入力シート!BS37)","v":""},{"$f":"IF(申込入力シート!BT37=\"\",\"\",申込入力シート!BT37)","v":""},{"$f":"IF(処理!AO30=\"\",\"\",申込入力シート!$L$14)","v":""},{"$f":"IF(AO30=\"\",\"\",申込入力シート!$L$15)","v":""},{"$f":"IF(申込入力シート!BU37=\"\",\"\",申込入力シート!BU37)","v":""},27,{"$f":"IF(申込入力シート!BX37=\"\",\"\",申込入力シート!BX37)","v":""},{"$f":"IF(申込入力シート!BY37=\"\",\"\",申込入力シート!BY37)","v":""},"","","",{"$f":"IF(申込入力シート!BZ37=\"\",\"\",申込入力シート!BZ37&\"　\"&申込入力シート!CA37)","v":""},{"$f":"IF(申込入力シート!CB37=\"\",\"\",申込入力シート!CB37&\" \"&\"才\")","v":""},{"$f":"IF(申込入力シート!CC37=\"\",\"\",申込入力シート!CC37)","v":""},{"$f":"IF(申込入力シート!CD37=\"\",\"\",申込入力シート!CD37)","v":""},{"$f":"IF(BB30=\"\",\"\",申込入力シート!$L$14)","v":""},{"$f":"IF(BB30=\"\",\"\",申込入力シート!$L$15)","v":""},{"$f":"IF(申込入力シート!CE37=\"\",\"\",申込入力シート!CE37)","v":""}]
[28,{"$f":"IF(申込入力シート!AJ38=\"\",\"\",申込入力シート!AJ38)","v":""},{"$f":"IF(申込入力シート!AK38=\"\",\"\",申込入力シート!AK38)","v":""},"","","",{"$f":"IF(申込入力シート!AL38=\"\",\"\",申込入力シート!AL38&\"　\"&申込入力シート!AM38)","v":""},{"$f":"IF(申込入力シート!AN38=\"\",\"\",IF(LEN(申込入力シート!AN38)=1,\"小\"&\" \"&申込入力シート!AN38,申込入力シート!AN38))","v":""},{"$f":"IF(申込入力シート!AO38=\"\",\"\",申込入力シート!AO38)","v":""},{"$f":"IF(申込入力シート!AP38=\"\",\"\",申込入力シート!AP38)","v":""},{"$f":"IF(B31=\"\",\"\",申込入力シート!$L$14)","v":""},{"$f":"IF(B31=\"\",\"\",申込入力シート!$L$15)","v":""},{"$f":"IF(申込入力シート!AQ38=\"\",\"\",申込入力シート!AQ38)","v":""},28,{"$f":"IF(申込入力シート!AT38=\"\",\"\",申込入力シート!AT38)","v":""},{"$f":"IF(申込入力シート!AU38=\"\",\"\",申込入力シート!AU38)","v":""},"","","",{"$f":"IF(申込入力シート!AV38=\"\",\"\",申込入力シート!AV38&\"　\"&申込入力シート!AW38)","v":""},{"$f":"IF(申込入力シート!AX38=\"\",\"\",\"小\"&\" \"&申込入力シート!AX38)","v":""},{"$f":"IF(申込入力シート!AY38=\"\",\"\",申込入力シート!AY38)","v":""},{"$f":"IF(申込入力シート!AZ38=\"\",\"\",申込入力シート!AZ38)","v":""},{"$f":"IF(O31=\"\",\"\",申込入力シート!$L$14)","v":""},{"$f":"IF(O31=\"\",\"\",申込入力シート!$L$15)","v":""},{"$f":"IF(申込入力シート!BA38=\"\",\"\",申込入力シート!BA38)","v":""},28,{"$f":"IF(申込入力シート!BD38=\"\",\"\",申込入力シート!BD38)","v":""},{"$f":"IF(申込入力シート!BE38=\"\",\"\",申込入力シート!BE38)","v":""},"","","",{"$f":"IF(申込入力シート!BF38=\"\",\"\",申込入力シート!BF38&\"　\"&申込入力シート!BG38)","v":""},{"$f":"IF(申込入力シート!BH38=\"\",\"\",\"中\"&\" \"&申込入力シート!BH38)","v":""},{"$f":"IF(申込入力シート!BI38=\"\",\"\",申込入力シート!BI38)","v":""},{"$f":"IF(申込入力シート!BJ38=\"\",\"\",申込入力シート!BJ38)","v":""},{"$f":"IF(AB31=\"\",\"\",申込入力シート!$L$14)","v":""},{"$f":"IF(AB31=\"\",\"\",申込入力シート!$L$15)","v":""},{"$f":"IF(申込入力シート!BK38=\"\",\"\",申込入力シート!BK38)","v":""},28,{"$f":"IF(申込入力シート!BN38=\"\",\"\",申込入力シート!BN38)","v":""},{"$f":"IF(申込入力シート!BO38=\"\",\"\",申込入力シート!BO38)","v":""},"","","",{"$f":"IF(申込入力シート!BP38=\"\",\"\",申込入力シート!BP38&\"　\"&申込入力シート!BQ38)","v":""},{"$f":"IF(申込入力シート!BR38=\"\",\"\",\"高\"&\" \"&申込入力シート!BR38)","v":""},{"$f":"IF(申込入力シート!BS38=\"\",\"\",申込入力シート!BS38)","v":""},{"$f":"IF(申込入力シート!BT38=\"\",\"\",申込入力シート!BT38)","v":""},{"$f":"IF(処理!AO31=\"\",\"\",申込入力シート!$L$14)","v":""},{"$f":"IF(AO31=\"\",\"\",申込入力シート!$L$15)","v":""},{"$f":"IF(申込入力シート!BU38=\"\",\"\",申込入力シート!BU38)","v":""},28,{"$f":"IF(申込入力シート!BX38=\"\",\"\",申込入力シート!BX38)","v":""},{"$f":"IF(申込入力シート!BY38=\"\",\"\",申込入力シート!BY38)","v":""},"","","",{"$f":"IF(申込入力シート!BZ38=\"\",\"\",申込入力シート!BZ38&\"　\"&申込入力シート!CA38)","v":""},{"$f":"IF(申込入力シート!CB38=\"\",\"\",申込入力シート!CB38&\" \"&\"才\")","v":""},{"$f":"IF(申込入力シート!CC38=\"\",\"\",申込入力シート!CC38)","v":""},{"$f":"IF(申込入力シート!CD38=\"\",\"\",申込入力シート!CD38)","v":""},{"$f":"IF(BB31=\"\",\"\",申込入力シート!$L$14)","v":""},{"$f":"IF(BB31=\"\",\"\",申込入力シート!$L$15)","v":""},{"$f":"IF(申込入力シート!CE38=\"\",\"\",申込入力シート!CE38)","v":""}]
[29,{"$f":"IF(申込入力シート!AJ39=\"\",\"\",申込入力シート!AJ39)","v":""},{"$f":"IF(申込入力シート!AK39=\"\",\"\",申込入力シート!AK39)","v":""},"","","",{"$f":"IF(申込入力シート!AL39=\"\",\"\",申込入力シート!AL39&\"　\"&申込入力シート!AM39)","v":""},{"$f":"IF(申込入力シート!AN39=\"\",\"\",IF(LEN(申込入力シート!AN39)=1,\"小\"&\" \"&申込入力シート!AN39,申込入力シート!AN39))","v":""},{"$f":"IF(申込入力シート!AO39=\"\",\"\",申込入力シート!AO39)","v":""},{"$f":"IF(申込入力シート!AP39=\"\",\"\",申込入力シート!AP39)","v":""},{"$f":"IF(B32=\"\",\"\",申込入力シート!$L$14)","v":""},{"$f":"IF(B32=\"\",\"\",申込入力シート!$L$15)","v":""},{"$f":"IF(申込入力シート!AQ39=\"\",\"\",申込入力シート!AQ39)","v":""},29,{"$f":"IF(申込入力シート!AT39=\"\",\"\",申込入力シート!AT39)","v":""},{"$f":"IF(申込入力シート!AU39=\"\",\"\",申込入力シート!AU39)","v":""},"","","",{"$f":"IF(申込入力シート!AV39=\"\",\"\",申込入力シート!AV39&\"　\"&申込入力シート!AW39)","v":""},{"$f":"IF(申込入力シート!AX39=\"\",\"\",\"小\"&\" \"&申込入力シート!AX39)","v":""},{"$f":"IF(申込入力シート!AY39=\"\",\"\",申込入力シート!AY39)","v":""},{"$f":"IF(申込入力シート!AZ39=\"\",\"\",申込入力シート!AZ39)","v":""},{"$f":"IF(O32=\"\",\"\",申込入力シート!$L$14)","v":""},{"$f":"IF(O32=\"\",\"\",申込入力シート!$L$15)","v":""},{"$f":"IF(申込入力シート!BA39=\"\",\"\",申込入力シート!BA39)","v":""},29,{"$f":"IF(申込入力シート!BD39=\"\",\"\",申込入力シート!BD39)","v":""},{"$f":"IF(申込入力シート!BE39=\"\",\"\",申込入力シート!BE39)","v":""},"","","",{"$f":"IF(申込入力シート!BF39=\"\",\"\",申込入力シート!BF39&\"　\"&申込入力シート!BG39)","v":""},{"$f":"IF(申込入力シート!BH39=\"\",\"\",\"中\"&\" \"&申込入力シート!BH39)","v":""},{"$f":"IF(申込入力シート!BI39=\"\",\"\",申込入力シート!BI39)","v":""},{"$f":"IF(申込入力シート!BJ39=\"\",\"\",申込入力シート!BJ39)","v":""},{"$f":"IF(AB32=\"\",\"\",申込入力シート!$L$14)","v":""},{"$f":"IF(AB32=\"\",\"\",申込入力シート!$L$15)","v":""},{"$f":"IF(申込入力シート!BK39=\"\",\"\",申込入力シート!BK39)","v":""},29,{"$f":"IF(申込入力シート!BN39=\"\",\"\",申込入力シート!BN39)","v":""},{"$f":"IF(申込入力シート!BO39=\"\",\"\",申込入力シート!BO39)","v":""},"","","",{"$f":"IF(申込入力シート!BP39=\"\",\"\",申込入力シート!BP39&\"　\"&申込入力シート!BQ39)","v":""},{"$f":"IF(申込入力シート!BR39=\"\",\"\",\"高\"&\" \"&申込入力シート!BR39)","v":""},{"$f":"IF(申込入力シート!BS39=\"\",\"\",申込入力シート!BS39)","v":""},{"$f":"IF(申込入力シート!BT39=\"\",\"\",申込入力シート!BT39)","v":""},{"$f":"IF(処理!AO32=\"\",\"\",申込入力シート!$L$14)","v":""},{"$f":"IF(AO32=\"\",\"\",申込入力シート!$L$15)","v":""},{"$f":"IF(申込入力シート!BU39=\"\",\"\",申込入力シート!BU39)","v":""},29,{"$f":"IF(申込入力シート!BX39=\"\",\"\",申込入力シート!BX39)","v":""},{"$f":"IF(申込入力シート!BY39=\"\",\"\",申込入力シート!BY39)","v":""},"","","",{"$f":"IF(申込入力シート!BZ39=\"\",\"\",申込入力シート!BZ39&\"　\"&申込入力シート!CA39)","v":""},{"$f":"IF(申込入力シート!CB39=\"\",\"\",申込入力シート!CB39&\" \"&\"才\")","v":""},{"$f":"IF(申込入力シート!CC39=\"\",\"\",申込入力シート!CC39)","v":""},{"$f":"IF(申込入力シート!CD39=\"\",\"\",申込入力シート!CD39)","v":""},{"$f":"IF(BB32=\"\",\"\",申込入力シート!$L$14)","v":""},{"$f":"IF(BB32=\"\",\"\",申込入力シート!$L$15)","v":""},{"$f":"IF(申込入力シート!CE39=\"\",\"\",申込入力シート!CE39)","v":""}]
[30,{"$f":"IF(申込入力シート!AJ40=\"\",\"\",申込入力シート!AJ40)","v":""},{"$f":"IF(申込入力シート!AK40=\"\",\"\",申込入力シート!AK40)","v":""},"","","",{"$f":"IF(申込入力シート!AL40=\"\",\"\",申込入力シート!AL40&\"　\"&申込入力シート!AM40)","v":""},{"$f":"IF(申込入力シート!AN40=\"\",\"\",IF(LEN(申込入力シート!AN40)=1,\"小\"&\" \"&申込入力シート!AN40,申込入力シート!AN40))","v":""},{"$f":"IF(申込入力シート!AO40=\"\",\"\",申込入力シート!AO40)","v":""},{"$f":"IF(申込入力シート!AP40=\"\",\"\",申込入力シート!AP40)","v":""},{"$f":"IF(B33=\"\",\"\",申込入力シート!$L$14)","v":""},{"$f":"IF(B33=\"\",\"\",申込入力シート!$L$15)","v":""},{"$f":"IF(申込入力シート!AQ40=\"\",\"\",申込入力シート!AQ40)","v":""},30,{"$f":"IF(申込入力シート!AT40=\"\",\"\",申込入力シート!AT40)","v":""},{"$f":"IF(申込入力シート!AU40=\"\",\"\",申込入力シート!AU40)","v":""},"","","",{"$f":"IF(申込入力シート!AV40=\"\",\"\",申込入力シート!AV40&\"　\"&申込入力シート!AW40)","v":""},{"$f":"IF(申込入力シート!AX40=\"\",\"\",\"小\"&\" \"&申込入力シート!AX40)","v":""},{"$f":"IF(申込入力シート!AY40=\"\",\"\",申込入力シート!AY40)","v":""},{"$f":"IF(申込入力シート!AZ40=\"\",\"\",申込入力シート!AZ40)","v":""},{"$f":"IF(O33=\"\",\"\",申込入力シート!$L$14)","v":""},{"$f":"IF(O33=\"\",\"\",申込入力シート!$L$15)","v":""},{"$f":"IF(申込入力シート!BA40=\"\",\"\",申込入力シート!BA40)","v":""},30,{"$f":"IF(申込入力シート!BD40=\"\",\"\",申込入力シート!BD40)","v":""},{"$f":"IF(申込入力シート!BE40=\"\",\"\",申込入力シート!BE40)","v":""},"","","",{"$f":"IF(申込入力シート!BF40=\"\",\"\",申込入力シート!BF40&\"　\"&申込入力シート!BG40)","v":""},{"$f":"IF(申込入力シート!BH40=\"\",\"\",\"中\"&\" \"&申込入力シート!BH40)","v":""},{"$f":"IF(申込入力シート!BI40=\"\",\"\",申込入力シート!BI40)","v":""},{"$f":"IF(申込入力シート!BJ40=\"\",\"\",申込入力シート!BJ40)","v":""},{"$f":"IF(AB33=\"\",\"\",申込入力シート!$L$14)","v":""},{"$f":"IF(AB33=\"\",\"\",申込入力シート!$L$15)","v":""},{"$f":"IF(申込入力シート!BK40=\"\",\"\",申込入力シート!BK40)","v":""},30,{"$f":"IF(申込入力シート!BN40=\"\",\"\",申込入力シート!BN40)","v":""},{"$f":"IF(申込入力シート!BO40=\"\",\"\",申込入力シート!BO40)","v":""},"","","",{"$f":"IF(申込入力シート!BP40=\"\",\"\",申込入力シート!BP40&\"　\"&申込入力シート!BQ40)","v":""},{"$f":"IF(申込入力シート!BR40=\"\",\"\",\"高\"&\" \"&申込入力シート!BR40)","v":""},{"$f":"IF(申込入力シート!BS40=\"\",\"\",申込入力シート!BS40)","v":""},{"$f":"IF(申込入力シート!BT40=\"\",\"\",申込入力シート!BT40)","v":""},{"$f":"IF(処理!AO33=\"\",\"\",申込入力シート!$L$14)","v":""},{"$f":"IF(AO33=\"\",\"\",申込入力シート!$L$15)","v":""},{"$f":"IF(申込入力シート!BU40=\"\",\"\",申込入力シート!BU40)","v":""},30,{"$f":"IF(申込入力シート!BX40=\"\",\"\",申込入力シート!BX40)","v":""},{"$f":"IF(申込入力シート!BY40=\"\",\"\",申込入力シート!BY40)","v":""},"","","",{"$f":"IF(申込入力シート!BZ40=\"\",\"\",申込入力シート!BZ40&\"　\"&申込入力シート!CA40)","v":""},{"$f":"IF(申込入力シート!CB40=\"\",\"\",申込入力シート!CB40&\" \"&\"才\")","v":""},{"$f":"IF(申込入力シート!CC40=\"\",\"\",申込入力シート!CC40)","v":""},{"$f":"IF(申込入力シート!CD40=\"\",\"\",申込入力シート!CD40)","v":""},{"$f":"IF(BB33=\"\",\"\",申込入力シート!$L$14)","v":""},{"$f":"IF(BB33=\"\",\"\",申込入力シート!$L$15)","v":""},{"$f":"IF(申込入力シート!CE40=\"\",\"\",申込入力シート!CE40)","v":""}]
[31,{"$f":"IF(申込入力シート!AJ41=\"\",\"\",申込入力シート!AJ41)","v":""},{"$f":"IF(申込入力シート!AK41=\"\",\"\",申込入力シート!AK41)","v":""},"","","",{"$f":"IF(申込入力シート!AL41=\"\",\"\",申込入力シート!AL41&\"　\"&申込入力シート!AM41)","v":""},{"$f":"IF(申込入力シート!AN41=\"\",\"\",IF(LEN(申込入力シート!AN41)=1,\"小\"&\" \"&申込入力シート!AN41,申込入力シート!AN41))","v":""},{"$f":"IF(申込入力シート!AO41=\"\",\"\",申込入力シート!AO41)","v":""},{"$f":"IF(申込入力シート!AP41=\"\",\"\",申込入力シート!AP41)","v":""},{"$f":"IF(B34=\"\",\"\",申込入力シート!$L$14)","v":""},{"$f":"IF(B34=\"\",\"\",申込入力シート!$L$15)","v":""},{"$f":"IF(申込入力シート!AQ41=\"\",\"\",申込入力シート!AQ41)","v":""},31,{"$f":"IF(申込入力シート!AT41=\"\",\"\",申込入力シート!AT41)","v":""},{"$f":"IF(申込入力シート!AU41=\"\",\"\",申込入力シート!AU41)","v":""},"","","",{"$f":"IF(申込入力シート!AV41=\"\",\"\",申込入力シート!AV41&\"　\"&申込入力シート!AW41)","v":""},{"$f":"IF(申込入力シート!AX41=\"\",\"\",\"小\"&\" \"&申込入力シート!AX41)","v":""},{"$f":"IF(申込入力シート!AY41=\"\",\"\",申込入力シート!AY41)","v":""},{"$f":"IF(申込入力シート!AZ41=\"\",\"\",申込入力シート!AZ41)","v":""},{"$f":"IF(O34=\"\",\"\",申込入力シート!$L$14)","v":""},{"$f":"IF(O34=\"\",\"\",申込入力シート!$L$15)","v":""},{"$f":"IF(申込入力シート!BA41=\"\",\"\",申込入力シート!BA41)","v":""},31,{"$f":"IF(申込入力シート!BD41=\"\",\"\",申込入力シート!BD41)","v":""},{"$f":"IF(申込入力シート!BE41=\"\",\"\",申込入力シート!BE41)","v":""},"","","",{"$f":"IF(申込入力シート!BF41=\"\",\"\",申込入力シート!BF41&\"　\"&申込入力シート!BG41)","v":""},{"$f":"IF(申込入力シート!BH41=\"\",\"\",\"中\"&\" \"&申込入力シート!BH41)","v":""},{"$f":"IF(申込入力シート!BI41=\"\",\"\",申込入力シート!BI41)","v":""},{"$f":"IF(申込入力シート!BJ41=\"\",\"\",申込入力シート!BJ41)","v":""},{"$f":"IF(AB34=\"\",\"\",申込入力シート!$L$14)","v":""},{"$f":"IF(AB34=\"\",\"\",申込入力シート!$L$15)","v":""},{"$f":"IF(申込入力シート!BK41=\"\",\"\",申込入力シート!BK41)","v":""},31,{"$f":"IF(申込入力シート!BN41=\"\",\"\",申込入力シート!BN41)","v":""},{"$f":"IF(申込入力シート!BO41=\"\",\"\",申込入力シート!BO41)","v":""},"","","",{"$f":"IF(申込入力シート!BP41=\"\",\"\",申込入力シート!BP41&\"　\"&申込入力シート!BQ41)","v":""},{"$f":"IF(申込入力シート!BR41=\"\",\"\",\"高\"&\" \"&申込入力シート!BR41)","v":""},{"$f":"IF(申込入力シート!BS41=\"\",\"\",申込入力シート!BS41)","v":""},{"$f":"IF(申込入力シート!BT41=\"\",\"\",申込入力シート!BT41)","v":""},{"$f":"IF(処理!AO34=\"\",\"\",申込入力シート!$L$14)","v":""},{"$f":"IF(AO34=\"\",\"\",申込入力シート!$L$15)","v":""},{"$f":"IF(申込入力シート!BU41=\"\",\"\",申込入力シート!BU41)","v":""},31,{"$f":"IF(申込入力シート!BX41=\"\",\"\",申込入力シート!BX41)","v":""},{"$f":"IF(申込入力シート!BY41=\"\",\"\",申込入力シート!BY41)","v":""},"","","",{"$f":"IF(申込入力シート!BZ41=\"\",\"\",申込入力シート!BZ41&\"　\"&申込入力シート!CA41)","v":""},{"$f":"IF(申込入力シート!CB41=\"\",\"\",申込入力シート!CB41&\" \"&\"才\")","v":""},{"$f":"IF(申込入力シート!CC41=\"\",\"\",申込入力シート!CC41)","v":""},{"$f":"IF(申込入力シート!CD41=\"\",\"\",申込入力シート!CD41)","v":""},{"$f":"IF(BB34=\"\",\"\",申込入力シート!$L$14)","v":""},{"$f":"IF(BB34=\"\",\"\",申込入力シート!$L$15)","v":""},{"$f":"IF(申込入力シート!CE41=\"\",\"\",申込入力シート!CE41)","v":""}]
[32,{"$f":"IF(申込入力シート!AJ42=\"\",\"\",申込入力シート!AJ42)","v":""},{"$f":"IF(申込入力シート!AK42=\"\",\"\",申込入力シート!AK42)","v":""},"","","",{"$f":"IF(申込入力シート!AL42=\"\",\"\",申込入力シート!AL42&\"　\"&申込入力シート!AM42)","v":""},{"$f":"IF(申込入力シート!AN42=\"\",\"\",IF(LEN(申込入力シート!AN42)=1,\"小\"&\" \"&申込入力シート!AN42,申込入力シート!AN42))","v":""},{"$f":"IF(申込入力シート!AO42=\"\",\"\",申込入力シート!AO42)","v":""},{"$f":"IF(申込入力シート!AP42=\"\",\"\",申込入力シート!AP42)","v":""},{"$f":"IF(B35=\"\",\"\",申込入力シート!$L$14)","v":""},{"$f":"IF(B35=\"\",\"\",申込入力シート!$L$15)","v":""},{"$f":"IF(申込入力シート!AQ42=\"\",\"\",申込入力シート!AQ42)","v":""},32,{"$f":"IF(申込入力シート!AT42=\"\",\"\",申込入力シート!AT42)","v":""},{"$f":"IF(申込入力シート!AU42=\"\",\"\",申込入力シート!AU42)","v":""},"","","",{"$f":"IF(申込入力シート!AV42=\"\",\"\",申込入力シート!AV42&\"　\"&申込入力シート!AW42)","v":""},{"$f":"IF(申込入力シート!AX42=\"\",\"\",\"小\"&\" \"&申込入力シート!AX42)","v":""},{"$f":"IF(申込入力シート!AY42=\"\",\"\",申込入力シート!AY42)","v":""},{"$f":"IF(申込入力シート!AZ42=\"\",\"\",申込入力シート!AZ42)","v":""},{"$f":"IF(O35=\"\",\"\",申込入力シート!$L$14)","v":""},{"$f":"IF(O35=\"\",\"\",申込入力シート!$L$15)","v":""},{"$f":"IF(申込入力シート!BA42=\"\",\"\",申込入力シート!BA42)","v":""},32,{"$f":"IF(申込入力シート!BD42=\"\",\"\",申込入力シート!BD42)","v":""},{"$f":"IF(申込入力シート!BE42=\"\",\"\",申込入力シート!BE42)","v":""},"","","",{"$f":"IF(申込入力シート!BF42=\"\",\"\",申込入力シート!BF42&\"　\"&申込入力シート!BG42)","v":""},{"$f":"IF(申込入力シート!BH42=\"\",\"\",\"中\"&\" \"&申込入力シート!BH42)","v":""},{"$f":"IF(申込入力シート!BI42=\"\",\"\",申込入力シート!BI42)","v":""},{"$f":"IF(申込入力シート!BJ42=\"\",\"\",申込入力シート!BJ42)","v":""},{"$f":"IF(AB35=\"\",\"\",申込入力シート!$L$14)","v":""},{"$f":"IF(AB35=\"\",\"\",申込入力シート!$L$15)","v":""},{"$f":"IF(申込入力シート!BK42=\"\",\"\",申込入力シート!BK42)","v":""},32,{"$f":"IF(申込入力シート!BN42=\"\",\"\",申込入力シート!BN42)","v":""},{"$f":"IF(申込入力シート!BO42=\"\",\"\",申込入力シート!BO42)","v":""},"","","",{"$f":"IF(申込入力シート!BP42=\"\",\"\",申込入力シート!BP42&\"　\"&申込入力シート!BQ42)","v":""},{"$f":"IF(申込入力シート!BR42=\"\",\"\",\"高\"&\" \"&申込入力シート!BR42)","v":""},{"$f":"IF(申込入力シート!BS42=\"\",\"\",申込入力シート!BS42)","v":""},{"$f":"IF(申込入力シート!BT42=\"\",\"\",申込入力シート!BT42)","v":""},{"$f":"IF(処理!AO35=\"\",\"\",申込入力シート!$L$14)","v":""},{"$f":"IF(AO35=\"\",\"\",申込入力シート!$L$15)","v":""},{"$f":"IF(申込入力シート!BU42=\"\",\"\",申込入力シート!BU42)","v":""},32,{"$f":"IF(申込入力シート!BX42=\"\",\"\",申込入力シート!BX42)","v":""},{"$f":"IF(申込入力シート!BY42=\"\",\"\",申込入力シート!BY42)","v":""},"","","",{"$f":"IF(申込入力シート!BZ42=\"\",\"\",申込入力シート!BZ42&\"　\"&申込入力シート!CA42)","v":""},{"$f":"IF(申込入力シート!CB42=\"\",\"\",申込入力シート!CB42&\" \"&\"才\")","v":""},{"$f":"IF(申込入力シート!CC42=\"\",\"\",申込入力シート!CC42)","v":""},{"$f":"IF(申込入力シート!CD42=\"\",\"\",申込入力シート!CD42)","v":""},{"$f":"IF(BB35=\"\",\"\",申込入力シート!$L$14)","v":""},{"$f":"IF(BB35=\"\",\"\",申込入力シート!$L$15)","v":""},{"$f":"IF(申込入力シート!CE42=\"\",\"\",申込入力シート!CE42)","v":""}]
[33,{"$f":"IF(申込入力シート!AJ43=\"\",\"\",申込入力シート!AJ43)","v":""},{"$f":"IF(申込入力シート!AK43=\"\",\"\",申込入力シート!AK43)","v":""},"","","",{"$f":"IF(申込入力シート!AL43=\"\",\"\",申込入力シート!AL43&\"　\"&申込入力シート!AM43)","v":""},{"$f":"IF(申込入力シート!AN43=\"\",\"\",IF(LEN(申込入力シート!AN43)=1,\"小\"&\" \"&申込入力シート!AN43,申込入力シート!AN43))","v":""},{"$f":"IF(申込入力シート!AO43=\"\",\"\",申込入力シート!AO43)","v":""},{"$f":"IF(申込入力シート!AP43=\"\",\"\",申込入力シート!AP43)","v":""},{"$f":"IF(B36=\"\",\"\",申込入力シート!$L$14)","v":""},{"$f":"IF(B36=\"\",\"\",申込入力シート!$L$15)","v":""},{"$f":"IF(申込入力シート!AQ43=\"\",\"\",申込入力シート!AQ43)","v":""},33,{"$f":"IF(申込入力シート!AT43=\"\",\"\",申込入力シート!AT43)","v":""},{"$f":"IF(申込入力シート!AU43=\"\",\"\",申込入力シート!AU43)","v":""},"","","",{"$f":"IF(申込入力シート!AV43=\"\",\"\",申込入力シート!AV43&\"　\"&申込入力シート!AW43)","v":""},{"$f":"IF(申込入力シート!AX43=\"\",\"\",\"小\"&\" \"&申込入力シート!AX43)","v":""},{"$f":"IF(申込入力シート!AY43=\"\",\"\",申込入力シート!AY43)","v":""},{"$f":"IF(申込入力シート!AZ43=\"\",\"\",申込入力シート!AZ43)","v":""},{"$f":"IF(O36=\"\",\"\",申込入力シート!$L$14)","v":""},{"$f":"IF(O36=\"\",\"\",申込入力シート!$L$15)","v":""},{"$f":"IF(申込入力シート!BA43=\"\",\"\",申込入力シート!BA43)","v":""},33,{"$f":"IF(申込入力シート!BD43=\"\",\"\",申込入力シート!BD43)","v":""},{"$f":"IF(申込入力シート!BE43=\"\",\"\",申込入力シート!BE43)","v":""},"","","",{"$f":"IF(申込入力シート!BF43=\"\",\"\",申込入力シート!BF43&\"　\"&申込入力シート!BG43)","v":""},{"$f":"IF(申込入力シート!BH43=\"\",\"\",\"中\"&\" \"&申込入力シート!BH43)","v":""},{"$f":"IF(申込入力シート!BI43=\"\",\"\",申込入力シート!BI43)","v":""},{"$f":"IF(申込入力シート!BJ43=\"\",\"\",申込入力シート!BJ43)","v":""},{"$f":"IF(AB36=\"\",\"\",申込入力シート!$L$14)","v":""},{"$f":"IF(AB36=\"\",\"\",申込入力シート!$L$15)","v":""},{"$f":"IF(申込入力シート!BK43=\"\",\"\",申込入力シート!BK43)","v":""},33,{"$f":"IF(申込入力シート!BN43=\"\",\"\",申込入力シート!BN43)","v":""},{"$f":"IF(申込入力シート!BO43=\"\",\"\",申込入力シート!BO43)","v":""},"","","",{"$f":"IF(申込入力シート!BP43=\"\",\"\",申込入力シート!BP43&\"　\"&申込入力シート!BQ43)","v":""},{"$f":"IF(申込入力シート!BR43=\"\",\"\",\"高\"&\" \"&申込入力シート!BR43)","v":""},{"$f":"IF(申込入力シート!BS43=\"\",\"\",申込入力シート!BS43)","v":""},{"$f":"IF(申込入力シート!BT43=\"\",\"\",申込入力シート!BT43)","v":""},{"$f":"IF(処理!AO36=\"\",\"\",申込入力シート!$L$14)","v":""},{"$f":"IF(AO36=\"\",\"\",申込入力シート!$L$15)","v":""},{"$f":"IF(申込入力シート!BU43=\"\",\"\",申込入力シート!BU43)","v":""},33,{"$f":"IF(申込入力シート!BX43=\"\",\"\",申込入力シート!BX43)","v":""},{"$f":"IF(申込入力シート!BY43=\"\",\"\",申込入力シート!BY43)","v":""},"","","",{"$f":"IF(申込入力シート!BZ43=\"\",\"\",申込入力シート!BZ43&\"　\"&申込入力シート!CA43)","v":""},{"$f":"IF(申込入力シート!CB43=\"\",\"\",申込入力シート!CB43&\" \"&\"才\")","v":""},{"$f":"IF(申込入力シート!CC43=\"\",\"\",申込入力シート!CC43)","v":""},{"$f":"IF(申込入力シート!CD43=\"\",\"\",申込入力シート!CD43)","v":""},{"$f":"IF(BB36=\"\",\"\",申込入力シート!$L$14)","v":""},{"$f":"IF(BB36=\"\",\"\",申込入力シート!$L$15)","v":""},{"$f":"IF(申込入力シート!CE43=\"\",\"\",申込入力シート!CE43)","v":""}]
[34,{"$f":"IF(申込入力シート!AJ44=\"\",\"\",申込入力シート!AJ44)","v":""},{"$f":"IF(申込入力シート!AK44=\"\",\"\",申込入力シート!AK44)","v":""},"","","",{"$f":"IF(申込入力シート!AL44=\"\",\"\",申込入力シート!AL44&\"　\"&申込入力シート!AM44)","v":""},{"$f":"IF(申込入力シート!AN44=\"\",\"\",IF(LEN(申込入力シート!AN44)=1,\"小\"&\" \"&申込入力シート!AN44,申込入力シート!AN44))","v":""},{"$f":"IF(申込入力シート!AO44=\"\",\"\",申込入力シート!AO44)","v":""},{"$f":"IF(申込入力シート!AP44=\"\",\"\",申込入力シート!AP44)","v":""},{"$f":"IF(B37=\"\",\"\",申込入力シート!$L$14)","v":""},{"$f":"IF(B37=\"\",\"\",申込入力シート!$L$15)","v":""},{"$f":"IF(申込入力シート!AQ44=\"\",\"\",申込入力シート!AQ44)","v":""},34,{"$f":"IF(申込入力シート!AT44=\"\",\"\",申込入力シート!AT44)","v":""},{"$f":"IF(申込入力シート!AU44=\"\",\"\",申込入力シート!AU44)","v":""},"","","",{"$f":"IF(申込入力シート!AV44=\"\",\"\",申込入力シート!AV44&\"　\"&申込入力シート!AW44)","v":""},{"$f":"IF(申込入力シート!AX44=\"\",\"\",\"小\"&\" \"&申込入力シート!AX44)","v":""},{"$f":"IF(申込入力シート!AY44=\"\",\"\",申込入力シート!AY44)","v":""},{"$f":"IF(申込入力シート!AZ44=\"\",\"\",申込入力シート!AZ44)","v":""},{"$f":"IF(O37=\"\",\"\",申込入力シート!$L$14)","v":""},{"$f":"IF(O37=\"\",\"\",申込入力シート!$L$15)","v":""},{"$f":"IF(申込入力シート!BA44=\"\",\"\",申込入力シート!BA44)","v":""},34,{"$f":"IF(申込入力シート!BD44=\"\",\"\",申込入力シート!BD44)","v":""},{"$f":"IF(申込入力シート!BE44=\"\",\"\",申込入力シート!BE44)","v":""},"","","",{"$f":"IF(申込入力シート!BF44=\"\",\"\",申込入力シート!BF44&\"　\"&申込入力シート!BG44)","v":""},{"$f":"IF(申込入力シート!BH44=\"\",\"\",\"中\"&\" \"&申込入力シート!BH44)","v":""},{"$f":"IF(申込入力シート!BI44=\"\",\"\",申込入力シート!BI44)","v":""},{"$f":"IF(申込入力シート!BJ44=\"\",\"\",申込入力シート!BJ44)","v":""},{"$f":"IF(AB37=\"\",\"\",申込入力シート!$L$14)","v":""},{"$f":"IF(AB37=\"\",\"\",申込入力シート!$L$15)","v":""},{"$f":"IF(申込入力シート!BK44=\"\",\"\",申込入力シート!BK44)","v":""},34,{"$f":"IF(申込入力シート!BN44=\"\",\"\",申込入力シート!BN44)","v":""},{"$f":"IF(申込入力シート!BO44=\"\",\"\",申込入力シート!BO44)","v":""},"","","",{"$f":"IF(申込入力シート!BP44=\"\",\"\",申込入力シート!BP44&\"　\"&申込入力シート!BQ44)","v":""},{"$f":"IF(申込入力シート!BR44=\"\",\"\",\"高\"&\" \"&申込入力シート!BR44)","v":""},{"$f":"IF(申込入力シート!BS44=\"\",\"\",申込入力シート!BS44)","v":""},{"$f":"IF(申込入力シート!BT44=\"\",\"\",申込入力シート!BT44)","v":""},{"$f":"IF(処理!AO37=\"\",\"\",申込入力シート!$L$14)","v":""},{"$f":"IF(AO37=\"\",\"\",申込入力シート!$L$15)","v":""},{"$f":"IF(申込入力シート!BU44=\"\",\"\",申込入力シート!BU44)","v":""},34,{"$f":"IF(申込入力シート!BX44=\"\",\"\",申込入力シート!BX44)","v":""},{"$f":"IF(申込入力シート!BY44=\"\",\"\",申込入力シート!BY44)","v":""},"","","",{"$f":"IF(申込入力シート!BZ44=\"\",\"\",申込入力シート!BZ44&\"　\"&申込入力シート!CA44)","v":""},{"$f":"IF(申込入力シート!CB44=\"\",\"\",申込入力シート!CB44&\" \"&\"才\")","v":""},{"$f":"IF(申込入力シート!CC44=\"\",\"\",申込入力シート!CC44)","v":""},{"$f":"IF(申込入力シート!CD44=\"\",\"\",申込入力シート!CD44)","v":""},{"$f":"IF(BB37=\"\",\"\",申込入力シート!$L$14)","v":""},{"$f":"IF(BB37=\"\",\"\",申込入力シート!$L$15)","v":""},{"$f":"IF(申込入力シート!CE44=\"\",\"\",申込入力シート!CE44)","v":""}]
[35,{"$f":"IF(申込入力シート!AJ45=\"\",\"\",申込入力シート!AJ45)","v":""},{"$f":"IF(申込入力シート!AK45=\"\",\"\",申込入力シート!AK45)","v":""},"","","",{"$f":"IF(申込入力シート!AL45=\"\",\"\",申込入力シート!AL45&\"　\"&申込入力シート!AM45)","v":""},{"$f":"IF(申込入力シート!AN45=\"\",\"\",IF(LEN(申込入力シート!AN45)=1,\"小\"&\" \"&申込入力シート!AN45,申込入力シート!AN45))","v":""},{"$f":"IF(申込入力シート!AO45=\"\",\"\",申込入力シート!AO45)","v":""},{"$f":"IF(申込入力シート!AP45=\"\",\"\",申込入力シート!AP45)","v":""},{"$f":"IF(B38=\"\",\"\",申込入力シート!$L$14)","v":""},{"$f":"IF(B38=\"\",\"\",申込入力シート!$L$15)","v":""},{"$f":"IF(申込入力シート!AQ45=\"\",\"\",申込入力シート!AQ45)","v":""},35,{"$f":"IF(申込入力シート!AT45=\"\",\"\",申込入力シート!AT45)","v":""},{"$f":"IF(申込入力シート!AU45=\"\",\"\",申込入力シート!AU45)","v":""},"","","",{"$f":"IF(申込入力シート!AV45=\"\",\"\",申込入力シート!AV45&\"　\"&申込入力シート!AW45)","v":""},{"$f":"IF(申込入力シート!AX45=\"\",\"\",\"小\"&\" \"&申込入力シート!AX45)","v":""},{"$f":"IF(申込入力シート!AY45=\"\",\"\",申込入力シート!AY45)","v":""},{"$f":"IF(申込入力シート!AZ45=\"\",\"\",申込入力シート!AZ45)","v":""},{"$f":"IF(O38=\"\",\"\",申込入力シート!$L$14)","v":""},{"$f":"IF(O38=\"\",\"\",申込入力シート!$L$15)","v":""},{"$f":"IF(申込入力シート!BA45=\"\",\"\",申込入力シート!BA45)","v":""},35,{"$f":"IF(申込入力シート!BD45=\"\",\"\",申込入力シート!BD45)","v":""},{"$f":"IF(申込入力シート!BE45=\"\",\"\",申込入力シート!BE45)","v":""},"","","",{"$f":"IF(申込入力シート!BF45=\"\",\"\",申込入力シート!BF45&\"　\"&申込入力シート!BG45)","v":""},{"$f":"IF(申込入力シート!BH45=\"\",\"\",\"中\"&\" \"&申込入力シート!BH45)","v":""},{"$f":"IF(申込入力シート!BI45=\"\",\"\",申込入力シート!BI45)","v":""},{"$f":"IF(申込入力シート!BJ45=\"\",\"\",申込入力シート!BJ45)","v":""},{"$f":"IF(AB38=\"\",\"\",申込入力シート!$L$14)","v":""},{"$f":"IF(AB38=\"\",\"\",申込入力シート!$L$15)","v":""},{"$f":"IF(申込入力シート!BK45=\"\",\"\",申込入力シート!BK45)","v":""},35,{"$f":"IF(申込入力シート!BN45=\"\",\"\",申込入力シート!BN45)","v":""},{"$f":"IF(申込入力シート!BO45=\"\",\"\",申込入力シート!BO45)","v":""},"","","",{"$f":"IF(申込入力シート!BP45=\"\",\"\",申込入力シート!BP45&\"　\"&申込入力シート!BQ45)","v":""},{"$f":"IF(申込入力シート!BR45=\"\",\"\",\"高\"&\" \"&申込入力シート!BR45)","v":""},{"$f":"IF(申込入力シート!BS45=\"\",\"\",申込入力シート!BS45)","v":""},{"$f":"IF(申込入力シート!BT45=\"\",\"\",申込入力シート!BT45)","v":""},{"$f":"IF(処理!AO38=\"\",\"\",申込入力シート!$L$14)","v":""},{"$f":"IF(AO38=\"\",\"\",申込入力シート!$L$15)","v":""},{"$f":"IF(申込入力シート!BU45=\"\",\"\",申込入力シート!BU45)","v":""},35,{"$f":"IF(申込入力シート!BX45=\"\",\"\",申込入力シート!BX45)","v":""},{"$f":"IF(申込入力シート!BY45=\"\",\"\",申込入力シート!BY45)","v":""},"","","",{"$f":"IF(申込入力シート!BZ45=\"\",\"\",申込入力シート!BZ45&\"　\"&申込入力シート!CA45)","v":""},{"$f":"IF(申込入力シート!CB45=\"\",\"\",申込入力シート!CB45&\" \"&\"才\")","v":""},{"$f":"IF(申込入力シート!CC45=\"\",\"\",申込入力シート!CC45)","v":""},{"$f":"IF(申込入力シート!CD45=\"\",\"\",申込入力シート!CD45)","v":""},{"$f":"IF(BB38=\"\",\"\",申込入力シート!$L$14)","v":""},{"$f":"IF(BB38=\"\",\"\",申込入力シート!$L$15)","v":""},{"$f":"IF(申込入力シート!CE45=\"\",\"\",申込入力シート!CE45)","v":""}]
[36,{"$f":"IF(申込入力シート!AJ46=\"\",\"\",申込入力シート!AJ46)","v":""},{"$f":"IF(申込入力シート!AK46=\"\",\"\",申込入力シート!AK46)","v":""},"","","",{"$f":"IF(申込入力シート!AL46=\"\",\"\",申込入力シート!AL46&\"　\"&申込入力シート!AM46)","v":""},{"$f":"IF(申込入力シート!AN46=\"\",\"\",IF(LEN(申込入力シート!AN46)=1,\"小\"&\" \"&申込入力シート!AN46,申込入力シート!AN46))","v":""},{"$f":"IF(申込入力シート!AO46=\"\",\"\",申込入力シート!AO46)","v":""},{"$f":"IF(申込入力シート!AP46=\"\",\"\",申込入力シート!AP46)","v":""},{"$f":"IF(B39=\"\",\"\",申込入力シート!$L$14)","v":""},{"$f":"IF(B39=\"\",\"\",申込入力シート!$L$15)","v":""},{"$f":"IF(申込入力シート!AQ46=\"\",\"\",申込入力シート!AQ46)","v":""},36,{"$f":"IF(申込入力シート!AT46=\"\",\"\",申込入力シート!AT46)","v":""},{"$f":"IF(申込入力シート!AU46=\"\",\"\",申込入力シート!AU46)","v":""},"","","",{"$f":"IF(申込入力シート!AV46=\"\",\"\",申込入力シート!AV46&\"　\"&申込入力シート!AW46)","v":""},{"$f":"IF(申込入力シート!AX46=\"\",\"\",\"小\"&\" \"&申込入力シート!AX46)","v":""},{"$f":"IF(申込入力シート!AY46=\"\",\"\",申込入力シート!AY46)","v":""},{"$f":"IF(申込入力シート!AZ46=\"\",\"\",申込入力シート!AZ46)","v":""},{"$f":"IF(O39=\"\",\"\",申込入力シート!$L$14)","v":""},{"$f":"IF(O39=\"\",\"\",申込入力シート!$L$15)","v":""},{"$f":"IF(申込入力シート!BA46=\"\",\"\",申込入力シート!BA46)","v":""},36,{"$f":"IF(申込入力シート!BD46=\"\",\"\",申込入力シート!BD46)","v":""},{"$f":"IF(申込入力シート!BE46=\"\",\"\",申込入力シート!BE46)","v":""},"","","",{"$f":"IF(申込入力シート!BF46=\"\",\"\",申込入力シート!BF46&\"　\"&申込入力シート!BG46)","v":""},{"$f":"IF(申込入力シート!BH46=\"\",\"\",\"中\"&\" \"&申込入力シート!BH46)","v":""},{"$f":"IF(申込入力シート!BI46=\"\",\"\",申込入力シート!BI46)","v":""},{"$f":"IF(申込入力シート!BJ46=\"\",\"\",申込入力シート!BJ46)","v":""},{"$f":"IF(AB39=\"\",\"\",申込入力シート!$L$14)","v":""},{"$f":"IF(AB39=\"\",\"\",申込入力シート!$L$15)","v":""},{"$f":"IF(申込入力シート!BK46=\"\",\"\",申込入力シート!BK46)","v":""},36,{"$f":"IF(申込入力シート!BN46=\"\",\"\",申込入力シート!BN46)","v":""},{"$f":"IF(申込入力シート!BO46=\"\",\"\",申込入力シート!BO46)","v":""},"","","",{"$f":"IF(申込入力シート!BP46=\"\",\"\",申込入力シート!BP46&\"　\"&申込入力シート!BQ46)","v":""},{"$f":"IF(申込入力シート!BR46=\"\",\"\",\"高\"&\" \"&申込入力シート!BR46)","v":""},{"$f":"IF(申込入力シート!BS46=\"\",\"\",申込入力シート!BS46)","v":""},{"$f":"IF(申込入力シート!BT46=\"\",\"\",申込入力シート!BT46)","v":""},{"$f":"IF(処理!AO39=\"\",\"\",申込入力シート!$L$14)","v":""},{"$f":"IF(AO39=\"\",\"\",申込入力シート!$L$15)","v":""},{"$f":"IF(申込入力シート!BU46=\"\",\"\",申込入力シート!BU46)","v":""},36,{"$f":"IF(申込入力シート!BX46=\"\",\"\",申込入力シート!BX46)","v":""},{"$f":"IF(申込入力シート!BY46=\"\",\"\",申込入力シート!BY46)","v":""},"","","",{"$f":"IF(申込入力シート!BZ46=\"\",\"\",申込入力シート!BZ46&\"　\"&申込入力シート!CA46)","v":""},{"$f":"IF(申込入力シート!CB46=\"\",\"\",申込入力シート!CB46&\" \"&\"才\")","v":""},{"$f":"IF(申込入力シート!CC46=\"\",\"\",申込入力シート!CC46)","v":""},{"$f":"IF(申込入力シート!CD46=\"\",\"\",申込入力シート!CD46)","v":""},{"$f":"IF(BB39=\"\",\"\",申込入力シート!$L$14)","v":""},{"$f":"IF(BB39=\"\",\"\",申込入力シート!$L$15)","v":""},{"$f":"IF(申込入力シート!CE46=\"\",\"\",申込入力シート!CE46)","v":""}]
[37,{"$f":"IF(申込入力シート!AJ47=\"\",\"\",申込入力シート!AJ47)","v":""},{"$f":"IF(申込入力シート!AK47=\"\",\"\",申込入力シート!AK47)","v":""},"","","",{"$f":"IF(申込入力シート!AL47=\"\",\"\",申込入力シート!AL47&\"　\"&申込入力シート!AM47)","v":""},{"$f":"IF(申込入力シート!AN47=\"\",\"\",IF(LEN(申込入力シート!AN47)=1,\"小\"&\" \"&申込入力シート!AN47,申込入力シート!AN47))","v":""},{"$f":"IF(申込入力シート!AO47=\"\",\"\",申込入力シート!AO47)","v":""},{"$f":"IF(申込入力シート!AP47=\"\",\"\",申込入力シート!AP47)","v":""},{"$f":"IF(B40=\"\",\"\",申込入力シート!$L$14)","v":""},{"$f":"IF(B40=\"\",\"\",申込入力シート!$L$15)","v":""},{"$f":"IF(申込入力シート!AQ47=\"\",\"\",申込入力シート!AQ47)","v":""},37,{"$f":"IF(申込入力シート!AT47=\"\",\"\",申込入力シート!AT47)","v":""},{"$f":"IF(申込入力シート!AU47=\"\",\"\",申込入力シート!AU47)","v":""},"","","",{"$f":"IF(申込入力シート!AV47=\"\",\"\",申込入力シート!AV47&\"　\"&申込入力シート!AW47)","v":""},{"$f":"IF(申込入力シート!AX47=\"\",\"\",\"小\"&\" \"&申込入力シート!AX47)","v":""},{"$f":"IF(申込入力シート!AY47=\"\",\"\",申込入力シート!AY47)","v":""},{"$f":"IF(申込入力シート!AZ47=\"\",\"\",申込入力シート!AZ47)","v":""},{"$f":"IF(O40=\"\",\"\",申込入力シート!$L$14)","v":""},{"$f":"IF(O40=\"\",\"\",申込入力シート!$L$15)","v":""},{"$f":"IF(申込入力シート!BA47=\"\",\"\",申込入力シート!BA47)","v":""},37,{"$f":"IF(申込入力シート!BD47=\"\",\"\",申込入力シート!BD47)","v":""},{"$f":"IF(申込入力シート!BE47=\"\",\"\",申込入力シート!BE47)","v":""},"","","",{"$f":"IF(申込入力シート!BF47=\"\",\"\",申込入力シート!BF47&\"　\"&申込入力シート!BG47)","v":""},{"$f":"IF(申込入力シート!BH47=\"\",\"\",\"中\"&\" \"&申込入力シート!BH47)","v":""},{"$f":"IF(申込入力シート!BI47=\"\",\"\",申込入力シート!BI47)","v":""},{"$f":"IF(申込入力シート!BJ47=\"\",\"\",申込入力シート!BJ47)","v":""},{"$f":"IF(AB40=\"\",\"\",申込入力シート!$L$14)","v":""},{"$f":"IF(AB40=\"\",\"\",申込入力シート!$L$15)","v":""},{"$f":"IF(申込入力シート!BK47=\"\",\"\",申込入力シート!BK47)","v":""},37,{"$f":"IF(申込入力シート!BN47=\"\",\"\",申込入力シート!BN47)","v":""},{"$f":"IF(申込入力シート!BO47=\"\",\"\",申込入力シート!BO47)","v":""},"","","",{"$f":"IF(申込入力シート!BP47=\"\",\"\",申込入力シート!BP47&\"　\"&申込入力シート!BQ47)","v":""},{"$f":"IF(申込入力シート!BR47=\"\",\"\",\"高\"&\" \"&申込入力シート!BR47)","v":""},{"$f":"IF(申込入力シート!BS47=\"\",\"\",申込入力シート!BS47)","v":""},{"$f":"IF(申込入力シート!BT47=\"\",\"\",申込入力シート!BT47)","v":""},{"$f":"IF(処理!AO40=\"\",\"\",申込入力シート!$L$14)","v":""},{"$f":"IF(AO40=\"\",\"\",申込入力シート!$L$15)","v":""},{"$f":"IF(申込入力シート!BU47=\"\",\"\",申込入力シート!BU47)","v":""},37,{"$f":"IF(申込入力シート!BX47=\"\",\"\",申込入力シート!BX47)","v":""},{"$f":"IF(申込入力シート!BY47=\"\",\"\",申込入力シート!BY47)","v":""},"","","",{"$f":"IF(申込入力シート!BZ47=\"\",\"\",申込入力シート!BZ47&\"　\"&申込入力シート!CA47)","v":""},{"$f":"IF(申込入力シート!CB47=\"\",\"\",申込入力シート!CB47&\" \"&\"才\")","v":""},{"$f":"IF(申込入力シート!CC47=\"\",\"\",申込入力シート!CC47)","v":""},{"$f":"IF(申込入力シート!CD47=\"\",\"\",申込入力シート!CD47)","v":""},{"$f":"IF(BB40=\"\",\"\",申込入力シート!$L$14)","v":""},{"$f":"IF(BB40=\"\",\"\",申込入力シート!$L$15)","v":""},{"$f":"IF(申込入力シート!CE47=\"\",\"\",申込入力シート!CE47)","v":""}]
[38,{"$f":"IF(申込入力シート!AJ48=\"\",\"\",申込入力シート!AJ48)","v":""},{"$f":"IF(申込入力シート!AK48=\"\",\"\",申込入力シート!AK48)","v":""},"","","",{"$f":"IF(申込入力シート!AL48=\"\",\"\",申込入力シート!AL48&\"　\"&申込入力シート!AM48)","v":""},{"$f":"IF(申込入力シート!AN48=\"\",\"\",IF(LEN(申込入力シート!AN48)=1,\"小\"&\" \"&申込入力シート!AN48,申込入力シート!AN48))","v":""},{"$f":"IF(申込入力シート!AO48=\"\",\"\",申込入力シート!AO48)","v":""},{"$f":"IF(申込入力シート!AP48=\"\",\"\",申込入力シート!AP48)","v":""},{"$f":"IF(B41=\"\",\"\",申込入力シート!$L$14)","v":""},{"$f":"IF(B41=\"\",\"\",申込入力シート!$L$15)","v":""},{"$f":"IF(申込入力シート!AQ48=\"\",\"\",申込入力シート!AQ48)","v":""},38,{"$f":"IF(申込入力シート!AT48=\"\",\"\",申込入力シート!AT48)","v":""},{"$f":"IF(申込入力シート!AU48=\"\",\"\",申込入力シート!AU48)","v":""},"","","",{"$f":"IF(申込入力シート!AV48=\"\",\"\",申込入力シート!AV48&\"　\"&申込入力シート!AW48)","v":""},{"$f":"IF(申込入力シート!AX48=\"\",\"\",\"小\"&\" \"&申込入力シート!AX48)","v":""},{"$f":"IF(申込入力シート!AY48=\"\",\"\",申込入力シート!AY48)","v":""},{"$f":"IF(申込入力シート!AZ48=\"\",\"\",申込入力シート!AZ48)","v":""},{"$f":"IF(O41=\"\",\"\",申込入力シート!$L$14)","v":""},{"$f":"IF(O41=\"\",\"\",申込入力シート!$L$15)","v":""},{"$f":"IF(申込入力シート!BA48=\"\",\"\",申込入力シート!BA48)","v":""},38,{"$f":"IF(申込入力シート!BD48=\"\",\"\",申込入力シート!BD48)","v":""},{"$f":"IF(申込入力シート!BE48=\"\",\"\",申込入力シート!BE48)","v":""},"","","",{"$f":"IF(申込入力シート!BF48=\"\",\"\",申込入力シート!BF48&\"　\"&申込入力シート!BG48)","v":""},{"$f":"IF(申込入力シート!BH48=\"\",\"\",\"中\"&\" \"&申込入力シート!BH48)","v":""},{"$f":"IF(申込入力シート!BI48=\"\",\"\",申込入力シート!BI48)","v":""},{"$f":"IF(申込入力シート!BJ48=\"\",\"\",申込入力シート!BJ48)","v":""},{"$f":"IF(AB41=\"\",\"\",申込入力シート!$L$14)","v":""},{"$f":"IF(AB41=\"\",\"\",申込入力シート!$L$15)","v":""},{"$f":"IF(申込入力シート!BK48=\"\",\"\",申込入力シート!BK48)","v":""},38,{"$f":"IF(申込入力シート!BN48=\"\",\"\",申込入力シート!BN48)","v":""},{"$f":"IF(申込入力シート!BO48=\"\",\"\",申込入力シート!BO48)","v":""},"","","",{"$f":"IF(申込入力シート!BP48=\"\",\"\",申込入力シート!BP48&\"　\"&申込入力シート!BQ48)","v":""},{"$f":"IF(申込入力シート!BR48=\"\",\"\",\"高\"&\" \"&申込入力シート!BR48)","v":""},{"$f":"IF(申込入力シート!BS48=\"\",\"\",申込入力シート!BS48)","v":""},{"$f":"IF(申込入力シート!BT48=\"\",\"\",申込入力シート!BT48)","v":""},{"$f":"IF(処理!AO41=\"\",\"\",申込入力シート!$L$14)","v":""},{"$f":"IF(AO41=\"\",\"\",申込入力シート!$L$15)","v":""},{"$f":"IF(申込入力シート!BU48=\"\",\"\",申込入力シート!BU48)","v":""},38,{"$f":"IF(申込入力シート!BX48=\"\",\"\",申込入力シート!BX48)","v":""},{"$f":"IF(申込入力シート!BY48=\"\",\"\",申込入力シート!BY48)","v":""},"","","",{"$f":"IF(申込入力シート!BZ48=\"\",\"\",申込入力シート!BZ48&\"　\"&申込入力シート!CA48)","v":""},{"$f":"IF(申込入力シート!CB48=\"\",\"\",申込入力シート!CB48&\" \"&\"才\")","v":""},{"$f":"IF(申込入力シート!CC48=\"\",\"\",申込入力シート!CC48)","v":""},{"$f":"IF(申込入力シート!CD48=\"\",\"\",申込入力シート!CD48)","v":""},{"$f":"IF(BB41=\"\",\"\",申込入力シート!$L$14)","v":""},{"$f":"IF(BB41=\"\",\"\",申込入力シート!$L$15)","v":""},{"$f":"IF(申込入力シート!CE48=\"\",\"\",申込入力シート!CE48)","v":""}]
[39,{"$f":"IF(申込入力シート!AJ49=\"\",\"\",申込入力シート!AJ49)","v":""},{"$f":"IF(申込入力シート!AK49=\"\",\"\",申込入力シート!AK49)","v":""},"","","",{"$f":"IF(申込入力シート!AL49=\"\",\"\",申込入力シート!AL49&\"　\"&申込入力シート!AM49)","v":""},{"$f":"IF(申込入力シート!AN49=\"\",\"\",IF(LEN(申込入力シート!AN49)=1,\"小\"&\" \"&申込入力シート!AN49,申込入力シート!AN49))","v":""},{"$f":"IF(申込入力シート!AO49=\"\",\"\",申込入力シート!AO49)","v":""},{"$f":"IF(申込入力シート!AP49=\"\",\"\",申込入力シート!AP49)","v":""},{"$f":"IF(B42=\"\",\"\",申込入力シート!$L$14)","v":""},{"$f":"IF(B42=\"\",\"\",申込入力シート!$L$15)","v":""},{"$f":"IF(申込入力シート!AQ49=\"\",\"\",申込入力シート!AQ49)","v":""},39,{"$f":"IF(申込入力シート!AT49=\"\",\"\",申込入力シート!AT49)","v":""},{"$f":"IF(申込入力シート!AU49=\"\",\"\",申込入力シート!AU49)","v":""},"","","",{"$f":"IF(申込入力シート!AV49=\"\",\"\",申込入力シート!AV49&\"　\"&申込入力シート!AW49)","v":""},{"$f":"IF(申込入力シート!AX49=\"\",\"\",\"小\"&\" \"&申込入力シート!AX49)","v":""},{"$f":"IF(申込入力シート!AY49=\"\",\"\",申込入力シート!AY49)","v":""},{"$f":"IF(申込入力シート!AZ49=\"\",\"\",申込入力シート!AZ49)","v":""},{"$f":"IF(O42=\"\",\"\",申込入力シート!$L$14)","v":""},{"$f":"IF(O42=\"\",\"\",申込入力シート!$L$15)","v":""},{"$f":"IF(申込入力シート!BA49=\"\",\"\",申込入力シート!BA49)","v":""},39,{"$f":"IF(申込入力シート!BD49=\"\",\"\",申込入力シート!BD49)","v":""},{"$f":"IF(申込入力シート!BE49=\"\",\"\",申込入力シート!BE49)","v":""},"","","",{"$f":"IF(申込入力シート!BF49=\"\",\"\",申込入力シート!BF49&\"　\"&申込入力シート!BG49)","v":""},{"$f":"IF(申込入力シート!BH49=\"\",\"\",\"中\"&\" \"&申込入力シート!BH49)","v":""},{"$f":"IF(申込入力シート!BI49=\"\",\"\",申込入力シート!BI49)","v":""},{"$f":"IF(申込入力シート!BJ49=\"\",\"\",申込入力シート!BJ49)","v":""},{"$f":"IF(AB42=\"\",\"\",申込入力シート!$L$14)","v":""},{"$f":"IF(AB42=\"\",\"\",申込入力シート!$L$15)","v":""},{"$f":"IF(申込入力シート!BK49=\"\",\"\",申込入力シート!BK49)","v":""},39,{"$f":"IF(申込入力シート!BN49=\"\",\"\",申込入力シート!BN49)","v":""},{"$f":"IF(申込入力シート!BO49=\"\",\"\",申込入力シート!BO49)","v":""},"","","",{"$f":"IF(申込入力シート!BP49=\"\",\"\",申込入力シート!BP49&\"　\"&申込入力シート!BQ49)","v":""},{"$f":"IF(申込入力シート!BR49=\"\",\"\",\"高\"&\" \"&申込入力シート!BR49)","v":""},{"$f":"IF(申込入力シート!BS49=\"\",\"\",申込入力シート!BS49)","v":""},{"$f":"IF(申込入力シート!BT49=\"\",\"\",申込入力シート!BT49)","v":""},{"$f":"IF(処理!AO42=\"\",\"\",申込入力シート!$L$14)","v":""},{"$f":"IF(AO42=\"\",\"\",申込入力シート!$L$15)","v":""},{"$f":"IF(申込入力シート!BU49=\"\",\"\",申込入力シート!BU49)","v":""},39,{"$f":"IF(申込入力シート!BX49=\"\",\"\",申込入力シート!BX49)","v":""},{"$f":"IF(申込入力シート!BY49=\"\",\"\",申込入力シート!BY49)","v":""},"","","",{"$f":"IF(申込入力シート!BZ49=\"\",\"\",申込入力シート!BZ49&\"　\"&申込入力シート!CA49)","v":""},{"$f":"IF(申込入力シート!CB49=\"\",\"\",申込入力シート!CB49&\" \"&\"才\")","v":""},{"$f":"IF(申込入力シート!CC49=\"\",\"\",申込入力シート!CC49)","v":""},{"$f":"IF(申込入力シート!CD49=\"\",\"\",申込入力シート!CD49)","v":""},{"$f":"IF(BB42=\"\",\"\",申込入力シート!$L$14)","v":""},{"$f":"IF(BB42=\"\",\"\",申込入力シート!$L$15)","v":""},{"$f":"IF(申込入力シート!CE49=\"\",\"\",申込入力シート!CE49)","v":""}]
[40,{"$f":"IF(申込入力シート!AJ50=\"\",\"\",申込入力シート!AJ50)","v":""},{"$f":"IF(申込入力シート!AK50=\"\",\"\",申込入力シート!AK50)","v":""},"","","",{"$f":"IF(申込入力シート!AL50=\"\",\"\",申込入力シート!AL50&\"　\"&申込入力シート!AM50)","v":""},{"$f":"IF(申込入力シート!AN50=\"\",\"\",IF(LEN(申込入力シート!AN50)=1,\"小\"&\" \"&申込入力シート!AN50,申込入力シート!AN50))","v":""},{"$f":"IF(申込入力シート!AO50=\"\",\"\",申込入力シート!AO50)","v":""},{"$f":"IF(申込入力シート!AP50=\"\",\"\",申込入力シート!AP50)","v":""},{"$f":"IF(B43=\"\",\"\",申込入力シート!$L$14)","v":""},{"$f":"IF(B43=\"\",\"\",申込入力シート!$L$15)","v":""},{"$f":"IF(申込入力シート!AQ50=\"\",\"\",申込入力シート!AQ50)","v":""},40,{"$f":"IF(申込入力シート!AT50=\"\",\"\",申込入力シート!AT50)","v":""},{"$f":"IF(申込入力シート!AU50=\"\",\"\",申込入力シート!AU50)","v":""},"","","",{"$f":"IF(申込入力シート!AV50=\"\",\"\",申込入力シート!AV50&\"　\"&申込入力シート!AW50)","v":""},{"$f":"IF(申込入力シート!AX50=\"\",\"\",\"小\"&\" \"&申込入力シート!AX50)","v":""},{"$f":"IF(申込入力シート!AY50=\"\",\"\",申込入力シート!AY50)","v":""},{"$f":"IF(申込入力シート!AZ50=\"\",\"\",申込入力シート!AZ50)","v":""},{"$f":"IF(O43=\"\",\"\",申込入力シート!$L$14)","v":""},{"$f":"IF(O43=\"\",\"\",申込入力シート!$L$15)","v":""},{"$f":"IF(申込入力シート!BA50=\"\",\"\",申込入力シート!BA50)","v":""},40,{"$f":"IF(申込入力シート!BD50=\"\",\"\",申込入力シート!BD50)","v":""},{"$f":"IF(申込入力シート!BE50=\"\",\"\",申込入力シート!BE50)","v":""},"","","",{"$f":"IF(申込入力シート!BF50=\"\",\"\",申込入力シート!BF50&\"　\"&申込入力シート!BG50)","v":""},{"$f":"IF(申込入力シート!BH50=\"\",\"\",\"中\"&\" \"&申込入力シート!BH50)","v":""},{"$f":"IF(申込入力シート!BI50=\"\",\"\",申込入力シート!BI50)","v":""},{"$f":"IF(申込入力シート!BJ50=\"\",\"\",申込入力シート!BJ50)","v":""},{"$f":"IF(AB43=\"\",\"\",申込入力シート!$L$14)","v":""},{"$f":"IF(AB43=\"\",\"\",申込入力シート!$L$15)","v":""},{"$f":"IF(申込入力シート!BK50=\"\",\"\",申込入力シート!BK50)","v":""},40,{"$f":"IF(申込入力シート!BN50=\"\",\"\",申込入力シート!BN50)","v":""},{"$f":"IF(申込入力シート!BO50=\"\",\"\",申込入力シート!BO50)","v":""},"","","",{"$f":"IF(申込入力シート!BP50=\"\",\"\",申込入力シート!BP50&\"　\"&申込入力シート!BQ50)","v":""},{"$f":"IF(申込入力シート!BR50=\"\",\"\",\"高\"&\" \"&申込入力シート!BR50)","v":""},{"$f":"IF(申込入力シート!BS50=\"\",\"\",申込入力シート!BS50)","v":""},{"$f":"IF(申込入力シート!BT50=\"\",\"\",申込入力シート!BT50)","v":""},{"$f":"IF(処理!AO43=\"\",\"\",申込入力シート!$L$14)","v":""},{"$f":"IF(AO43=\"\",\"\",申込入力シート!$L$15)","v":""},{"$f":"IF(申込入力シート!BU50=\"\",\"\",申込入力シート!BU50)","v":""},40,{"$f":"IF(申込入力シート!BX50=\"\",\"\",申込入力シート!BX50)","v":""},{"$f":"IF(申込入力シート!BY50=\"\",\"\",申込入力シート!BY50)","v":""},"","","",{"$f":"IF(申込入力シート!BZ50=\"\",\"\",申込入力シート!BZ50&\"　\"&申込入力シート!CA50)","v":""},{"$f":"IF(申込入力シート!CB50=\"\",\"\",申込入力シート!CB50&\" \"&\"才\")","v":""},{"$f":"IF(申込入力シート!CC50=\"\",\"\",申込入力シート!CC50)","v":""},{"$f":"IF(申込入力シート!CD50=\"\",\"\",申込入力シート!CD50)","v":""},{"$f":"IF(BB43=\"\",\"\",申込入力シート!$L$14)","v":""},{"$f":"IF(BB43=\"\",\"\",申込入力シート!$L$15)","v":""},{"$f":"IF(申込入力シート!CE50=\"\",\"\",申込入力シート!CE50)","v":""}]
[41,{"$f":"IF(申込入力シート!AJ51=\"\",\"\",申込入力シート!AJ51)","v":""},{"$f":"IF(申込入力シート!AK51=\"\",\"\",申込入力シート!AK51)","v":""},"","","",{"$f":"IF(申込入力シート!AL51=\"\",\"\",申込入力シート!AL51&\"　\"&申込入力シート!AM51)","v":""},{"$f":"IF(申込入力シート!AN51=\"\",\"\",IF(LEN(申込入力シート!AN51)=1,\"小\"&\" \"&申込入力シート!AN51,申込入力シート!AN51))","v":""},{"$f":"IF(申込入力シート!AO51=\"\",\"\",申込入力シート!AO51)","v":""},{"$f":"IF(申込入力シート!AP51=\"\",\"\",申込入力シート!AP51)","v":""},{"$f":"IF(B44=\"\",\"\",申込入力シート!$L$14)","v":""},{"$f":"IF(B44=\"\",\"\",申込入力シート!$L$15)","v":""},{"$f":"IF(申込入力シート!AQ51=\"\",\"\",申込入力シート!AQ51)","v":""},41,{"$f":"IF(申込入力シート!AT51=\"\",\"\",申込入力シート!AT51)","v":""},{"$f":"IF(申込入力シート!AU51=\"\",\"\",申込入力シート!AU51)","v":""},"","","",{"$f":"IF(申込入力シート!AV51=\"\",\"\",申込入力シート!AV51&\"　\"&申込入力シート!AW51)","v":""},{"$f":"IF(申込入力シート!AX51=\"\",\"\",\"小\"&\" \"&申込入力シート!AX51)","v":""},{"$f":"IF(申込入力シート!AY51=\"\",\"\",申込入力シート!AY51)","v":""},{"$f":"IF(申込入力シート!AZ51=\"\",\"\",申込入力シート!AZ51)","v":""},{"$f":"IF(O44=\"\",\"\",申込入力シート!$L$14)","v":""},{"$f":"IF(O44=\"\",\"\",申込入力シート!$L$15)","v":""},{"$f":"IF(申込入力シート!BA51=\"\",\"\",申込入力シート!BA51)","v":""},41,{"$f":"IF(申込入力シート!BD51=\"\",\"\",申込入力シート!BD51)","v":""},{"$f":"IF(申込入力シート!BE51=\"\",\"\",申込入力シート!BE51)","v":""},"","","",{"$f":"IF(申込入力シート!BF51=\"\",\"\",申込入力シート!BF51&\"　\"&申込入力シート!BG51)","v":""},{"$f":"IF(申込入力シート!BH51=\"\",\"\",\"中\"&\" \"&申込入力シート!BH51)","v":""},{"$f":"IF(申込入力シート!BI51=\"\",\"\",申込入力シート!BI51)","v":""},{"$f":"IF(申込入力シート!BJ51=\"\",\"\",申込入力シート!BJ51)","v":""},{"$f":"IF(AB44=\"\",\"\",申込入力シート!$L$14)","v":""},{"$f":"IF(AB44=\"\",\"\",申込入力シート!$L$15)","v":""},{"$f":"IF(申込入力シート!BK51=\"\",\"\",申込入力シート!BK51)","v":""},41,{"$f":"IF(申込入力シート!BN51=\"\",\"\",申込入力シート!BN51)","v":""},{"$f":"IF(申込入力シート!BO51=\"\",\"\",申込入力シート!BO51)","v":""},"","","",{"$f":"IF(申込入力シート!BP51=\"\",\"\",申込入力シート!BP51&\"　\"&申込入力シート!BQ51)","v":""},{"$f":"IF(申込入力シート!BR51=\"\",\"\",\"高\"&\" \"&申込入力シート!BR51)","v":""},{"$f":"IF(申込入力シート!BS51=\"\",\"\",申込入力シート!BS51)","v":""},{"$f":"IF(申込入力シート!BT51=\"\",\"\",申込入力シート!BT51)","v":""},{"$f":"IF(処理!AO44=\"\",\"\",申込入力シート!$L$14)","v":""},{"$f":"IF(AO44=\"\",\"\",申込入力シート!$L$15)","v":""},{"$f":"IF(申込入力シート!BU51=\"\",\"\",申込入力シート!BU51)","v":""},41,{"$f":"IF(申込入力シート!BX51=\"\",\"\",申込入力シート!BX51)","v":""},{"$f":"IF(申込入力シート!BY51=\"\",\"\",申込入力シート!BY51)","v":""},"","","",{"$f":"IF(申込入力シート!BZ51=\"\",\"\",申込入力シート!BZ51&\"　\"&申込入力シート!CA51)","v":""},{"$f":"IF(申込入力シート!CB51=\"\",\"\",申込入力シート!CB51&\" \"&\"才\")","v":""},{"$f":"IF(申込入力シート!CC51=\"\",\"\",申込入力シート!CC51)","v":""},{"$f":"IF(申込入力シート!CD51=\"\",\"\",申込入力シート!CD51)","v":""},{"$f":"IF(BB44=\"\",\"\",申込入力シート!$L$14)","v":""},{"$f":"IF(BB44=\"\",\"\",申込入力シート!$L$15)","v":""},{"$f":"IF(申込入力シート!CE51=\"\",\"\",申込入力シート!CE51)","v":""}]
[42,{"$f":"IF(申込入力シート!AJ52=\"\",\"\",申込入力シート!AJ52)","v":""},{"$f":"IF(申込入力シート!AK52=\"\",\"\",申込入力シート!AK52)","v":""},"","","",{"$f":"IF(申込入力シート!AL52=\"\",\"\",申込入力シート!AL52&\"　\"&申込入力シート!AM52)","v":""},{"$f":"IF(申込入力シート!AN52=\"\",\"\",IF(LEN(申込入力シート!AN52)=1,\"小\"&\" \"&申込入力シート!AN52,申込入力シート!AN52))","v":""},{"$f":"IF(申込入力シート!AO52=\"\",\"\",申込入力シート!AO52)","v":""},{"$f":"IF(申込入力シート!AP52=\"\",\"\",申込入力シート!AP52)","v":""},{"$f":"IF(B45=\"\",\"\",申込入力シート!$L$14)","v":""},{"$f":"IF(B45=\"\",\"\",申込入力シート!$L$15)","v":""},{"$f":"IF(申込入力シート!AQ52=\"\",\"\",申込入力シート!AQ52)","v":""},42,{"$f":"IF(申込入力シート!AT52=\"\",\"\",申込入力シート!AT52)","v":""},{"$f":"IF(申込入力シート!AU52=\"\",\"\",申込入力シート!AU52)","v":""},"","","",{"$f":"IF(申込入力シート!AV52=\"\",\"\",申込入力シート!AV52&\"　\"&申込入力シート!AW52)","v":""},{"$f":"IF(申込入力シート!AX52=\"\",\"\",\"小\"&\" \"&申込入力シート!AX52)","v":""},{"$f":"IF(申込入力シート!AY52=\"\",\"\",申込入力シート!AY52)","v":""},{"$f":"IF(申込入力シート!AZ52=\"\",\"\",申込入力シート!AZ52)","v":""},{"$f":"IF(O45=\"\",\"\",申込入力シート!$L$14)","v":""},{"$f":"IF(O45=\"\",\"\",申込入力シート!$L$15)","v":""},{"$f":"IF(申込入力シート!BA52=\"\",\"\",申込入力シート!BA52)","v":""},42,{"$f":"IF(申込入力シート!BD52=\"\",\"\",申込入力シート!BD52)","v":""},{"$f":"IF(申込入力シート!BE52=\"\",\"\",申込入力シート!BE52)","v":""},"","","",{"$f":"IF(申込入力シート!BF52=\"\",\"\",申込入力シート!BF52&\"　\"&申込入力シート!BG52)","v":""},{"$f":"IF(申込入力シート!BH52=\"\",\"\",\"中\"&\" \"&申込入力シート!BH52)","v":""},{"$f":"IF(申込入力シート!BI52=\"\",\"\",申込入力シート!BI52)","v":""},{"$f":"IF(申込入力シート!BJ52=\"\",\"\",申込入力シート!BJ52)","v":""},{"$f":"IF(AB45=\"\",\"\",申込入力シート!$L$14)","v":""},{"$f":"IF(AB45=\"\",\"\",申込入力シート!$L$15)","v":""},{"$f":"IF(申込入力シート!BK52=\"\",\"\",申込入力シート!BK52)","v":""},42,{"$f":"IF(申込入力シート!BN52=\"\",\"\",申込入力シート!BN52)","v":""},{"$f":"IF(申込入力シート!BO52=\"\",\"\",申込入力シート!BO52)","v":""},"","","",{"$f":"IF(申込入力シート!BP52=\"\",\"\",申込入力シート!BP52&\"　\"&申込入力シート!BQ52)","v":""},{"$f":"IF(申込入力シート!BR52=\"\",\"\",\"高\"&\" \"&申込入力シート!BR52)","v":""},{"$f":"IF(申込入力シート!BS52=\"\",\"\",申込入力シート!BS52)","v":""},{"$f":"IF(申込入力シート!BT52=\"\",\"\",申込入力シート!BT52)","v":""},{"$f":"IF(処理!AO45=\"\",\"\",申込入力シート!$L$14)","v":""},{"$f":"IF(AO45=\"\",\"\",申込入力シート!$L$15)","v":""},{"$f":"IF(申込入力シート!BU52=\"\",\"\",申込入力シート!BU52)","v":""},42,{"$f":"IF(申込入力シート!BX52=\"\",\"\",申込入力シート!BX52)","v":""},{"$f":"IF(申込入力シート!BY52=\"\",\"\",申込入力シート!BY52)","v":""},"","","",{"$f":"IF(申込入力シート!BZ52=\"\",\"\",申込入力シート!BZ52&\"　\"&申込入力シート!CA52)","v":""},{"$f":"IF(申込入力シート!CB52=\"\",\"\",申込入力シート!CB52&\" \"&\"才\")","v":""},{"$f":"IF(申込入力シート!CC52=\"\",\"\",申込入力シート!CC52)","v":""},{"$f":"IF(申込入力シート!CD52=\"\",\"\",申込入力シート!CD52)","v":""},{"$f":"IF(BB45=\"\",\"\",申込入力シート!$L$14)","v":""},{"$f":"IF(BB45=\"\",\"\",申込入力シート!$L$15)","v":""},{"$f":"IF(申込入力シート!CE52=\"\",\"\",申込入力シート!CE52)","v":""}]
[43,{"$f":"IF(申込入力シート!AJ53=\"\",\"\",申込入力シート!AJ53)","v":""},{"$f":"IF(申込入力シート!AK53=\"\",\"\",申込入力シート!AK53)","v":""},"","","",{"$f":"IF(申込入力シート!AL53=\"\",\"\",申込入力シート!AL53&\"　\"&申込入力シート!AM53)","v":""},{"$f":"IF(申込入力シート!AN53=\"\",\"\",IF(LEN(申込入力シート!AN53)=1,\"小\"&\" \"&申込入力シート!AN53,申込入力シート!AN53))","v":""},{"$f":"IF(申込入力シート!AO53=\"\",\"\",申込入力シート!AO53)","v":""},{"$f":"IF(申込入力シート!AP53=\"\",\"\",申込入力シート!AP53)","v":""},{"$f":"IF(B46=\"\",\"\",申込入力シート!$L$14)","v":""},{"$f":"IF(B46=\"\",\"\",申込入力シート!$L$15)","v":""},{"$f":"IF(申込入力シート!AQ53=\"\",\"\",申込入力シート!AQ53)","v":""},43,{"$f":"IF(申込入力シート!AT53=\"\",\"\",申込入力シート!AT53)","v":""},{"$f":"IF(申込入力シート!AU53=\"\",\"\",申込入力シート!AU53)","v":""},"","","",{"$f":"IF(申込入力シート!AV53=\"\",\"\",申込入力シート!AV53&\"　\"&申込入力シート!AW53)","v":""},{"$f":"IF(申込入力シート!AX53=\"\",\"\",\"小\"&\" \"&申込入力シート!AX53)","v":""},{"$f":"IF(申込入力シート!AY53=\"\",\"\",申込入力シート!AY53)","v":""},{"$f":"IF(申込入力シート!AZ53=\"\",\"\",申込入力シート!AZ53)","v":""},{"$f":"IF(O46=\"\",\"\",申込入力シート!$L$14)","v":""},{"$f":"IF(O46=\"\",\"\",申込入力シート!$L$15)","v":""},{"$f":"IF(申込入力シート!BA53=\"\",\"\",申込入力シート!BA53)","v":""},43,{"$f":"IF(申込入力シート!BD53=\"\",\"\",申込入力シート!BD53)","v":""},{"$f":"IF(申込入力シート!BE53=\"\",\"\",申込入力シート!BE53)","v":""},"","","",{"$f":"IF(申込入力シート!BF53=\"\",\"\",申込入力シート!BF53&\"　\"&申込入力シート!BG53)","v":""},{"$f":"IF(申込入力シート!BH53=\"\",\"\",\"中\"&\" \"&申込入力シート!BH53)","v":""},{"$f":"IF(申込入力シート!BI53=\"\",\"\",申込入力シート!BI53)","v":""},{"$f":"IF(申込入力シート!BJ53=\"\",\"\",申込入力シート!BJ53)","v":""},{"$f":"IF(AB46=\"\",\"\",申込入力シート!$L$14)","v":""},{"$f":"IF(AB46=\"\",\"\",申込入力シート!$L$15)","v":""},{"$f":"IF(申込入力シート!BK53=\"\",\"\",申込入力シート!BK53)","v":""},43,{"$f":"IF(申込入力シート!BN53=\"\",\"\",申込入力シート!BN53)","v":""},{"$f":"IF(申込入力シート!BO53=\"\",\"\",申込入力シート!BO53)","v":""},"","","",{"$f":"IF(申込入力シート!BP53=\"\",\"\",申込入力シート!BP53&\"　\"&申込入力シート!BQ53)","v":""},{"$f":"IF(申込入力シート!BR53=\"\",\"\",\"高\"&\" \"&申込入力シート!BR53)","v":""},{"$f":"IF(申込入力シート!BS53=\"\",\"\",申込入力シート!BS53)","v":""},{"$f":"IF(申込入力シート!BT53=\"\",\"\",申込入力シート!BT53)","v":""},{"$f":"IF(処理!AO46=\"\",\"\",申込入力シート!$L$14)","v":""},{"$f":"IF(AO46=\"\",\"\",申込入力シート!$L$15)","v":""},{"$f":"IF(申込入力シート!BU53=\"\",\"\",申込入力シート!BU53)","v":""},43,{"$f":"IF(申込入力シート!BX53=\"\",\"\",申込入力シート!BX53)","v":""},{"$f":"IF(申込入力シート!BY53=\"\",\"\",申込入力シート!BY53)","v":""},"","","",{"$f":"IF(申込入力シート!BZ53=\"\",\"\",申込入力シート!BZ53&\"　\"&申込入力シート!CA53)","v":""},{"$f":"IF(申込入力シート!CB53=\"\",\"\",申込入力シート!CB53&\" \"&\"才\")","v":""},{"$f":"IF(申込入力シート!CC53=\"\",\"\",申込入力シート!CC53)","v":""},{"$f":"IF(申込入力シート!CD53=\"\",\"\",申込入力シート!CD53)","v":""},{"$f":"IF(BB46=\"\",\"\",申込入力シート!$L$14)","v":""},{"$f":"IF(BB46=\"\",\"\",申込入力シート!$L$15)","v":""},{"$f":"IF(申込入力シート!CE53=\"\",\"\",申込入力シート!CE53)","v":""}]
[44,{"$f":"IF(申込入力シート!AJ54=\"\",\"\",申込入力シート!AJ54)","v":""},{"$f":"IF(申込入力シート!AK54=\"\",\"\",申込入力シート!AK54)","v":""},"","","",{"$f":"IF(申込入力シート!AL54=\"\",\"\",申込入力シート!AL54&\"　\"&申込入力シート!AM54)","v":""},{"$f":"IF(申込入力シート!AN54=\"\",\"\",IF(LEN(申込入力シート!AN54)=1,\"小\"&\" \"&申込入力シート!AN54,申込入力シート!AN54))","v":""},{"$f":"IF(申込入力シート!AO54=\"\",\"\",申込入力シート!AO54)","v":""},{"$f":"IF(申込入力シート!AP54=\"\",\"\",申込入力シート!AP54)","v":""},{"$f":"IF(B47=\"\",\"\",申込入力シート!$L$14)","v":""},{"$f":"IF(B47=\"\",\"\",申込入力シート!$L$15)","v":""},{"$f":"IF(申込入力シート!AQ54=\"\",\"\",申込入力シート!AQ54)","v":""},44,{"$f":"IF(申込入力シート!AT54=\"\",\"\",申込入力シート!AT54)","v":""},{"$f":"IF(申込入力シート!AU54=\"\",\"\",申込入力シート!AU54)","v":""},"","","",{"$f":"IF(申込入力シート!AV54=\"\",\"\",申込入力シート!AV54&\"　\"&申込入力シート!AW54)","v":""},{"$f":"IF(申込入力シート!AX54=\"\",\"\",\"小\"&\" \"&申込入力シート!AX54)","v":""},{"$f":"IF(申込入力シート!AY54=\"\",\"\",申込入力シート!AY54)","v":""},{"$f":"IF(申込入力シート!AZ54=\"\",\"\",申込入力シート!AZ54)","v":""},{"$f":"IF(O47=\"\",\"\",申込入力シート!$L$14)","v":""},{"$f":"IF(O47=\"\",\"\",申込入力シート!$L$15)","v":""},{"$f":"IF(申込入力シート!BA54=\"\",\"\",申込入力シート!BA54)","v":""},44,{"$f":"IF(申込入力シート!BD54=\"\",\"\",申込入力シート!BD54)","v":""},{"$f":"IF(申込入力シート!BE54=\"\",\"\",申込入力シート!BE54)","v":""},"","","",{"$f":"IF(申込入力シート!BF54=\"\",\"\",申込入力シート!BF54&\"　\"&申込入力シート!BG54)","v":""},{"$f":"IF(申込入力シート!BH54=\"\",\"\",\"中\"&\" \"&申込入力シート!BH54)","v":""},{"$f":"IF(申込入力シート!BI54=\"\",\"\",申込入力シート!BI54)","v":""},{"$f":"IF(申込入力シート!BJ54=\"\",\"\",申込入力シート!BJ54)","v":""},{"$f":"IF(AB47=\"\",\"\",申込入力シート!$L$14)","v":""},{"$f":"IF(AB47=\"\",\"\",申込入力シート!$L$15)","v":""},{"$f":"IF(申込入力シート!BK54=\"\",\"\",申込入力シート!BK54)","v":""},44,{"$f":"IF(申込入力シート!BN54=\"\",\"\",申込入力シート!BN54)","v":""},{"$f":"IF(申込入力シート!BO54=\"\",\"\",申込入力シート!BO54)","v":""},"","","",{"$f":"IF(申込入力シート!BP54=\"\",\"\",申込入力シート!BP54&\"　\"&申込入力シート!BQ54)","v":""},{"$f":"IF(申込入力シート!BR54=\"\",\"\",\"高\"&\" \"&申込入力シート!BR54)","v":""},{"$f":"IF(申込入力シート!BS54=\"\",\"\",申込入力シート!BS54)","v":""},{"$f":"IF(申込入力シート!BT54=\"\",\"\",申込入力シート!BT54)","v":""},{"$f":"IF(処理!AO47=\"\",\"\",申込入力シート!$L$14)","v":""},{"$f":"IF(AO47=\"\",\"\",申込入力シート!$L$15)","v":""},{"$f":"IF(申込入力シート!BU54=\"\",\"\",申込入力シート!BU54)","v":""},44,{"$f":"IF(申込入力シート!BX54=\"\",\"\",申込入力シート!BX54)","v":""},{"$f":"IF(申込入力シート!BY54=\"\",\"\",申込入力シート!BY54)","v":""},"","","",{"$f":"IF(申込入力シート!BZ54=\"\",\"\",申込入力シート!BZ54&\"　\"&申込入力シート!CA54)","v":""},{"$f":"IF(申込入力シート!CB54=\"\",\"\",申込入力シート!CB54&\" \"&\"才\")","v":""},{"$f":"IF(申込入力シート!CC54=\"\",\"\",申込入力シート!CC54)","v":""},{"$f":"IF(申込入力シート!CD54=\"\",\"\",申込入力シート!CD54)","v":""},{"$f":"IF(BB47=\"\",\"\",申込入力シート!$L$14)","v":""},{"$f":"IF(BB47=\"\",\"\",申込入力シート!$L$15)","v":""},{"$f":"IF(申込入力シート!CE54=\"\",\"\",申込入力シート!CE54)","v":""}]
[45,{"$f":"IF(申込入力シート!AJ55=\"\",\"\",申込入力シート!AJ55)","v":""},{"$f":"IF(申込入力シート!AK55=\"\",\"\",申込入力シート!AK55)","v":""},"","","",{"$f":"IF(申込入力シート!AL55=\"\",\"\",申込入力シート!AL55&\"　\"&申込入力シート!AM55)","v":""},{"$f":"IF(申込入力シート!AN55=\"\",\"\",IF(LEN(申込入力シート!AN55)=1,\"小\"&\" \"&申込入力シート!AN55,申込入力シート!AN55))","v":""},{"$f":"IF(申込入力シート!AO55=\"\",\"\",申込入力シート!AO55)","v":""},{"$f":"IF(申込入力シート!AP55=\"\",\"\",申込入力シート!AP55)","v":""},{"$f":"IF(B48=\"\",\"\",申込入力シート!$L$14)","v":""},{"$f":"IF(B48=\"\",\"\",申込入力シート!$L$15)","v":""},{"$f":"IF(申込入力シート!AQ55=\"\",\"\",申込入力シート!AQ55)","v":""},45,{"$f":"IF(申込入力シート!AT55=\"\",\"\",申込入力シート!AT55)","v":""},{"$f":"IF(申込入力シート!AU55=\"\",\"\",申込入力シート!AU55)","v":""},"","","",{"$f":"IF(申込入力シート!AV55=\"\",\"\",申込入力シート!AV55&\"　\"&申込入力シート!AW55)","v":""},{"$f":"IF(申込入力シート!AX55=\"\",\"\",\"小\"&\" \"&申込入力シート!AX55)","v":""},{"$f":"IF(申込入力シート!AY55=\"\",\"\",申込入力シート!AY55)","v":""},{"$f":"IF(申込入力シート!AZ55=\"\",\"\",申込入力シート!AZ55)","v":""},{"$f":"IF(O48=\"\",\"\",申込入力シート!$L$14)","v":""},{"$f":"IF(O48=\"\",\"\",申込入力シート!$L$15)","v":""},{"$f":"IF(申込入力シート!BA55=\"\",\"\",申込入力シート!BA55)","v":""},45,{"$f":"IF(申込入力シート!BD55=\"\",\"\",申込入力シート!BD55)","v":""},{"$f":"IF(申込入力シート!BE55=\"\",\"\",申込入力シート!BE55)","v":""},"","","",{"$f":"IF(申込入力シート!BF55=\"\",\"\",申込入力シート!BF55&\"　\"&申込入力シート!BG55)","v":""},{"$f":"IF(申込入力シート!BH55=\"\",\"\",\"中\"&\" \"&申込入力シート!BH55)","v":""},{"$f":"IF(申込入力シート!BI55=\"\",\"\",申込入力シート!BI55)","v":""},{"$f":"IF(申込入力シート!BJ55=\"\",\"\",申込入力シート!BJ55)","v":""},{"$f":"IF(AB48=\"\",\"\",申込入力シート!$L$14)","v":""},{"$f":"IF(AB48=\"\",\"\",申込入力シート!$L$15)","v":""},{"$f":"IF(申込入力シート!BK55=\"\",\"\",申込入力シート!BK55)","v":""},45,{"$f":"IF(申込入力シート!BN55=\"\",\"\",申込入力シート!BN55)","v":""},{"$f":"IF(申込入力シート!BO55=\"\",\"\",申込入力シート!BO55)","v":""},"","","",{"$f":"IF(申込入力シート!BP55=\"\",\"\",申込入力シート!BP55&\"　\"&申込入力シート!BQ55)","v":""},{"$f":"IF(申込入力シート!BR55=\"\",\"\",\"高\"&\" \"&申込入力シート!BR55)","v":""},{"$f":"IF(申込入力シート!BS55=\"\",\"\",申込入力シート!BS55)","v":""},{"$f":"IF(申込入力シート!BT55=\"\",\"\",申込入力シート!BT55)","v":""},{"$f":"IF(処理!AO48=\"\",\"\",申込入力シート!$L$14)","v":""},{"$f":"IF(AO48=\"\",\"\",申込入力シート!$L$15)","v":""},{"$f":"IF(申込入力シート!BU55=\"\",\"\",申込入力シート!BU55)","v":""},45,{"$f":"IF(申込入力シート!BX55=\"\",\"\",申込入力シート!BX55)","v":""},{"$f":"IF(申込入力シート!BY55=\"\",\"\",申込入力シート!BY55)","v":""},"","","",{"$f":"IF(申込入力シート!BZ55=\"\",\"\",申込入力シート!BZ55&\"　\"&申込入力シート!CA55)","v":""},{"$f":"IF(申込入力シート!CB55=\"\",\"\",申込入力シート!CB55&\" \"&\"才\")","v":""},{"$f":"IF(申込入力シート!CC55=\"\",\"\",申込入力シート!CC55)","v":""},{"$f":"IF(申込入力シート!CD55=\"\",\"\",申込入力シート!CD55)","v":""},{"$f":"IF(BB48=\"\",\"\",申込入力シート!$L$14)","v":""},{"$f":"IF(BB48=\"\",\"\",申込入力シート!$L$15)","v":""},{"$f":"IF(申込入力シート!CE55=\"\",\"\",申込入力シート!CE55)","v":""}]
[46,{"$f":"IF(申込入力シート!AJ56=\"\",\"\",申込入力シート!AJ56)","v":""},{"$f":"IF(申込入力シート!AK56=\"\",\"\",申込入力シート!AK56)","v":""},"","","",{"$f":"IF(申込入力シート!AL56=\"\",\"\",申込入力シート!AL56&\"　\"&申込入力シート!AM56)","v":""},{"$f":"IF(申込入力シート!AN56=\"\",\"\",IF(LEN(申込入力シート!AN56)=1,\"小\"&\" \"&申込入力シート!AN56,申込入力シート!AN56))","v":""},{"$f":"IF(申込入力シート!AO56=\"\",\"\",申込入力シート!AO56)","v":""},{"$f":"IF(申込入力シート!AP56=\"\",\"\",申込入力シート!AP56)","v":""},{"$f":"IF(B49=\"\",\"\",申込入力シート!$L$14)","v":""},{"$f":"IF(B49=\"\",\"\",申込入力シート!$L$15)","v":""},{"$f":"IF(申込入力シート!AQ56=\"\",\"\",申込入力シート!AQ56)","v":""},46,{"$f":"IF(申込入力シート!AT56=\"\",\"\",申込入力シート!AT56)","v":""},{"$f":"IF(申込入力シート!AU56=\"\",\"\",申込入力シート!AU56)","v":""},"","","",{"$f":"IF(申込入力シート!AV56=\"\",\"\",申込入力シート!AV56&\"　\"&申込入力シート!AW56)","v":""},{"$f":"IF(申込入力シート!AX56=\"\",\"\",\"小\"&\" \"&申込入力シート!AX56)","v":""},{"$f":"IF(申込入力シート!AY56=\"\",\"\",申込入力シート!AY56)","v":""},{"$f":"IF(申込入力シート!AZ56=\"\",\"\",申込入力シート!AZ56)","v":""},{"$f":"IF(O49=\"\",\"\",申込入力シート!$L$14)","v":""},{"$f":"IF(O49=\"\",\"\",申込入力シート!$L$15)","v":""},{"$f":"IF(申込入力シート!BA56=\"\",\"\",申込入力シート!BA56)","v":""},46,{"$f":"IF(申込入力シート!BD56=\"\",\"\",申込入力シート!BD56)","v":""},{"$f":"IF(申込入力シート!BE56=\"\",\"\",申込入力シート!BE56)","v":""},"","","",{"$f":"IF(申込入力シート!BF56=\"\",\"\",申込入力シート!BF56&\"　\"&申込入力シート!BG56)","v":""},{"$f":"IF(申込入力シート!BH56=\"\",\"\",\"中\"&\" \"&申込入力シート!BH56)","v":""},{"$f":"IF(申込入力シート!BI56=\"\",\"\",申込入力シート!BI56)","v":""},{"$f":"IF(申込入力シート!BJ56=\"\",\"\",申込入力シート!BJ56)","v":""},{"$f":"IF(AB49=\"\",\"\",申込入力シート!$L$14)","v":""},{"$f":"IF(AB49=\"\",\"\",申込入力シート!$L$15)","v":""},{"$f":"IF(申込入力シート!BK56=\"\",\"\",申込入力シート!BK56)","v":""},46,{"$f":"IF(申込入力シート!BN56=\"\",\"\",申込入力シート!BN56)","v":""},{"$f":"IF(申込入力シート!BO56=\"\",\"\",申込入力シート!BO56)","v":""},"","","",{"$f":"IF(申込入力シート!BP56=\"\",\"\",申込入力シート!BP56&\"　\"&申込入力シート!BQ56)","v":""},{"$f":"IF(申込入力シート!BR56=\"\",\"\",\"高\"&\" \"&申込入力シート!BR56)","v":""},{"$f":"IF(申込入力シート!BS56=\"\",\"\",申込入力シート!BS56)","v":""},{"$f":"IF(申込入力シート!BT56=\"\",\"\",申込入力シート!BT56)","v":""},{"$f":"IF(処理!AO49=\"\",\"\",申込入力シート!$L$14)","v":""},{"$f":"IF(AO49=\"\",\"\",申込入力シート!$L$15)","v":""},{"$f":"IF(申込入力シート!BU56=\"\",\"\",申込入力シート!BU56)","v":""},46,{"$f":"IF(申込入力シート!BX56=\"\",\"\",申込入力シート!BX56)","v":""},{"$f":"IF(申込入力シート!BY56=\"\",\"\",申込入力シート!BY56)","v":""},"","","",{"$f":"IF(申込入力シート!BZ56=\"\",\"\",申込入力シート!BZ56&\"　\"&申込入力シート!CA56)","v":""},{"$f":"IF(申込入力シート!CB56=\"\",\"\",申込入力シート!CB56&\" \"&\"才\")","v":""},{"$f":"IF(申込入力シート!CC56=\"\",\"\",申込入力シート!CC56)","v":""},{"$f":"IF(申込入力シート!CD56=\"\",\"\",申込入力シート!CD56)","v":""},{"$f":"IF(BB49=\"\",\"\",申込入力シート!$L$14)","v":""},{"$f":"IF(BB49=\"\",\"\",申込入力シート!$L$15)","v":""},{"$f":"IF(申込入力シート!CE56=\"\",\"\",申込入力シート!CE56)","v":""}]
[47,{"$f":"IF(申込入力シート!AJ57=\"\",\"\",申込入力シート!AJ57)","v":""},{"$f":"IF(申込入力シート!AK57=\"\",\"\",申込入力シート!AK57)","v":""},"","","",{"$f":"IF(申込入力シート!AL57=\"\",\"\",申込入力シート!AL57&\"　\"&申込入力シート!AM57)","v":""},{"$f":"IF(申込入力シート!AN57=\"\",\"\",IF(LEN(申込入力シート!AN57)=1,\"小\"&\" \"&申込入力シート!AN57,申込入力シート!AN57))","v":""},{"$f":"IF(申込入力シート!AO57=\"\",\"\",申込入力シート!AO57)","v":""},{"$f":"IF(申込入力シート!AP57=\"\",\"\",申込入力シート!AP57)","v":""},{"$f":"IF(B50=\"\",\"\",申込入力シート!$L$14)","v":""},{"$f":"IF(B50=\"\",\"\",申込入力シート!$L$15)","v":""},{"$f":"IF(申込入力シート!AQ57=\"\",\"\",申込入力シート!AQ57)","v":""},47,{"$f":"IF(申込入力シート!AT57=\"\",\"\",申込入力シート!AT57)","v":""},{"$f":"IF(申込入力シート!AU57=\"\",\"\",申込入力シート!AU57)","v":""},"","","",{"$f":"IF(申込入力シート!AV57=\"\",\"\",申込入力シート!AV57&\"　\"&申込入力シート!AW57)","v":""},{"$f":"IF(申込入力シート!AX57=\"\",\"\",\"小\"&\" \"&申込入力シート!AX57)","v":""},{"$f":"IF(申込入力シート!AY57=\"\",\"\",申込入力シート!AY57)","v":""},{"$f":"IF(申込入力シート!AZ57=\"\",\"\",申込入力シート!AZ57)","v":""},{"$f":"IF(O50=\"\",\"\",申込入力シート!$L$14)","v":""},{"$f":"IF(O50=\"\",\"\",申込入力シート!$L$15)","v":""},{"$f":"IF(申込入力シート!BA57=\"\",\"\",申込入力シート!BA57)","v":""},47,{"$f":"IF(申込入力シート!BD57=\"\",\"\",申込入力シート!BD57)","v":""},{"$f":"IF(申込入力シート!BE57=\"\",\"\",申込入力シート!BE57)","v":""},"","","",{"$f":"IF(申込入力シート!BF57=\"\",\"\",申込入力シート!BF57&\"　\"&申込入力シート!BG57)","v":""},{"$f":"IF(申込入力シート!BH57=\"\",\"\",\"中\"&\" \"&申込入力シート!BH57)","v":""},{"$f":"IF(申込入力シート!BI57=\"\",\"\",申込入力シート!BI57)","v":""},{"$f":"IF(申込入力シート!BJ57=\"\",\"\",申込入力シート!BJ57)","v":""},{"$f":"IF(AB50=\"\",\"\",申込入力シート!$L$14)","v":""},{"$f":"IF(AB50=\"\",\"\",申込入力シート!$L$15)","v":""},{"$f":"IF(申込入力シート!BK57=\"\",\"\",申込入力シート!BK57)","v":""},47,{"$f":"IF(申込入力シート!BN57=\"\",\"\",申込入力シート!BN57)","v":""},{"$f":"IF(申込入力シート!BO57=\"\",\"\",申込入力シート!BO57)","v":""},"","","",{"$f":"IF(申込入力シート!BP57=\"\",\"\",申込入力シート!BP57&\"　\"&申込入力シート!BQ57)","v":""},{"$f":"IF(申込入力シート!BR57=\"\",\"\",\"高\"&\" \"&申込入力シート!BR57)","v":""},{"$f":"IF(申込入力シート!BS57=\"\",\"\",申込入力シート!BS57)","v":""},{"$f":"IF(申込入力シート!BT57=\"\",\"\",申込入力シート!BT57)","v":""},{"$f":"IF(処理!AO50=\"\",\"\",申込入力シート!$L$14)","v":""},{"$f":"IF(AO50=\"\",\"\",申込入力シート!$L$15)","v":""},{"$f":"IF(申込入力シート!BU57=\"\",\"\",申込入力シート!BU57)","v":""},47,{"$f":"IF(申込入力シート!BX57=\"\",\"\",申込入力シート!BX57)","v":""},{"$f":"IF(申込入力シート!BY57=\"\",\"\",申込入力シート!BY57)","v":""},"","","",{"$f":"IF(申込入力シート!BZ57=\"\",\"\",申込入力シート!BZ57&\"　\"&申込入力シート!CA57)","v":""},{"$f":"IF(申込入力シート!CB57=\"\",\"\",申込入力シート!CB57&\" \"&\"才\")","v":""},{"$f":"IF(申込入力シート!CC57=\"\",\"\",申込入力シート!CC57)","v":""},{"$f":"IF(申込入力シート!CD57=\"\",\"\",申込入力シート!CD57)","v":""},{"$f":"IF(BB50=\"\",\"\",申込入力シート!$L$14)","v":""},{"$f":"IF(BB50=\"\",\"\",申込入力シート!$L$15)","v":""},{"$f":"IF(申込入力シート!CE57=\"\",\"\",申込入力シート!CE57)","v":""}]
[48,{"$f":"IF(申込入力シート!AJ58=\"\",\"\",申込入力シート!AJ58)","v":""},{"$f":"IF(申込入力シート!AK58=\"\",\"\",申込入力シート!AK58)","v":""},"","","",{"$f":"IF(申込入力シート!AL58=\"\",\"\",申込入力シート!AL58&\"　\"&申込入力シート!AM58)","v":""},{"$f":"IF(申込入力シート!AN58=\"\",\"\",IF(LEN(申込入力シート!AN58)=1,\"小\"&\" \"&申込入力シート!AN58,申込入力シート!AN58))","v":""},{"$f":"IF(申込入力シート!AO58=\"\",\"\",申込入力シート!AO58)","v":""},{"$f":"IF(申込入力シート!AP58=\"\",\"\",申込入力シート!AP58)","v":""},{"$f":"IF(B51=\"\",\"\",申込入力シート!$L$14)","v":""},{"$f":"IF(B51=\"\",\"\",申込入力シート!$L$15)","v":""},{"$f":"IF(申込入力シート!AQ58=\"\",\"\",申込入力シート!AQ58)","v":""},48,{"$f":"IF(申込入力シート!AT58=\"\",\"\",申込入力シート!AT58)","v":""},{"$f":"IF(申込入力シート!AU58=\"\",\"\",申込入力シート!AU58)","v":""},"","","",{"$f":"IF(申込入力シート!AV58=\"\",\"\",申込入力シート!AV58&\"　\"&申込入力シート!AW58)","v":""},{"$f":"IF(申込入力シート!AX58=\"\",\"\",\"小\"&\" \"&申込入力シート!AX58)","v":""},{"$f":"IF(申込入力シート!AY58=\"\",\"\",申込入力シート!AY58)","v":""},{"$f":"IF(申込入力シート!AZ58=\"\",\"\",申込入力シート!AZ58)","v":""},{"$f":"IF(O51=\"\",\"\",申込入力シート!$L$14)","v":""},{"$f":"IF(O51=\"\",\"\",申込入力シート!$L$15)","v":""},{"$f":"IF(申込入力シート!BA58=\"\",\"\",申込入力シート!BA58)","v":""},48,{"$f":"IF(申込入力シート!BD58=\"\",\"\",申込入力シート!BD58)","v":""},{"$f":"IF(申込入力シート!BE58=\"\",\"\",申込入力シート!BE58)","v":""},"","","",{"$f":"IF(申込入力シート!BF58=\"\",\"\",申込入力シート!BF58&\"　\"&申込入力シート!BG58)","v":""},{"$f":"IF(申込入力シート!BH58=\"\",\"\",\"中\"&\" \"&申込入力シート!BH58)","v":""},{"$f":"IF(申込入力シート!BI58=\"\",\"\",申込入力シート!BI58)","v":""},{"$f":"IF(申込入力シート!BJ58=\"\",\"\",申込入力シート!BJ58)","v":""},{"$f":"IF(AB51=\"\",\"\",申込入力シート!$L$14)","v":""},{"$f":"IF(AB51=\"\",\"\",申込入力シート!$L$15)","v":""},{"$f":"IF(申込入力シート!BK58=\"\",\"\",申込入力シート!BK58)","v":""},48,{"$f":"IF(申込入力シート!BN58=\"\",\"\",申込入力シート!BN58)","v":""},{"$f":"IF(申込入力シート!BO58=\"\",\"\",申込入力シート!BO58)","v":""},"","","",{"$f":"IF(申込入力シート!BP58=\"\",\"\",申込入力シート!BP58&\"　\"&申込入力シート!BQ58)","v":""},{"$f":"IF(申込入力シート!BR58=\"\",\"\",\"高\"&\" \"&申込入力シート!BR58)","v":""},{"$f":"IF(申込入力シート!BS58=\"\",\"\",申込入力シート!BS58)","v":""},{"$f":"IF(申込入力シート!BT58=\"\",\"\",申込入力シート!BT58)","v":""},{"$f":"IF(処理!AO51=\"\",\"\",申込入力シート!$L$14)","v":""},{"$f":"IF(AO51=\"\",\"\",申込入力シート!$L$15)","v":""},{"$f":"IF(申込入力シート!BU58=\"\",\"\",申込入力シート!BU58)","v":""},48,{"$f":"IF(申込入力シート!BX58=\"\",\"\",申込入力シート!BX58)","v":""},{"$f":"IF(申込入力シート!BY58=\"\",\"\",申込入力シート!BY58)","v":""},"","","",{"$f":"IF(申込入力シート!BZ58=\"\",\"\",申込入力シート!BZ58&\"　\"&申込入力シート!CA58)","v":""},{"$f":"IF(申込入力シート!CB58=\"\",\"\",申込入力シート!CB58&\" \"&\"才\")","v":""},{"$f":"IF(申込入力シート!CC58=\"\",\"\",申込入力シート!CC58)","v":""},{"$f":"IF(申込入力シート!CD58=\"\",\"\",申込入力シート!CD58)","v":""},{"$f":"IF(BB51=\"\",\"\",申込入力シート!$L$14)","v":""},{"$f":"IF(BB51=\"\",\"\",申込入力シート!$L$15)","v":""},{"$f":"IF(申込入力シート!CE58=\"\",\"\",申込入力シート!CE58)","v":""}]
[49,{"$f":"IF(申込入力シート!AJ59=\"\",\"\",申込入力シート!AJ59)","v":""},{"$f":"IF(申込入力シート!AK59=\"\",\"\",申込入力シート!AK59)","v":""},"","","",{"$f":"IF(申込入力シート!AL59=\"\",\"\",申込入力シート!AL59&\"　\"&申込入力シート!AM59)","v":""},{"$f":"IF(申込入力シート!AN59=\"\",\"\",IF(LEN(申込入力シート!AN59)=1,\"小\"&\" \"&申込入力シート!AN59,申込入力シート!AN59))","v":""},{"$f":"IF(申込入力シート!AO59=\"\",\"\",申込入力シート!AO59)","v":""},{"$f":"IF(申込入力シート!AP59=\"\",\"\",申込入力シート!AP59)","v":""},{"$f":"IF(B52=\"\",\"\",申込入力シート!$L$14)","v":""},{"$f":"IF(B52=\"\",\"\",申込入力シート!$L$15)","v":""},{"$f":"IF(申込入力シート!AQ59=\"\",\"\",申込入力シート!AQ59)","v":""},49,{"$f":"IF(申込入力シート!AT59=\"\",\"\",申込入力シート!AT59)","v":""},{"$f":"IF(申込入力シート!AU59=\"\",\"\",申込入力シート!AU59)","v":""},"","","",{"$f":"IF(申込入力シート!AV59=\"\",\"\",申込入力シート!AV59&\"　\"&申込入力シート!AW59)","v":""},{"$f":"IF(申込入力シート!AX59=\"\",\"\",\"小\"&\" \"&申込入力シート!AX59)","v":""},{"$f":"IF(申込入力シート!AY59=\"\",\"\",申込入力シート!AY59)","v":""},{"$f":"IF(申込入力シート!AZ59=\"\",\"\",申込入力シート!AZ59)","v":""},{"$f":"IF(O52=\"\",\"\",申込入力シート!$L$14)","v":""},{"$f":"IF(O52=\"\",\"\",申込入力シート!$L$15)","v":""},{"$f":"IF(申込入力シート!BA59=\"\",\"\",申込入力シート!BA59)","v":""},49,{"$f":"IF(申込入力シート!BD59=\"\",\"\",申込入力シート!BD59)","v":""},{"$f":"IF(申込入力シート!BE59=\"\",\"\",申込入力シート!BE59)","v":""},"","","",{"$f":"IF(申込入力シート!BF59=\"\",\"\",申込入力シート!BF59&\"　\"&申込入力シート!BG59)","v":""},{"$f":"IF(申込入力シート!BH59=\"\",\"\",\"中\"&\" \"&申込入力シート!BH59)","v":""},{"$f":"IF(申込入力シート!BI59=\"\",\"\",申込入力シート!BI59)","v":""},{"$f":"IF(申込入力シート!BJ59=\"\",\"\",申込入力シート!BJ59)","v":""},{"$f":"IF(AB52=\"\",\"\",申込入力シート!$L$14)","v":""},{"$f":"IF(AB52=\"\",\"\",申込入力シート!$L$15)","v":""},{"$f":"IF(申込入力シート!BK59=\"\",\"\",申込入力シート!BK59)","v":""},49,{"$f":"IF(申込入力シート!BN59=\"\",\"\",申込入力シート!BN59)","v":""},{"$f":"IF(申込入力シート!BO59=\"\",\"\",申込入力シート!BO59)","v":""},"","","",{"$f":"IF(申込入力シート!BP59=\"\",\"\",申込入力シート!BP59&\"　\"&申込入力シート!BQ59)","v":""},{"$f":"IF(申込入力シート!BR59=\"\",\"\",\"高\"&\" \"&申込入力シート!BR59)","v":""},{"$f":"IF(申込入力シート!BS59=\"\",\"\",申込入力シート!BS59)","v":""},{"$f":"IF(申込入力シート!BT59=\"\",\"\",申込入力シート!BT59)","v":""},{"$f":"IF(処理!AO52=\"\",\"\",申込入力シート!$L$14)","v":""},{"$f":"IF(AO52=\"\",\"\",申込入力シート!$L$15)","v":""},{"$f":"IF(申込入力シート!BU59=\"\",\"\",申込入力シート!BU59)","v":""},49,{"$f":"IF(申込入力シート!BX59=\"\",\"\",申込入力シート!BX59)","v":""},{"$f":"IF(申込入力シート!BY59=\"\",\"\",申込入力シート!BY59)","v":""},"","","",{"$f":"IF(申込入力シート!BZ59=\"\",\"\",申込入力シート!BZ59&\"　\"&申込入力シート!CA59)","v":""},{"$f":"IF(申込入力シート!CB59=\"\",\"\",申込入力シート!CB59&\" \"&\"才\")","v":""},{"$f":"IF(申込入力シート!CC59=\"\",\"\",申込入力シート!CC59)","v":""},{"$f":"IF(申込入力シート!CD59=\"\",\"\",申込入力シート!CD59)","v":""},{"$f":"IF(BB52=\"\",\"\",申込入力シート!$L$14)","v":""},{"$f":"IF(BB52=\"\",\"\",申込入力シート!$L$15)","v":""},{"$f":"IF(申込入力シート!CE59=\"\",\"\",申込入力シート!CE59)","v":""}]
[50,{"$f":"IF(申込入力シート!AJ60=\"\",\"\",申込入力シート!AJ60)","v":""},{"$f":"IF(申込入力シート!AK60=\"\",\"\",申込入力シート!AK60)","v":""},"","","",{"$f":"IF(申込入力シート!AL60=\"\",\"\",申込入力シート!AL60&\"　\"&申込入力シート!AM60)","v":""},{"$f":"IF(申込入力シート!AN60=\"\",\"\",IF(LEN(申込入力シート!AN60)=1,\"小\"&\" \"&申込入力シート!AN60,申込入力シート!AN60))","v":""},{"$f":"IF(申込入力シート!AO60=\"\",\"\",申込入力シート!AO60)","v":""},{"$f":"IF(申込入力シート!AP60=\"\",\"\",申込入力シート!AP60)","v":""},{"$f":"IF(B53=\"\",\"\",申込入力シート!$L$14)","v":""},{"$f":"IF(B53=\"\",\"\",申込入力シート!$L$15)","v":""},{"$f":"IF(申込入力シート!AQ60=\"\",\"\",申込入力シート!AQ60)","v":""},50,{"$f":"IF(申込入力シート!AT60=\"\",\"\",申込入力シート!AT60)","v":""},{"$f":"IF(申込入力シート!AU60=\"\",\"\",申込入力シート!AU60)","v":""},"","","",{"$f":"IF(申込入力シート!AV60=\"\",\"\",申込入力シート!AV60&\"　\"&申込入力シート!AW60)","v":""},{"$f":"IF(申込入力シート!AX60=\"\",\"\",\"小\"&\" \"&申込入力シート!AX60)","v":""},{"$f":"IF(申込入力シート!AY60=\"\",\"\",申込入力シート!AY60)","v":""},{"$f":"IF(申込入力シート!AZ60=\"\",\"\",申込入力シート!AZ60)","v":""},{"$f":"IF(O53=\"\",\"\",申込入力シート!$L$14)","v":""},{"$f":"IF(O53=\"\",\"\",申込入力シート!$L$15)","v":""},{"$f":"IF(申込入力シート!BA60=\"\",\"\",申込入力シート!BA60)","v":""},50,{"$f":"IF(申込入力シート!BD60=\"\",\"\",申込入力シート!BD60)","v":""},{"$f":"IF(申込入力シート!BE60=\"\",\"\",申込入力シート!BE60)","v":""},"","","",{"$f":"IF(申込入力シート!BF60=\"\",\"\",申込入力シート!BF60&\"　\"&申込入力シート!BG60)","v":""},{"$f":"IF(申込入力シート!BH60=\"\",\"\",\"中\"&\" \"&申込入力シート!BH60)","v":""},{"$f":"IF(申込入力シート!BI60=\"\",\"\",申込入力シート!BI60)","v":""},{"$f":"IF(申込入力シート!BJ60=\"\",\"\",申込入力シート!BJ60)","v":""},{"$f":"IF(AB53=\"\",\"\",申込入力シート!$L$14)","v":""},{"$f":"IF(AB53=\"\",\"\",申込入力シート!$L$15)","v":""},{"$f":"IF(申込入力シート!BK60=\"\",\"\",申込入力シート!BK60)","v":""},50,{"$f":"IF(申込入力シート!BN60=\"\",\"\",申込入力シート!BN60)","v":""},{"$f":"IF(申込入力シート!BO60=\"\",\"\",申込入力シート!BO60)","v":""},"","","",{"$f":"IF(申込入力シート!BP60=\"\",\"\",申込入力シート!BP60&\"　\"&申込入力シート!BQ60)","v":""},{"$f":"IF(申込入力シート!BR60=\"\",\"\",\"高\"&\" \"&申込入力シート!BR60)","v":""},{"$f":"IF(申込入力シート!BS60=\"\",\"\",申込入力シート!BS60)","v":""},{"$f":"IF(申込入力シート!BT60=\"\",\"\",申込入力シート!BT60)","v":""},{"$f":"IF(処理!AO53=\"\",\"\",申込入力シート!$L$14)","v":""},{"$f":"IF(AO53=\"\",\"\",申込入力シート!$L$15)","v":""},{"$f":"IF(申込入力シート!BU60=\"\",\"\",申込入力シート!BU60)","v":""},50,{"$f":"IF(申込入力シート!BX60=\"\",\"\",申込入力シート!BX60)","v":""},{"$f":"IF(申込入力シート!BY60=\"\",\"\",申込入力シート!BY60)","v":""},"","","",{"$f":"IF(申込入力シート!BZ60=\"\",\"\",申込入力シート!BZ60&\"　\"&申込入力シート!CA60)","v":""},{"$f":"IF(申込入力シート!CB60=\"\",\"\",申込入力シート!CB60&\" \"&\"才\")","v":""},{"$f":"IF(申込入力シート!CC60=\"\",\"\",申込入力シート!CC60)","v":""},{"$f":"IF(申込入力シート!CD60=\"\",\"\",申込入力シート!CD60)","v":""},{"$f":"IF(BB53=\"\",\"\",申込入力シート!$L$14)","v":""},{"$f":"IF(BB53=\"\",\"\",申込入力シート!$L$15)","v":""},{"$f":"IF(申込入力シート!CE60=\"\",\"\",申込入力シート!CE60)","v":""}]

{"sheet":"4年以下印刷","index":2,"n_rows":27,"n_cols":28,"rows_kept":27,"cut":false,"hidden":false,"merged":[[19,1,19,2],[20,1,20,2],[18,15,18,16],[18,17,18,18],[18,19,18,20],[18,21,18,22],[15,19,15,20],[15,21,15,22],[21,1,21,2],[15,1,15,2],[16,1,16,2],[17,1,17,2],[18,1,18,2],[22,1,22,2],[21,3,21,7],[21,8,22,8],[21,9,21,14],[21,15,21,16],[21,17,21,18],[21,19,21,20],[21,21,21,22],[22,19,22,20],[22,21,22,22],[25,16,27,17],[17,23,17,25],[25,24,25,27],[25,4,25,7],[25,10,27,15],[25,18,27,20],[26,23,27,27],[23,1,24,27],[25,1,27,2],[25,8,27,9],[25,21,27,22],[26,3,27,7],[20,23,20,25],[21,23,21,25],[21,26,22,27],[22,3,22,7],[22,9,22,14],[19,3,19,7],[19,8,20,8],[19,9,19,14],[19,15,19,16],[19,17,19,18],[22,15,22,16],[22,17,22,18],[22,23,22,25],[17,26,18,27],[18,3,18,7],[18,9,18,14],[19,26,20,27],[20,3,20,7],[18,23,18,25],[19,19,19,20],[19,21,19,22],[19,23,19,25],[20,9,20,14],[20,15,20,16],[20,17,20,18],[20,19,20,20],[20,21,20,22],[17,3,17,7],[17,8,18,8],[17,9,17,14],[17,15,17,16],[17,17,17,18],[17,19,17,20],[17,21,17,22],[13,1,13,2],[13,23,13,25],[13,3,13,7],[13,8,14,8],[13,9,13,14],[13,15,13,16],[13,17,13,18],[13,19,13,20],[13,21,13,22],[14,17,14,18],[14,19,14,20],[14,15,14,16],[14,1,14,2],[12,17,12,18],[12,19,12,20],[12,21,12,22],[12,23,12,25],[15,26,16,27],[16,3,16,7],[16,9,16,14],[16,15,16,16],[16,17,16,18],[16,19,16,20],[16,21,16,22],[15,3,15,7],[15,8,16,8],[15,9,15,14],[15,15,15,16],[15,17,15,18],[16,23,16,25],[15,23,15,25],[9,21,9,22],[9,23,9,25],[0,1,0,22],[4,1,4,6],[13,26,14,27],[14,3,14,7],[14,9,14,14],[14,21,14,22],[14,23,14,25],[9,26,10,27],[10,3,10,7],[10,9,10,14],[10,15,10,16],[10,17,10,18],[10,19,10,20],[10,21,10,22],[10,23,10,25],[11,19,11,20],[11,21,11,22],[11,23,11,25],[11,26,12,27],[12,3,12,7],[12,9,12,14],[12,15,12,16],[9,3,9,7],[9,8,10,8],[6,1,7,2],[6,3,6,7],[6,8,7,8],[9,9,9,14],[9,15,9,16],[9,17,9,18],[9,19,9,20],[0,26,0,27],[3,23,3,26],[4,23,4,26],[4,8,4,11],[3,8,3,11],[3,13,3,16],[4,13,4,16],[3,18,3,21],[4,18,4,21],[3,1,3,6],[11,3,11,7],[11,8,12,8],[11,9,11,14],[11,15,11,16],[11,17,11,18],[6,26,7,27],[7,3,7,7],[7,9,7,14],[7,15,7,16],[7,17,7,18],[7,19,7,20],[7,21,7,22],[7,23,7,25],[6,9,6,14],[6,15,6,16],[6,17,6,18],[6,19,6,20],[6,21,6,22],[6,23,6,25],[9,1,9,2],[10,1,10,2],[11,1,11,2],[12,1,12,2]]}
[null,"平成30年度　全日本通信珠算競技大会　　団体参加申込用紙",null,null,null,null,null,null,null,null,null,null,null,null,null,null,null,null,null,null,null,null,null,null,"No.",null,1]
[]
[]
[null,"部　門",null,null,null,null,null,"○","部　門",null,null,null,"○","部　門",null,null,null,"○","部　門",null,null,null,"○","部　門",null,null,null,"○"]
[null,"４年生以下の部",null,null,null,null,null,"●","小学校の部",null,null,null,null,"中学校の部",null,null,null,null,"高等学校の部",null,null,null,null,"一般の部"]
[]
[null,"競技\n番号",null,"ふりがな",null,null,null,null,"学年","ふりがな",null,null,null,null,null,"かけざん",null,"わりざん",null,"みとりざん",null,"あんざん",null,"合計得点",null,null,"個人\n順位"]
[null,null,null,"名　　前",null,null,null,null,null,"学校名 ・ 勤務先名"]
[]
[null,{"$f":"VLOOKUP(A11,処理!$A$4:$M$53,13,FALSE)","v":""},null,{"$f":"VLOOKUP(A11,処理!$A$4:$M$53,7,FALSE)","v":""},null,null,null,null,{"$f":"VLOOKUP(A11,処理!$A$4:$M$53,8,FALSE)","v":""},{"$f":"VLOOKUP(A11,処理!$A$4:$M$53,10,FALSE)","v":""},null,null,null,null,null,"かけざん",null,"わりざん",null,"みとりざん",null,"あんざん",null,"合計得点"]
[1,null,null,{"$f":"VLOOKUP(A11,処理!$A$4:$M$53,6,FALSE)","v":""},null,null,null,null,null,{"$f":"VLOOKUP(A11,処理!$A$4:$M$53,9,FALSE)","v":""}]
[null,{"$f":"VLOOKUP(A13,処理!$A$4:$M$53,13,FALSE)","v":""},null,{"$f":"VLOOKUP(A13,処理!$A$4:$M$53,7,FALSE)","v":""},null,null,null,null,{"$f":"VLOOKUP(A13,処理!$A$4:$M$53,8,FALSE)","v":""},{"$f":"VLOOKUP(A13,処理!$A$4:$M$53,10,FALSE)","v":""},null,null,null,null,null,"かけざん",null,"わりざん",null,"みとりざん",null,"あんざん",null,"合計得点"]
[{"$f":"A11+1","v":2},null,null,{"$f":"VLOOKUP(A13,処理!$A$4:$M$53,6,FALSE)","v":""},null,null,null,null,null,{"$f":"VLOOKUP(A13,処理!$A$4:$M$53,9,FALSE)","v":""}]
[null,{"$f":"VLOOKUP(A15,処理!$A$4:$M$53,13,FALSE)","v":""},null,{"$f":"VLOOKUP(A15,処理!$A$4:$M$53,7,FALSE)","v":""},null,null,null,null,{"$f":"VLOOKUP(A15,処理!$A$4:$M$53,8,FALSE)","v":""},{"$f":"VLOOKUP(A15,処理!$A$4:$M$53,10,FALSE)","v":""},null,null,null,null,null,"かけざん",null,"わりざん",null,"みとりざん",null,"あんざん",null,"合計得点"]
[{"$f":"A13+1","v":3},null,null,{"$f":"VLOOKUP(A15,処理!$A$4:$M$53,6,FALSE)","v":""},null,null,null,null,null,{"$f":"VLOOKUP(A15,処理!$A$4:$M$53,9,FALSE)","v":""}]
[null,{"$f":"VLOOKUP(A17,処理!$A$4:$M$53,13,FALSE)","v":""},null,{"$f":"VLOOKUP(A17,処理!$A$4:$M$53,7,FALSE)","v":""},null,null,null,null,{"$f":"VLOOKUP(A17,処理!$A$4:$M$53,8,FALSE)","v":""},{"$f":"VLOOKUP(A17,処理!$A$4:$M$53,10,FALSE)","v":""},null,null,null,null,null,"かけざん",null,"わりざん",null,"みとりざん",null,"あんざん",null,"合計得点"]
[{"$f":"A15+1","v":4},null,null,{"$f":"VLOOKUP(A17,処理!$A$4:$M$53,6,FALSE)","v":""},null,null,null,null,null,{"$f":"VLOOKUP(A17,処理!$A$4:$M$53,9,FALSE)","v":""}]
[null,{"$f":"VLOOKUP(A19,処理!$A$4:$M$53,13,FALSE)","v":""},null,{"$f":"VLOOKUP(A19,処理!$A$4:$M$53,7,FALSE)","v":""},null,null,null,null,{"$f":"VLOOKUP(A19,処理!$A$4:$M$53,8,FALSE)","v":""},{"$f":"VLOOKUP(A19,処理!$A$4:$M$53,10,FALSE)","v":""},null,null,null,null,null,"かけざん",null,"わりざん",null,"みとりざん",null,"あんざん",null,"合計得点"]
[{"$f":"A17+1","v":5},null,null,{"$f":"VLOOKUP(A19,処理!$A$4:$M$53,6,FALSE)","v":""},null,null,null,null,null,{"$f":"VLOOKUP(A19,処理!$A$4:$M$53,9,FALSE)","v":""}]
[null,{"$f":"VLOOKUP(A21,処理!$A$4:$M$53,13,FALSE)","v":""},null,{"$f":"VLOOKUP(A21,処理!$A$4:$M$53,7,FALSE)","v":""},null,null,null,null,{"$f":"VLOOKUP(A21,処理!$A$4:$M$53,8,FALSE)","v":""},{"$f":"VLOOKUP(A21,処理!$A$4:$M$53,10,FALSE)","v":""},null,null,null,null,null,"かけざん",null,"わりざん",null,"みとりざん",null,"あんざん",null,"合計得点"]
[{"$f":"A19+1","v":6},null,null,{"$f":"VLOOKUP(A21,処理!$A$4:$M$53,6,FALSE)","v":""},null,null,null,null,null,{"$f":"VLOOKUP(A21,処理!$A$4:$M$53,9,FALSE)","v":""}]
[null,{"$f":"VLOOKUP(A23,処理!$A$4:$M$53,13,FALSE)","v":""},null,{"$f":"VLOOKUP(A23,処理!$A$4:$M$53,7,FALSE)","v":""},null,null,null,null,{"$f":"VLOOKUP(A23,処理!$A$4:$M$53,8,FALSE)","v":""},{"$f":"VLOOKUP(A23,処理!$A$4:$M$53,10,FALSE)","v":""},null,null,null,null,null,"かけざん",null,"わりざん",null,"みとりざん",null,"あんざん",null,"合計得点"]
[{"$f":"A21+1","v":7},null,null,{"$f":"VLOOKUP(A23,処理!$A$4:$M$53,6,FALSE)","v":""},null,null,null,null,null,{"$f":"VLOOKUP(A23,処理!$A$4:$M$53,9,FALSE)","v":""}]
[]
[]
[null,"教室名",null,"ふりがな",{"$f":"IF(申込入力シート!$L$15=\"\",\"\",申込入力シート!$L$15)","v":""},null,null,null,"連絡先\n住　所",null,{"$f":"IF(申込入力シート!$L$16=\"\",\"\",申込入力シート!$L$16)","v":""},null,null,null,null,null,"連絡先\n電話番号",null,{"$f":"IF(申込入力シート!$L$17=\"\",\"\",申込入力シート!$L$17&申込入力シート!$P$17&申込入力シート!$R$17&申込入力シート!$W$17&申込入力シート!$Y$17)","v":""},null,null,"責任者名",null,"ふりがな",{"$f":"IF(申込入力シート!$L$19=\"\",\"\",申込入力シート!$L$19)","v":""}]
[null,null,null,{"$f":"IF(申込入力シート!$L$14=\"\",\"\",申込入力シート!$L$14)","v":""},null,null,null,null,null,null,null,null,null,null,null,null,null,null,null,null,null,null,null,{"$f":"IF(申込入力シート!$L$18=\"\",\"\",申込入力シート!$L$18)","v":""}]

{"sheet":"小学生印刷","index":3,"n_rows":223,"n_cols":28,"rows_kept":223,"cut":false,"hidden":false,"merged":[[222,23,223,27],[219,1,220,27],[221,1,223,2],[221,4,221,7],[221,8,223,9],[221,10,223,15],[221,16,223,17],[221,18,223,20],[221,21,223,22],[221,24,221,27],[222,3,223,7],[217,23,217,25],[217,26,218,27],[218,1,218,2],[218,3,218,7],[218,9,218,14],[218,15,218,16],[218,17,218,18],[218,19,218,20],[218,21,218,22],[218,23,218,25],[216,21,216,22],[216,23,216,25],[217,1,217,2],[217,3,217,7],[217,8,218,8],[217,9,217,14],[217,15,217,16],[217,17,217,18],[217,19,217,20],[217,21,217,22],[215,19,215,20],[215,21,215,22],[215,23,215,25],[215,26,216,27],[216,1,216,2],[216,3,216,7],[216,9,216,14],[216,15,216,16],[216,17,216,18],[216,19,216,20],[215,1,215,2],[215,3,215,7],[215,8,216,8],[215,9,215,14],[215,15,215,16],[215,17,215,18],[213,23,213,25],[213,26,214,27],[214,1,214,2],[214,3,214,7],[214,9,214,14],[214,15,214,16],[214,17,214,18],[214,19,214,20],[214,21,214,22],[214,23,214,25],[212,21,212,22],[212,23,212,25],[213,1,213,2],[213,3,213,7],[213,8,214,8],[213,9,213,14],[213,15,213,16],[213,17,213,18],[213,19,213,20],[213,21,213,22],[211,19,211,20],[211,21,211,22],[211,23,211,25],[211,26,212,27],[212,1,212,2],[212,3,212,7],[212,9,212,14],[212,15,212,16],[212,17,212,18],[212,19,212,20],[211,1,211,2],[211,3,211,7],[211,8,212,8],[211,9,211,14],[211,15,211,16],[211,17,211,18],[209,23,209,25],[209,26,210,27],[210,1,210,2],[210,3,210,7],[210,9,210,14],[210,15,210,16],[210,17,210,18],[210,19,210,20],[210,21,210,22],[210,23,210,25],[208,21,208,22],[208,23,208,25],[209,1,209,2],[209,3,209,7],[209,8,210,8],[209,9,209,14],[209,15,209,16],[209,17,209,18],[209,19,209,20],[209,21,209,22],[207,19,207,20],[207,21,207,22],[207,23,207,25],[207,26,208,27],[208,1,208,2],[208,3,208,7],[208,9,208,14],[208,15,208,16],[208,17,208,18],[208,19,208,20],[207,1,207,2],[207,3,207,7],[207,8,208,8],[207,9,207,14],[207,15,207,16],[207,17,207,18],[205,23,205,25],[205,26,206,27],[206,1,206,2],[206,3,206,7],[206,9,206,14],[206,15,206,16],[206,17,206,18],[206,19,206,20],[206,21,206,22],[206,23,206,25],[203,21,203,22],[203,23,203,25],[205,1,205,2],[205,3,205,7],[205,8,206,8],[205,9,205,14],[205,15,205,16],[205,17,205,18],[205,19,205,20],[205,21,205,22],[202,17,202,18],[202,19,202,20],[202,21,202,22],[202,23,202,25],[202,26,203,27],[203,3,203,7],[203,9,203,14],[203,15,203,16],[203,17,203,18],[203,19,203,20],[200,1,200,6],[200,8,200,11],[200,13,200,16],[200,18,200,21],[200,23,200,26],[202,1,203,2],[202,3,202,7],[202,8,203,8],[202,9,202,14],[202,15,202,16],[194,23,195,27],[196,1,196,22],[196,26,196,27],[199,1,199,6],[199,8,199,11],[199,13,199,16],[199,18,199,21],[199,23,199,26],[191,1,192,27],[193,1,195,2],[193,4,193,7],[193,8,195,9],[193,10,195,15],[193,16,195,17],[193,18,195,20],[193,21,195,22],[193,24,193,27],[194,3,195,7],[189,23,189,25],[189,26,190,27],[190,1,190,2],[190,3,190,7],[190,9,190,14],[190,15,190,16],[190,17,190,18],[190,19,190,20],[190,21,190,22],[190,23,190,25],[188,21,188,22],[188,23,188,25],[189,1,189,2],[189,3,189,7],[189,8,190,8],[189,9,189,14],[189,15,189,16],[189,17,189,18],[189,19,189,20],[189,21,189,22],[187,19,187,20],[187,21,187,22],[187,23,187,25],[187,26,188,27],[188,1,188,2],[188,3,188,7],[188,9,188,14],[188,15,188,16],[188,17,188,18],[188,19,188,20],[187,1,187,2],[187,3,187,7],[187,8,188,8],[187,9,187,14],[187,15,187,16],[187,17,187,18],[185,23,185,25],[185,26,186,27],[186,1,186,2],[186,3,186,7],[186,9,186,14],[186,15,186,16],[186,17,186,18],[186,19,186,20],[186,21,186,22],[186,23,186,25],[184,21,184,22],[184,23,184,25],[185,1,185,2],[185,3,185,7],[185,8,186,8],[185,9,185,14],[185,15,185,16],[185,17,185,18],[185,19,185,20],[185,21,185,22],[183,19,183,20],[183,21,183,22],[183,23,183,25],[183,26,184,27],[184,1,184,2],[184,3,184,7],[184,9,184,14],[184,15,184,16],[184,17,184,18],[184,19,184,20],[183,1,183,2],[183,3,183,7],[183,8,184,8],[183,9,183,14],[183,15,183,16],[183,17,183,18],[181,23,181,25],[181,26,182,27],[182,1,182,2],[182,3,182,7],[182,9,182,14],[182,15,182,16],[182,17,182,18],[182,19,182,20],[182,21,182,22],[182,23,182,25],[180,21,180,22],[180,23,180,25],[181,1,181,2],[181,3,181,7],[181,8,182,8],[181,9,181,14],[181,15,181,16],[181,17,181,18],[181,19,181,20],[181,21,181,22],[179,19,179,20],[179,21,179,22],[179,23,179,25],[179,26,180,27],[180,1,180,2],[180,3,180,7],[180,9,180,14],[180,15,180,16],[180,17,180,18],[180,19,180,20],[179,1,179,2],[179,3,179,7],[179,8,180,8],[179,9,179,14],[179,15,179,16],[179,17,179,18],[177,23,177,25],[177,26,178,27],[178,1,178,2],[178,3,178,7],[178,9,178,14],[178,15,178,16],[178,17,178,18],[178,19,178,20],[178,21,178,22],[178,23,178,25],[177,1,177,2],[177,3,177,7],[177,8,178,8],[177,9,177,14],[177,15,177,16],[177,17,177,18],[177,19,177,20],[177,21,177,22],[174,17,174,18],[174,19,174,20],[174,21,174,22],[174,23,174,25],[174,26,175,27],[175,3,175,7],[175,9,175,14],[175,15,175,16],[175,17,175,18],[175,19,175,20],[172,1,172,6],[172,8,172,11],[172,13,172,16],[172,18,172,21],[172,23,172,26],[174,1,175,2],[174,3,174,7],[174,8,175,8],[174,9,174,14],[174,15,174,16],[166,23,167,27],[168,1,168,22],[168,26,168,27],[171,1,171,6],[171,8,171,11],[171,13,171,16],[171,18,171,21],[171,23,171,26],[175,21,175,22],[175,23,175,25],[163,1,164,27],[165,1,167,2],[165,4,165,7],[165,8,167,9],[165,10,167,15],[165,16,167,17],[165,18,167,20],[165,21,167,22],[165,24,165,27],[166,3,167,7],[161,23,161,25],[161,26,162,27],[162,1,162,2],[162,3,162,7],[162,9,162,14],[162,15,162,16],[162,17,162,18],[162,19,162,20],[162,21,162,22],[162,23,162,25],[160,21,160,22],[160,23,160,25],[161,1,161,2],[161,3,161,7],[161,8,162,8],[161,9,161,14],[161,15,161,16],[161,17,161,18],[161,19,161,20],[161,21,161,22],[159,19,159,20],[159,21,159,22],[159,23,159,25],[159,26,160,27],[160,1,160,2],[160,3,160,7],[160,9,160,14],[160,15,160,16],[160,17,160,18],[160,19,160,20],[159,1,159,2],[159,3,159,7],[159,8,160,8],[159,9,159,14],[159,15,159,16],[159,17,159,18],[157,23,157,25],[157,26,158,27],[158,1,158,2],[158,3,158,7],[158,9,158,14],[158,15,158,16],[158,17,158,18],[158,19,158,20],[158,21,158,22],[158,23,158,25],[156,21,156,22],[156,23,156,25],[157,1,157,2],[157,3,157,7],[157,8,158,8],[157,9,157,14],[157,15,157,16],[157,17,157,18],[157,19,157,20],[157,21,157,22],[155,19,155,20],[155,21,155,22],[155,23,155,25],[155,26,156,27],[156,1,156,2],[156,3,156,7],[156,9,156,14],[156,15,156,16],[156,17,156,18],[156,19,156,20],[155,1,155,2],[155,3,155,7],[155,8,156,8],[155,9,155,14],[155,15,155,16],[155,17,155,18],[153,23,153,25],[153,26,154,27],[154,1,154,2],[154,3,154,7],[154,9,154,14],[154,15,154,16],[154,17,154,18],[154,19,154,20],[154,21,154,22],[154,23,154,25],[152,21,152,22],[152,23,152,25],[153,1,153,2],[153,3,153,7],[153,8,154,8],[153,9,153,14],[153,15,153,16],[153,17,153,18],[153,19,153,20],[153,21,153,22],[151,19,151,20],[151,21,151,22],[151,23,151,25],[151,26,152,27],[152,1,152,2],[152,3,152,7],[152,9,152,14],[152,15,152,16],[152,17,152,18],[152,19,152,20],[151,1,151,2],[151,3,151,7],[151,8,152,8],[151,9,151,14],[151,15,151,16],[151,17,151,18],[149,23,149,25],[149,26,150,27],[150,1,150,2],[150,3,150,7],[150,9,150,14],[150,15,150,16],[150,17,150,18],[150,19,150,20],[150,21,150,22],[150,23,150,25],[149,1,149,2],[149,3,149,7],[149,8,150,8],[149,9,149,14],[149,15,149,16],[149,17,149,18],[149,19,149,20],[149,21,149,22],[146,17,146,18],[146,19,146,20],[146,21,146,22],[146,23,146,25],[146,26,147,27],[147,3,147,7],[147,9,147,14],[147,15,147,16],[147,17,147,18],[147,19,147,20],[144,1,144,6],[144,8,144,11],[144,13,144,16],[144,18,144,21],[144,23,144,26],[146,1,147,2],[146,3,146,7],[146,8,147,8],[146,9,146,14],[146,15,146,16],[138,23,139,27],[140,1,140,22],[140,26,140,27],[143,1,143,6],[143,8,143,11],[143,13,143,16],[143,18,143,21],[143,23,143,26],[147,21,147,22],[147,23,147,25],[135,1,136,27],[137,1,139,2],[137,4,137,7],[137,8,139,9],[137,10,139,15],[137,16,139,17],[137,18,139,20],[137,21,139,22],[137,24,137,27],[138,3,139,7],[133,23,133,25],[133,26,134,27],[134,1,134,2],[134,3,134,7],[134,9,134,14],[134,15,134,16],[134,17,134,18],[134,19,134,20],[134,21,134,22],[134,23,134,25],[132,21,132,22],[132,23,132,25],[133,1,133,2],[133,3,133,7],[133,8,134,8],[133,9,133,14],[133,15,133,16],[133,17,133,18],[133,19,133,20],[133,21,133,22],[131,19,131,20],[131,21,131,22],[131,23,131,25],[131,26,132,27],[132,1,132,2],[132,3,132,7],[132,9,132,14],[132,15,132,16],[132,17,132,18],[132,19,132,20],[131,1,131,2],[131,3,131,7],[131,8,132,8],[131,9,131,14],[131,15,131,16],[131,17,131,18],[129,23,129,25],[129,26,130,27],[130,1,130,2],[130,3,130,7],[130,9,130,14],[130,15,130,16],[130,17,130,18],[130,19,130,20],[130,21,130,22],[130,23,130,25],[128,21,128,22],[128,23,128,25],[129,1,129,2],[129,3,129,7],[129,8,130,8],[129,9,129,14],[129,15,129,16],[129,17,129,18],[129,19,129,20],[129,21,129,22],[127,19,127,20],[127,21,127,22],[127,23,127,25],[127,26,128,27],[128,1,128,2],[128,3,128,7],[128,9,128,14],[128,15,128,16],[128,17,128,18],[128,19,128,20],[127,1,127,2],[127,3,127,7],[127,8,128,8],[127,9,127,14],[127,15,127,16],[127,17,127,18],[125,23,125,25],[125,26,126,27],[126,1,126,2],[126,3,126,7],[126,9,126,14],[126,15,126,16],[126,17,126,18],[126,19,126,20],[126,21,126,22],[126,23,126,25],[124,21,124,22],[124,23,124,25],[125,1,125,2],[125,3,125,7],[125,8,126,8],[125,9,125,14],[125,15,125,16],[125,17,125,18],[125,19,125,20],[125,21,125,22],[123,19,123,20],[123,21,123,22],[123,23,123,25],[123,26,124,27],[124,1,124,2],[124,3,124,7],[124,9,124,14],[124,15,124,16],[124,17,124,18],[124,19,124,20],[123,1,123,2],[123,3,123,7],[123,8,124,8],[123,9,123,14],[123,15,123,16],[123,17,123,18],[116,13,116,16],[116,18,116,21],[116,23,116,26],[118,1,119,2],[118,3,118,7],[118,8,119,8],[118,9,118,14],[118,15,118,16],[121,23,121,25],[121,26,122,27],[122,1,122,2],[122,3,122,7],[122,9,122,14],[122,15,122,16],[122,17,122,18],[122,19,122,20],[122,21,122,22],[122,23,122,25],[121,1,121,2],[121,3,121,7],[121,8,122,8],[121,9,121,14],[121,15,121,16],[121,17,121,18],[121,19,121,20],[121,21,121,22],[110,23,111,27],[112,1,112,22],[112,26,112,27],[115,1,115,6],[115,8,115,11],[115,13,115,16],[115,18,115,21],[115,23,115,26],[119,21,119,22],[119,23,119,25],[107,1,108,27],[109,1,111,2],[109,4,109,7],[109,8,111,9],[109,10,111,15],[109,16,111,17],[109,18,111,20],[109,21,111,22],[109,24,109,27],[110,3,111,7],[118,17,118,18],[118,19,118,20],[118,21,118,22],[118,23,118,25],[118,26,119,27],[119,3,119,7],[119,9,119,14],[119,15,119,16],[119,17,119,18],[119,19,119,20],[116,1,116,6],[116,8,116,11],[105,23,105,25],[105,26,106,27],[106,1,106,2],[106,3,106,7],[106,9,106,14],[106,15,106,16],[106,17,106,18],[106,19,106,20],[106,21,106,22],[106,23,106,25],[104,21,104,22],[104,23,104,25],[105,1,105,2],[105,3,105,7],[105,8,106,8],[105,9,105,14],[105,15,105,16],[105,17,105,18],[105,19,105,20],[105,21,105,22],[103,19,103,20],[103,21,103,22],[103,23,103,25],[103,26,104,27],[104,1,104,2],[104,3,104,7],[104,9,104,14],[104,15,104,16],[104,17,104,18],[104,19,104,20],[103,1,103,2],[103,3,103,7],[103,8,104,8],[103,9,103,14],[103,15,103,16],[103,17,103,18],[101,23,101,25],[101,26,102,27],[102,1,102,2],[102,3,102,7],[102,9,102,14],[102,15,102,16],[102,17,102,18],[102,19,102,20],[102,21,102,22],[102,23,102,25],[100,21,100,22],[100,23,100,25],[101,1,101,2],[101,3,101,7],[101,8,102,8],[101,9,101,14],[101,15,101,16],[101,17,101,18],[101,19,101,20],[101,21,101,22],[99,19,99,20],[99,21,99,22],[99,23,99,25],[99,26,100,27],[100,1,100,2],[100,3,100,7],[100,9,100,14],[100,15,100,16],[100,17,100,18],[100,19,100,20],[99,1,99,2],[99,3,99,7],[99,8,100,8],[99,9,99,14],[99,15,99,16],[99,17,99,18],[97,23,97,25],[97,26,98,27],[98,1,98,2],[98,3,98,7],[98,9,98,14],[98,15,98,16],[98,17,98,18],[98,19,98,20],[98,21,98,22],[98,23,98,25],[96,21,96,22],[96,23,96,25],[97,1,97,2],[97,3,97,7],[97,8,98,8],[97,9,97,14],[97,15,97,16],[97,17,97,18],[97,19,97,20],[97,21,97,22],[95,19,95,20],[95,21,95,22],[95,23,95,25],[95,26,96,27],[96,1,96,2],[96,3,96,7],[96,9,96,14],[96,15,96,16],[96,17,96,18],[96,19,96,20],[95,1,95,2],[95,3,95,7],[95,8,96,8],[95,9,95,14],[95,15,95,16],[95,17,95,18],[93,23,93,25],[93,26,94,27],[94,1,94,2],[94,3,94,7],[94,9,94,14],[94,15,94,16],[94,17,94,18],[94,19,94,20],[94,21,94,22],[94,23,94,25],[93,1,93,2],[93,3,93,7],[93,8,94,8],[93,9,93,14],[93,15,93,16],[93,17,93,18],[93,19,93,20],[93,21,93,22],[90,17,90,18],[90,19,90,20],[90,21,90,22],[90,23,90,25],[90,26,91,27],[91,3,91,7],[91,9,91,14],[91,15,91,16],[91,17,91,18],[91,19,91,20],[88,1,88,6],[88,8,88,11],[88,13,88,16],[88,18,88,21],[88,23,88,26],[90,1,91,2],[90,3,90,7],[90,8,91,8],[90,9,90,14],[90,15,90,16],[82,23,83,27],[84,1,84,22],[84,26,84,27],[87,1,87,6],[87,8,87,11],[87,13,87,16],[87,18,87,21],[87,23,87,26],[91,21,91,22],[91,23,91,25],[79,1,80,27],[81,1,83,2],[81,4,81,7],[81,8,83,9],[81,10,83,15],[81,16,83,17],[81,18,83,20],[81,21,83,22],[81,24,81,27],[82,3,83,7],[77,23,77,25],[77,26,78,27],[78,1,78,2],[78,3,78,7],[78,9,78,14],[78,15,78,16],[78,17,78,18],[78,19,78,20],[78,21,78,22],[78,23,78,25],[76,21,76,22],[76,23,76,25],[77,1,77,2],[77,3,77,7],[77,8,78,8],[77,9,77,14],[77,15,77,16],[77,17,77,18],[77,19,77,20],[77,21,77,22],[75,19,75,20],[75,21,75,22],[75,23,75,25],[75,26,76,27],[76,1,76,2],[76,3,76,7],[76,9,76,14],[76,15,76,16],[76,17,76,18],[76,19,76,20],[75,1,75,2],[75,3,75,7],[75,8,76,8],[75,9,75,14],[75,15,75,16],[75,17,75,18],[73,23,73,25],[73,26,74,27],[74,1,74,2],[74,3,74,7],[74,9,74,14],[74,15,74,16],[74,17,74,18],[74,19,74,20],[74,21,74,22],[74,23,74,25],[72,21,72,22],[72,23,72,25],[73,1,73,2],[73,3,73,7],[73,8,74,8],[73,9,73,14],[73,15,73,16],[73,17,73,18],[73,19,73,20],[73,21,73,22],[71,19,71,20],[71,21,71,22],[71,23,71,25],[71,26,72,27],[72,1,72,2],[72,3,72,7],[72,9,72,14],[72,15,72,16],[72,17,72,18],[72,19,72,20],[71,1,71,2],[71,3,71,7],[71,8,72,8],[71,9,71,14],[71,15,71,16],[71,17,71,18],[69,23,69,25],[69,26,70,27],[70,1,70,2],[70,3,70,7],[70,9,70,14],[70,15,70,16],[70,17,70,18],[70,19,70,20],[70,21,70,22],[70,23,70,25],[68,21,68,22],[68,23,68,25],[69,1,69,2],[69,3,69,7],[69,8,70,8],[69,9,69,14],[69,15,69,16],[69,17,69,18],[69,19,69,20],[69,21,69,22],[67,19,67,20],[67,21,67,22],[67,23,67,25],[67,26,68,27],[68,1,68,2],[68,3,68,7],[68,9,68,14],[68,15,68,16],[68,17,68,18],[68,19,68,20],[67,1,67,2],[67,3,67,7],[67,8,68,8],[67,9,67,14],[67,15,67,16],[67,17,67,18],[60,13,60,16],[60,18,60,21],[60,23,60,26],[62,1,63,2],[62,3,62,7],[62,8,63,8],[62,9,62,14],[62,15,62,16],[65,23,65,25],[65,26,66,27],[66,1,66,2],[66,3,66,7],[66,9,66,14],[66,15,66,16],[66,17,66,18],[66,19,66,20],[66,21,66,22],[66,23,66,25],[65,1,65,2],[65,3,65,7],[65,8,66,8],[65,9,65,14],[65,15,65,16],[65,17,65,18],[65,19,65,20],[65,21,65,22],[54,23,55,27],[56,1,56,22],[56,26,56,27],[59,1,59,6],[59,8,59,11],[59,13,59,16],[59,18,59,21],[59,23,59,26],[63,21,63,22],[63,23,63,25],[51,1,52,27],[53,1,55,2],[53,4,53,7],[53,8,55,9],[53,10,55,15],[53,16,55,17],[53,18,55,20],[53,21,55,22],[53,24,53,27],[54,3,55,7],[62,17,62,18],[62,19,62,20],[62,21,62,22],[62,23,62,25],[62,26,63,27]],"merged_total":1328,"flags":["merged_cut"]}
[null,"平成30年度　全日本通信珠算競技大会　　団体参加申込用紙",null,null,null,null,null,null,null,null,null,null,null,null,null,null,null,null,null,null,null,null,null,null,"No.",null,1]
[]
[]
[null,"部　門",null,null,null,null,null,"○","部　門",null,null,null,"○","部　門",null,null,null,"○","部　門",null,null,null,"○","部　門",null,null,null,"○"]
[null,"４年生以下の部",null,null,null,null,null,null,"小学校の部",null,null,null,"●","中学校の部",null,null,null,null,"高等学校の部",null,null,null,null,"一般の部"]
[]
[null,"競技\n番号",null,"ふりがな",null,null,null,null,"学年","ふりがな",null,null,null,null,null,"かけざん",null,"わりざん",null,"みとりざん",null,"あんざん",null,"合計得点",null,null,"個人\n順位"]
[null,null,null,"名　　前",null,null,null,null,null,"学校名 ・ 勤務先名"]
[]
[null,{"$f":"VLOOKUP(A11,処理!$N$4:$Z$53,13,FALSE)","v":""},null,{"$f":"VLOOKUP(A11,処理!$N$4:$Z$53,7,FALSE)","v":""},null,null,null,null,{"$f":"VLOOKUP(A11,処理!$N$4:$Z$53,8,FALSE)","v":""},{"$f":"VLOOKUP(A11,処理!$N$4:$Z$53,10,FALSE)","v":""},null,null,null,null,null,"かけざん",null,"わりざん",null,"みとりざん",null,"あんざん",null,"合計得点"]
[1,null,null,{"$f":"VLOOKUP(A11,処理!$N$4:$Z$53,6,FALSE)","v":""},null,null,null,null,null,{"$f":"VLOOKUP(A11,処理!$N$4:$Z$53,9,FALSE)","v":""}]
[null,{"$f":"VLOOKUP(A13,処理!$N$4:$Z$53,13,FALSE)","v":""},null,{"$f":"VLOOKUP(A13,処理!$N$4:$Z$53,7,FALSE)","v":""},null,null,null,null,{"$f":"VLOOKUP(A13,処理!$N$4:$Z$53,8,FALSE)","v":""},{"$f":"VLOOKUP(A13,処理!$N$4:$Z$53,10,FALSE)","v":""},null,null,null,null,null,"かけざん",null,"わりざん",null,"みとりざん",null,"あんざん",null,"合計得点"]
[{"$f":"A11+1","v":2},null,null,{"$f":"VLOOKUP(A13,処理!$N$4:$Z$53,6,FALSE)","v":""},null,null,null,null,null,{"$f":"VLOOKUP(A13,処理!$N$4:$Z$53,9,FALSE)","v":""}]
[null,{"$f":"VLOOKUP(A15,処理!$N$4:$Z$53,13,FALSE)","v":""},null,{"$f":"VLOOKUP(A15,処理!$N$4:$Z$53,7,FALSE)","v":""},null,null,null,null,{"$f":"VLOOKUP(A15,処理!$N$4:$Z$53,8,FALSE)","v":""},{"$f":"VLOOKUP(A15,処理!$N$4:$Z$53,10,FALSE)","v":""},null,null,null,null,null,"かけざん",null,"わりざん",null,"みとりざん",null,"あんざん",null,"合計得点"]
[{"$f":"A13+1","v":3},null,null,{"$f":"VLOOKUP(A15,処理!$N$4:$Z$53,6,FALSE)","v":""},null,null,null,null,null,{"$f":"VLOOKUP(A15,処理!$N$4:$Z$53,9,FALSE)","v":""}]
[null,{"$f":"VLOOKUP(A17,処理!$N$4:$Z$53,13,FALSE)","v":""},null,{"$f":"VLOOKUP(A17,処理!$N$4:$Z$53,7,FALSE)","v":""},null,null,null,null,{"$f":"VLOOKUP(A17,処理!$N$4:$Z$53,8,FALSE)","v":""},{"$f":"VLOOKUP(A17,処理!$N$4:$Z$53,10,FALSE)","v":""},null,null,null,null,null,"かけざん",null,"わりざん",null,"みとりざん",null,"あんざん",null,"合計得点"]
[{"$f":"A15+1","v":4},null,null,{"$f":"VLOOKUP(A17,処理!$N$4:$Z$53,6,FALSE)","v":""},null,null,null,null,null,{"$f":"VLOOKUP(A17,処理!$N$4:$Z$53,9,FALSE)","v":""}]
[null,{"$f":"VLOOKUP(A19,処理!$N$4:$Z$53,13,FALSE)","v":""},null,{"$f":"VLOOKUP(A19,処理!$N$4:$Z$53,7,FALSE)","v":""},null,null,null,null,{"$f":"VLOOKUP(A19,処理!$N$4:$Z$53,8,FALSE)","v":""},{"$f":"VLOOKUP(A19,処理!$N$4:$Z$53,10,FALSE)","v":""},null,null,null,null,null,"かけざん",null,"わりざん",null,"みとりざん",null,"あんざん",null,"合計得点"]
[{"$f":"A17+1","v":5},null,null,{"$f":"VLOOKUP(A19,処理!$N$4:$Z$53,6,FALSE)","v":""},null,null,null,null,null,{"$f":"VLOOKUP(A19,処理!$N$4:$Z$53,9,FALSE)","v":""}]
[null,{"$f":"VLOOKUP(A21,処理!$N$4:$Z$53,13,FALSE)","v":""},null,{"$f":"VLOOKUP(A21,処理!$N$4:$Z$53,7,FALSE)","v":""},null,null,null,null,{"$f":"VLOOKUP(A21,処理!$N$4:$Z$53,8,FALSE)","v":""},{"$f":"VLOOKUP(A21,処理!$N$4:$Z$53,10,FALSE)","v":""},null,null,null,null,null,"かけざん",null,"わりざん",null,"みとりざん",null,"あんざん",null,"合計得点"]
[{"$f":"A19+1","v":6},null,null,{"$f":"VLOOKUP(A21,処理!$N$4:$Z$53,6,FALSE)","v":""},null,null,null,null,null,{"$f":"VLOOKUP(A21,処理!$N$4:$Z$53,9,FALSE)","v":""}]
[null,{"$f":"VLOOKUP(A23,処理!$N$4:$Z$53,13,FALSE)","v":""},null,{"$f":"VLOOKUP(A23,処理!$N$4:$Z$53,7,FALSE)","v":""},null,null,null,null,{"$f":"VLOOKUP(A23,処理!$N$4:$Z$53,8,FALSE)","v":""},{"$f":"VLOOKUP(A23,処理!$N$4:$Z$53,10,FALSE)","v":""},null,null,null,null,null,"かけざん",null,"わりざん",null,"みとりざん",null,"あんざん",null,"合計得点"]
[{"$f":"A21+1","v":7},null,null,{"$f":"VLOOKUP(A23,処理!$N$4:$Z$53,6,FALSE)","v":""},null,null,null,null,null,{"$f":"VLOOKUP(A23,処理!$N$4:$Z$53,9,FALSE)","v":""}]
[]
[]
[null,"教室名",null,"ふりがな",{"$f":"IF(申込入力シート!$L$15=\"\",\"\",申込入力シート!$L$15)","v":""},null,null,null,"連絡先\n住　所",null,{"$f":"IF(申込入力シート!$L$16=\"\",\"\",申込入力シート!$L$16)","v":""},null,null,null,null,null,"連絡先\n電話番号",null,{"$f":"IF(申込入力シート!$L$17=\"\",\"\",申込入力シート!$L$17&申込入力シート!$P$17&申込入力シート!$R$17&申込入力シート!$W$17&申込入力シート!$Y$17)","v":""},null,null,"責任者名",null,"ふりがな",{"$f":"IF(申込入力シート!$L$19=\"\",\"\",申込入力シート!$L$19)","v":""}]
[null,null,null,{"$f":"IF(申込入力シート!$L$14=\"\",\"\",申込入力シート!$L$14)","v":""},null,null,null,null,null,null,null,null,null,null,null,null,null,null,null,null,null,null,null,{"$f":"IF(申込入力シート!$L$18=\"\",\"\",申込入力シート!$L$18)","v":""}]
[]
[null,"平成29年度　全日本通信珠算競技大会　　個人参加申込用紙",null,null,null,null,null,null,null,null,null,null,null,null,null,null,null,null,null,null,null,null,null,null,"No.",null,{"$f":"AA1+1","v":2}]
[]
[]
[null,"部　門",null,null,null,null,null,"○","部　門",null,null,null,"○","部　門",null,null,null,"○","部　門",null,null,null,"○","部　門",null,null,null,"○"]
[null,"４年生以下の部",null,null,null,null,null,{"$f":"IF(H5=\"●\",\"●\",\"\")","v":""},"小学生の部",null,null,null,{"$f":"IF(M5=\"●\",\"●\",\"\")","v":"●"},"中学生の部",null,null,null,{"$f":"IF(R5=\"●\",\"●\",\"\")","v":""},"高校生の部",null,null,null,{"$f":"IF(W5=\"●\",\"●\",\"\")","v":""},"一般の部",null,null,null,{"$f":"IF(AB5=\"●\",\"●\",\"\")","v":""}]
[]
[null,"競技\n番号",null,"ふりがな",null,null,null,null,"学年","ふりがな",null,null,null,null,null,"かけざん",null,"わりざん",null,"みとりざん",null,"あんざん",null,"合計得点",null,null,"個人\n順位"]
[null,null,null,"名　　前",null,null,null,null,null,"学校名 ・ 勤務先名"]
[]
[null,{"$f":"VLOOKUP(A39,処理!$N$4:$Z$53,13,FALSE)","v":""},null,{"$f":"VLOOKUP(A39,処理!$N$4:$Z$53,7,FALSE)","v":""},null,null,null,null,{"$f":"VLOOKUP(A39,処理!$N$4:$Z$53,8,FALSE)","v":""},{"$f":"VLOOKUP(A39,処理!$N$4:$Z$53,10,FALSE)","v":""},null,null,null,null,null,"かけざん",null,"わりざん",null,"みとりざん",null,"あんざん",null,"合計得点"]
[8,null,null,{"$f":"VLOOKUP(A39,処理!$N$4:$Z$53,6,FALSE)","v":""},null,null,null,null,null,{"$f":"VLOOKUP(A39,処理!$N$4:$Z$53,9,FALSE)","v":""}]
[null,{"$f":"VLOOKUP(A41,処理!$N$4:$Z$53,13,FALSE)","v":""},null,{"$f":"VLOOKUP(A41,処理!$N$4:$Z$53,7,FALSE)","v":""},null,null,null,null,{"$f":"VLOOKUP(A41,処理!$N$4:$Z$53,8,FALSE)","v":""},{"$f":"VLOOKUP(A41,処理!$N$4:$Z$53,10,FALSE)","v":""},null,null,null,null,null,"かけざん",null,"わりざん",null,"みとりざん",null,"あんざん",null,"合計得点"]
[{"$f":"A39+1","v":9},null,null,{"$f":"VLOOKUP(A41,処理!$N$4:$Z$53,6,FALSE)","v":""},null,null,null,null,null,{"$f":"VLOOKUP(A41,処理!$N$4:$Z$53,9,FALSE)","v":""}]
[null,{"$f":"VLOOKUP(A43,処理!$N$4:$Z$53,13,FALSE)","v":""},null,{"$f":"VLOOKUP(A43,処理!$N$4:$Z$53,7,FALSE)","v":""},null,null,null,null,{"$f":"VLOOKUP(A43,処理!$N$4:$Z$53,8,FALSE)","v":""},{"$f":"VLOOKUP(A43,処理!$N$4:$Z$53,10,FALSE)","v":""},null,null,null,null,null,"かけざん",null,"わりざん",null,"みとりざん",null,"あんざん",null,"合計得点"]
[{"$f":"A41+1","v":10},null,null,{"$f":"VLOOKUP(A43,処理!$N$4:$Z$53,6,FALSE)","v":""},null,null,null,null,null,{"$f":"VLOOKUP(A43,処理!$N$4:$Z$53,9,FALSE)","v":""}]
[null,{"$f":"VLOOKUP(A45,処理!$N$4:$Z$53,13,FALSE)","v":""},null,{"$f":"VLOOKUP(A45,処理!$N$4:$Z$53,7,FALSE)","v":""},null,null,null,null,{"$f":"VLOOKUP(A45,処理!$N$4:$Z$53,8,FALSE)","v":""},{"$f":"VLOOKUP(A45,処理!$N$4:$Z$53,10,FALSE)","v":""},null,null,null,null,null,"かけざん",null,"わりざん",null,"みとりざん",null,"あんざん",null,"合計得点"]
[{"$f":"A43+1","v":11},null,null,{"$f":"VLOOKUP(A45,処理!$N$4:$Z$53,6,FALSE)","v":""},null,null,null,null,null,{"$f":"VLOOKUP(A45,処理!$N$4:$Z$53,9,FALSE)","v":""}]
[null,{"$f":"VLOOKUP(A47,処理!$N$4:$Z$53,13,FALSE)","v":""},null,{"$f":"VLOOKUP(A47,処理!$N$4:$Z$53,7,FALSE)","v":""},null,null,null,null,{"$f":"VLOOKUP(A47,処理!$N$4:$Z$53,8,FALSE)","v":""},{"$f":"VLOOKUP(A47,処理!$N$4:$Z$53,10,FALSE)","v":""},null,null,null,null,null,"かけざん",null,"わりざん",null,"みとりざん",null,"あんざん",null,"合計得点"]
[{"$f":"A45+1","v":12},null,null,{"$f":"VLOOKUP(A47,処理!$N$4:$Z$53,6,FALSE)","v":""},null,null,null,null,null,{"$f":"VLOOKUP(A47,処理!$N$4:$Z$53,9,FALSE)","v":""}]
[null,{"$f":"VLOOKUP(A49,処理!$N$4:$Z$53,13,FALSE)","v":""},null,{"$f":"VLOOKUP(A49,処理!$N$4:$Z$53,7,FALSE)","v":""},null,null,null,null,{"$f":"VLOOKUP(A49,処理!$N$4:$Z$53,8,FALSE)","v":""},{"$f":"VLOOKUP(A49,処理!$N$4:$Z$53,10,FALSE)","v":""},null,null,null,null,null,"かけざん",null,"わりざん",null,"みとりざん",null,"あんざん",null,"合計得点"]
[{"$f":"A47+1","v":13},null,null,{"$f":"VLOOKUP(A49,処理!$N$4:$Z$53,6,FALSE)","v":""},null,null,null,null,null,{"$f":"VLOOKUP(A49,処理!$N$4:$Z$53,9,FALSE)","v":""}]
[null,{"$f":"VLOOKUP(A51,処理!$N$4:$Z$53,13,FALSE)","v":""},null,{"$f":"VLOOKUP(A51,処理!$N$4:$Z$53,7,FALSE)","v":""},null,null,null,null,{"$f":"VLOOKUP(A51,処理!$N$4:$Z$53,8,FALSE)","v":""},{"$f":"VLOOKUP(A51,処理!$N$4:$Z$53,10,FALSE)","v":""},null,null,null,null,null,"かけざん",null,"わりざん",null,"みとりざん",null,"あんざん",null,"合計得点"]
[{"$f":"A49+1","v":14},null,null,{"$f":"VLOOKUP(A51,処理!$N$4:$Z$53,6,FALSE)","v":""},null,null,null,null,null,{"$f":"VLOOKUP(A51,処理!$N$4:$Z$53,9,FALSE)","v":""}]
[]
[]
[null,"教室名",null,"ふりがな",{"$f":"IF(申込入力シート!$L$15=\"\",\"\",申込入力シート!$L$15)","v":""},null,null,null,"連絡先\n住　所",null,{"$f":"IF(申込入力シート!$L$16=\"\",\"\",申込入力シート!$L$16)","v":""},null,null,null,null,null,"連絡先\n電話番号",null,{"$f":"IF(申込入力シート!$L$17=\"\",\"\",申込入力シート!$L$17&申込入力シート!$P$17&申込入力シート!$R$17&申込入力シート!$W$17&申込入力シート!$Y$17)","v":""},null,null,"責任者名",null,"ふりがな",{"$f":"IF(申込入力シート!$L$19=\"\",\"\",申込入力シート!$L$19)","v":""}]
[null,null,null,{"$f":"IF(申込入力シート!$L$14=\"\",\"\",申込入力シート!$L$14)","v":""},null,null,null,null,null,null,null,null,null,null,null,null,null,null,null,null,null,null,null,{"$f":"IF(申込入力シート!$L$18=\"\",\"\",申込入力シート!$L$18)","v":""}]
[]
[null,"平成29年度　全日本通信珠算競技大会　　個人参加申込用紙",null,null,null,null,null,null,null,null,null,null,null,null,null,null,null,null,null,null,null,null,null,null,"No.",null,{"$f":"AA29+1","v":3}]
[]
[]
[null,"部　門",null,null,null,null,null,"○","部　門",null,null,null,"○","部　門",null,null,null,"○","部　門",null,null,null,"○","部　門",null,null,null,"○"]
[null,"４年生以下の部",null,null,null,null,null,{"$f":"IF(H33=\"●\",\"●\",\"\")","v":""},"小学生の部",null,null,null,{"$f":"IF(M33=\"●\",\"●\",\"\")","v":"●"},"中学生の部",null,null,null,{"$f":"IF(R33=\"●\",\"●\",\"\")","v":""},"高校生の部",null,null,null,{"$f":"IF(W33=\"●\",\"●\",\"\")","v":""},"一般の部",null,null,null,{"$f":"IF(AB33=\"●\",\"●\",\"\")","v":""}]
[]
[null,"競技\n番号",null,"ふりがな",null,null,null,null,"学年","ふりがな",null,null,null,null,null,"かけざん",null,"わりざん",null,"みとりざん",null,"あんざん",null,"合計得点",null,null,"個人\n順位"]
[null,null,null,"名　　前",null,null,null,null,null,"学校名 ・ 勤務先名"]
[]
[null,{"$f":"VLOOKUP(A67,処理!$N$4:$Z$53,13,FALSE)","v":""},null,{"$f":"VLOOKUP(A67,処理!$N$4:$Z$53,7,FALSE)","v":""},null,null,null,null,{"$f":"VLOOKUP(A67,処理!$N$4:$Z$53,8,FALSE)","v":""},{"$f":"VLOOKUP(A67,処理!$N$4:$Z$53,10,FALSE)","v":""},null,null,null,null,null,"かけざん",null,"わりざん",null,"みとりざん",null,"あんざん",null,"合計得点"]
[15,null,null,{"$f":"VLOOKUP(A67,処理!$N$4:$Z$53,6,FALSE)","v":""},null,null,null,null,null,{"$f":"VLOOKUP(A67,処理!$N$4:$Z$53,9,FALSE)","v":""}]
[null,{"$f":"VLOOKUP(A69,処理!$N$4:$Z$53,13,FALSE)","v":""},null,{"$f":"VLOOKUP(A69,処理!$N$4:$Z$53,7,FALSE)","v":""},null,null,null,null,{"$f":"VLOOKUP(A69,処理!$N$4:$Z$53,8,FALSE)","v":""},{"$f":"VLOOKUP(A69,処理!$N$4:$Z$53,10,FALSE)","v":""},null,null,null,null,null,"かけざん",null,"わりざん",null,"みとりざん",null,"あんざん",null,"合計得点"]
[{"$f":"A67+1","v":16},null,null,{"$f":"VLOOKUP(A69,処理!$N$4:$Z$53,6,FALSE)","v":""},null,null,null,null,null,{"$f":"VLOOKUP(A69,処理!$N$4:$Z$53,9,FALSE)","v":""}]
[null,{"$f":"VLOOKUP(A71,処理!$N$4:$Z$53,13,FALSE)","v":""},null,{"$f":"VLOOKUP(A71,処理!$N$4:$Z$53,7,FALSE)","v":""},null,null,null,null,{"$f":"VLOOKUP(A71,処理!$N$4:$Z$53,8,FALSE)","v":""},{"$f":"VLOOKUP(A71,処理!$N$4:$Z$53,10,FALSE)","v":""},null,null,null,null,null,"かけざん",null,"わりざん",null,"みとりざん",null,"あんざん",null,"合計得点"]
[{"$f":"A69+1","v":17},null,null,{"$f":"VLOOKUP(A71,処理!$N$4:$Z$53,6,FALSE)","v":""},null,null,null,null,null,{"$f":"VLOOKUP(A71,処理!$N$4:$Z$53,9,FALSE)","v":""}]
[null,{"$f":"VLOOKUP(A73,処理!$N$4:$Z$53,13,FALSE)","v":""},null,{"$f":"VLOOKUP(A73,処理!$N$4:$Z$53,7,FALSE)","v":""},null,null,null,null,{"$f":"VLOOKUP(A73,処理!$N$4:$Z$53,8,FALSE)","v":""},{"$f":"VLOOKUP(A73,処理!$N$4:$Z$53,10,FALSE)","v":""},null,null,null,null,null,"かけざん",null,"わりざん",null,"みとりざん",null,"あんざん",null,"合計得点"]
[{"$f":"A71+1","v":18},null,null,{"$f":"VLOOKUP(A73,処理!$N$4:$Z$53,6,FALSE)","v":""},null,null,null,null,null,{"$f":"VLOOKUP(A73,処理!$N$4:$Z$53,9,FALSE)","v":""}]
[null,{"$f":"VLOOKUP(A75,処理!$N$4:$Z$53,13,FALSE)","v":""},null,{"$f":"VLOOKUP(A75,処理!$N$4:$Z$53,7,FALSE)","v":""},null,null,null,null,{"$f":"VLOOKUP(A75,処理!$N$4:$Z$53,8,FALSE)","v":""},{"$f":"VLOOKUP(A75,処理!$N$4:$Z$53,10,FALSE)","v":""},null,null,null,null,null,"かけざん",null,"わりざん",null,"みとりざん",null,"あんざん",null,"合計得点"]
[{"$f":"A73+1","v":19},null,null,{"$f":"VLOOKUP(A75,処理!$N$4:$Z$53,6,FALSE)","v":""},null,null,null,null,null,{"$f":"VLOOKUP(A75,処理!$N$4:$Z$53,9,FALSE)","v":""}]
[null,{"$f":"VLOOKUP(A77,処理!$N$4:$Z$53,13,FALSE)","v":""},null,{"$f":"VLOOKUP(A77,処理!$N$4:$Z$53,7,FALSE)","v":""},null,null,null,null,{"$f":"VLOOKUP(A77,処理!$N$4:$Z$53,8,FALSE)","v":""},{"$f":"VLOOKUP(A77,処理!$N$4:$Z$53,10,FALSE)","v":""},null,null,null,null,null,"かけざん",null,"わりざん",null,"みとりざん",null,"あんざん",null,"合計得点"]
[{"$f":"A75+1","v":20},null,null,{"$f":"VLOOKUP(A77,処理!$N$4:$Z$53,6,FALSE)","v":""},null,null,null,null,null,{"$f":"VLOOKUP(A77,処理!$N$4:$Z$53,9,FALSE)","v":""}]
[null,{"$f":"VLOOKUP(A79,処理!$N$4:$Z$53,13,FALSE)","v":""},null,{"$f":"VLOOKUP(A79,処理!$N$4:$Z$53,7,FALSE)","v":""},null,null,null,null,{"$f":"VLOOKUP(A79,処理!$N$4:$Z$53,8,FALSE)","v":""},{"$f":"VLOOKUP(A79,処理!$N$4:$Z$53,10,FALSE)","v":""},null,null,null,null,null,"かけざん",null,"わりざん",null,"みとりざん",null,"あんざん",null,"合計得点"]
[{"$f":"A77+1","v":21},null,null,{"$f":"VLOOKUP(A79,処理!$N$4:$Z$53,6,FALSE)","v":""},null,null,null,null,null,{"$f":"VLOOKUP(A79,処理!$N$4:$Z$53,9,FALSE)","v":""}]
[]
[]
[null,"教室名",null,"ふりがな",{"$f":"IF(申込入力シート!$L$15=\"\",\"\",申込入力シート!$L$15)","v":""},null,null,null,"連絡先\n住　所",null,{"$f":"IF(申込入力シート!$L$16=\"\",\"\",申込入力シート!$L$16)","v":""},null,null,null,null,null,"連絡先\n電話番号",null,{"$f":"IF(申込入力シート!$L$17=\"\",\"\",申込入力シート!$L$17&申込入力シート!$P$17&申込入力シート!$R$17&申込入力シート!$W$17&申込入力シート!$Y$17)","v":""},null,null,"責任者名",null,"ふりがな",{"$f":"IF(申込入力シート!$L$19=\"\",\"\",申込入力シート!$L$19)","v":""}]
[null,null,null,{"$f":"IF(申込入力シート!$L$14=\"\",\"\",申込入力シート!$L$14)","v":""},null,null,null,null,null,null,null,null,null,null,null,null,null,null,null,null,null,null,null,{"$f":"IF(申込入力シート!$L$18=\"\",\"\",申込入力シート!$L$18)","v":""}]
[]
[null,"平成29年度　全日本通信珠算競技大会　　個人参加申込用紙",null,null,null,null,null,null,null,null,null,null,null,null,null,null,null,null,null,null,null,null,null,null,"No.",null,{"$f":"AA57+1","v":4}]
[]
[]
[null,"部　門",null,null,null,null,null,"○","部　門",null,null,null,"○","部　門",null,null,null,"○","部　門",null,null,null,"○","部　門",null,null,null,"○"]
[null,"４年生以下の部",null,null,null,null,null,{"$f":"IF(H61=\"●\",\"●\",\"\")","v":""},"小学生の部",null,null,null,{"$f":"IF(M61=\"●\",\"●\",\"\")","v":"●"},"中学生の部",null,null,null,{"$f":"IF(R61=\"●\",\"●\",\"\")","v":""},"高校生の部",null,null,null,{"$f":"IF(W61=\"●\",\"●\",\"\")","v":""},"一般の部",null,null,null,{"$f":"IF(AB61=\"●\",\"●\",\"\")","v":""}]
[]
[null,"競技\n番号",null,"ふりがな",null,null,null,null,"学年","ふりがな",null,null,null,null,null,"かけざん",null,"わりざん",null,"みとりざん",null,"あんざん",null,"合計得点",null,null,"個人\n順位"]
[null,null,null,"名　　前",null,null,null,null,null,"学校名 ・ 勤務先名"]
[]
[null,{"$f":"VLOOKUP(A95,処理!$N$4:$Z$53,13,FALSE)","v":""},null,{"$f":"VLOOKUP(A95,処理!$N$4:$Z$53,7,FALSE)","v":""},null,null,null,null,{"$f":"VLOOKUP(A95,処理!$N$4:$Z$53,8,FALSE)","v":""},{"$f":"VLOOKUP(A95,処理!$N$4:$Z$53,10,FALSE)","v":""},null,null,null,null,null,"かけざん",null,"わりざん",null,"みとりざん",null,"あんざん",null,"合計得点"]
[22,null,null,{"$f":"VLOOKUP(A95,処理!$N$4:$Z$53,6,FALSE)","v":""},null,null,null,null,null,{"$f":"VLOOKUP(A95,処理!$N$4:$Z$53,9,FALSE)","v":""}]
[null,{"$f":"VLOOKUP(A97,処理!$N$4:$Z$53,13,FALSE)","v":""},null,{"$f":"VLOOKUP(A97,処理!$N$4:$Z$53,7,FALSE)","v":""},null,null,null,null,{"$f":"VLOOKUP(A97,処理!$N$4:$Z$53,8,FALSE)","v":""},{"$f":"VLOOKUP(A97,処理!$N$4:$Z$53,10,FALSE)","v":""},null,null,null,null,null,"かけざん",null,"わりざん",null,"みとりざん",null,"あんざん",null,"合計得点"]
[{"$f":"A95+1","v":23},null,null,{"$f":"VLOOKUP(A97,処理!$N$4:$Z$53,6,FALSE)","v":""},null,null,null,null,null,{"$f":"VLOOKUP(A97,処理!$N$4:$Z$53,9,FALSE)","v":""}]
[null,{"$f":"VLOOKUP(A99,処理!$N$4:$Z$53,13,FALSE)","v":""},null,{"$f":"VLOOKUP(A99,処理!$N$4:$Z$53,7,FALSE)","v":""},null,null,null,null,{"$f":"VLOOKUP(A99,処理!$N$4:$Z$53,8,FALSE)","v":""},{"$f":"VLOOKUP(A99,処理!$N$4:$Z$53,10,FALSE)","v":""},null,null,null,null,null,"かけざん",null,"わりざん",null,"みとりざん",null,"あんざん",null,"合計得点"]
[{"$f":"A97+1","v":24},null,null,{"$f":"VLOOKUP(A99,処理!$N$4:$Z$53,6,FALSE)","v":""},null,null,null,null,null,{"$f":"VLOOKUP(A99,処理!$N$4:$Z$53,9,FALSE)","v":""}]
[null,{"$f":"VLOOKUP(A101,処理!$N$4:$Z$53,13,FALSE)","v":""},null,{"$f":"VLOOKUP(A101,処理!$N$4:$Z$53,7,FALSE)","v":""},null,null,null,null,{"$f":"VLOOKUP(A101,処理!$N$4:$Z$53,8,FALSE)","v":""},{"$f":"VLOOKUP(A101,処理!$N$4:$Z$53,10,FALSE)","v":""},null,null,null,null,null,"かけざん",null,"わりざん",null,"みとりざん",null,"あんざん",null,"合計得点"]
[{"$f":"A99+1","v":25},null,null,{"$f":"VLOOKUP(A101,処理!$N$4:$Z$53,6,FALSE)","v":""},null,null,null,null,null,{"$f":"VLOOKUP(A101,処理!$N$4:$Z$53,9,FALSE)","v":""}]
[null,{"$f":"VLOOKUP(A103,処理!$N$4:$Z$53,13,FALSE)","v":""},null,{"$f":"VLOOKUP(A103,処理!$N$4:$Z$53,7,FALSE)","v":""},null,null,null,null,{"$f":"VLOOKUP(A103,処理!$N$4:$Z$53,8,FALSE)","v":""},{"$f":"VLOOKUP(A103,処理!$N$4:$Z$53,10,FALSE)","v":""},null,null,null,null,null,"かけざん",null,"わりざん",null,"みとりざん",null,"あんざん",null,"合計得点"]
[{"$f":"A101+1","v":26},null,null,{"$f":"VLOOKUP(A103,処理!$N$4:$Z$53,6,FALSE)","v":""},null,null,null,null,null,{"$f":"VLOOKUP(A103,処理!$N$4:$Z$53,9,FALSE)","v":""}]
[null,{"$f":"VLOOKUP(A105,処理!$N$4:$Z$53,13,FALSE)","v":""},null,{"$f":"VLOOKUP(A105,処理!$N$4:$Z$53,7,FALSE)","v":""},null,null,null,null,{"$f":"VLOOKUP(A105,処理!$N$4:$Z$53,8,FALSE)","v":""},{"$f":"VLOOKUP(A105,処理!$N$4:$Z$53,10,FALSE)","v":""},null,null,null,null,null,"かけざん",null,"わりざん",null,"みとりざん",null,"あんざん",null,"合計得点"]
[{"$f":"A103+1","v":27},null,null,{"$f":"VLOOKUP(A105,処理!$N$4:$Z$53,6,FALSE)","v":""},null,null,null,null,null,{"$f":"VLOOKUP(A105,処理!$N$4:$Z$53,9,FALSE)","v":""}]
[null,{"$f":"VLOOKUP(A107,処理!$N$4:$Z$53,13,FALSE)","v":""},null,{"$f":"VLOOKUP(A107,処理!$N$4:$Z$53,7,FALSE)","v":""},null,null,null,null,{"$f":"VLOOKUP(A107,処理!$N$4:$Z$53,8,FALSE)","v":""},{"$f":"VLOOKUP(A107,処理!$N$4:$Z$53,10,FALSE)","v":""},null,null,null,null,null,"かけざん",null,"わりざん",null,"みとりざん",null,"あんざん",null,"合計得点"]
[{"$f":"A105+1","v":28},null,null,{"$f":"VLOOKUP(A107,処理!$N$4:$Z$53,6,FALSE)","v":""},null,null,null,null,null,{"$f":"VLOOKUP(A107,処理!$N$4:$Z$53,9,FALSE)","v":""}]
[]
[]
[null,"教室名",null,"ふりがな",{"$f":"IF(申込入力シート!$L$15=\"\",\"\",申込入力シート!$L$15)","v":""},null,null,null,"連絡先\n住　所",null,{"$f":"IF(申込入力シート!$L$16=\"\",\"\",申込入力シート!$L$16)","v":""},null,null,null,null,null,"連絡先\n電話番号",null,{"$f":"IF(申込入力シート!$L$17=\"\",\"\",申込入力シート!$L$17&申込入力シート!$P$17&申込入力シート!$R$17&申込入力シート!$W$17&申込入力シート!$Y$17)","v":""},null,null,"責任者名",null,"ふりがな",{"$f":"IF(申込入力シート!$L$19=\"\",\"\",申込入力シート!$L$19)","v":""}]
[null,null,null,{"$f":"IF(申込入力シート!$L$14=\"\",\"\",申込入力シート!$L$14)","v":""},null,null,null,null,null,null,null,null,null,null,null,null,null,null,null,null,null,null,null,{"$f":"IF(申込入力シート!$L$18=\"\",\"\",申込入力シート!$L$18)","v":""}]
[]
[null,"平成29年度　全日本通信珠算競技大会　　個人参加申込用紙",null,null,null,null,null,null,null,null,null,null,null,null,null,null,null,null,null,null,null,null,null,null,"No.",null,{"$f":"AA85+1","v":5}]
[]
[]
[null,"部　門",null,null,null,null,null,"○","部　門",null,null,null,"○","部　門",null,null,null,"○","部　門",null,null,null,"○","部　門",null,null,null,"○"]
[null,"４年生以下の部",null,null,null,null,null,{"$f":"IF(H89=\"●\",\"●\",\"\")","v":""},"小学生の部",null,null,null,{"$f":"IF(M89=\"●\",\"●\",\"\")","v":"●"},"中学生の部",null,null,null,{"$f":"IF(R89=\"●\",\"●\",\"\")","v":""},"高校生の部",null,null,null,{"$f":"IF(W89=\"●\",\"●\",\"\")","v":""},"一般の部",null,null,null,{"$f":"IF(AB89=\"●\",\"●\",\"\")","v":""}]
[]
[null,"競技\n番号",null,"ふりがな",null,null,null,null,"学年","ふりがな",null,null,null,null,null,"かけざん",null,"わりざん",null,"みとりざん",null,"あんざん",null,"合計得点",null,null,"個人\n順位"]
[null,null,null,"名　　前",null,null,null,null,null,"学校名 ・ 勤務先名"]
[]
[null,{"$f":"VLOOKUP(A123,処理!$N$4:$Z$53,13,FALSE)","v":""},null,{"$f":"VLOOKUP(A123,処理!$N$4:$Z$53,7,FALSE)","v":""},null,null,null,null,{"$f":"VLOOKUP(A123,処理!$N$4:$Z$53,8,FALSE)","v":""},{"$f":"VLOOKUP(A123,処理!$N$4:$Z$53,10,FALSE)","v":""},null,null,null,null,null,"かけざん",null,"わりざん",null,"みとりざん",null,"あんざん",null,"合計得点"]
[29,null,null,{"$f":"VLOOKUP(A123,処理!$N$4:$Z$53,6,FALSE)","v":""},null,null,null,null,null,{"$f":"VLOOKUP(A123,処理!$N$4:$Z$53,9,FALSE)","v":""}]
[null,{"$f":"VLOOKUP(A125,処理!$N$4:$Z$53,13,FALSE)","v":""},null,{"$f":"VLOOKUP(A125,処理!$N$4:$Z$53,7,FALSE)","v":""},null,null,null,null,{"$f":"VLOOKUP(A125,処理!$N$4:$Z$53,8,FALSE)","v":""},{"$f":"VLOOKUP(A125,処理!$N$4:$Z$53,10,FALSE)","v":""},null,null,null,null,null,"かけざん",null,"わりざん",null,"みとりざん",null,"あんざん",null,"合計得点"]
[{"$f":"A123+1","v":30},null,null,{"$f":"VLOOKUP(A125,処理!$N$4:$Z$53,6,FALSE)","v":""},null,null,null,null,null,{"$f":"VLOOKUP(A125,処理!$N$4:$Z$53,9,FALSE)","v":""}]
[null,{"$f":"VLOOKUP(A127,処理!$N$4:$Z$53,13,FALSE)","v":""},null,{"$f":"VLOOKUP(A127,処理!$N$4:$Z$53,7,FALSE)","v":""},null,null,null,null,{"$f":"VLOOKUP(A127,処理!$N$4:$Z$53,8,FALSE)","v":""},{"$f":"VLOOKUP(A127,処理!$N$4:$Z$53,10,FALSE)","v":""},null,null,null,null,null,"かけざん",null,"わりざん",null,"みとりざん",null,"あんざん",null,"合計得点"]
[{"$f":"A125+1","v":31},null,null,{"$f":"VLOOKUP(A127,処理!$N$4:$Z$53,6,FALSE)","v":""},null,null,null,null,null,{"$f":"VLOOKUP(A127,処理!$N$4:$Z$53,9,FALSE)","v":""}]
[null,{"$f":"VLOOKUP(A129,処理!$N$4:$Z$53,13,FALSE)","v":""},null,{"$f":"VLOOKUP(A129,処理!$N$4:$Z$53,7,FALSE)","v":""},null,null,null,null,{"$f":"VLOOKUP(A129,処理!$N$4:$Z$53,8,FALSE)","v":""},{"$f":"VLOOKUP(A129,処理!$N$4:$Z$53,10,FALSE)","v":""},null,null,null,null,null,"かけざん",null,"わりざん",null,"みとりざん",null,"あんざん",null,"合計得点"]
[{"$f":"A127+1","v":32},null,null,{"$f":"VLOOKUP(A129,処理!$N$4:$Z$53,6,FALSE)","v":""},null,null,null,null,null,{"$f":"VLOOKUP(A129,処理!$N$4:$Z$53,9,FALSE)","v":""}]
[null,{"$f":"VLOOKUP(A131,処理!$N$4:$Z$53,13,FALSE)","v":""},null,{"$f":"VLOOKUP(A131,処理!$N$4:$Z$53,7,FALSE)","v":""},null,null,null,null,{"$f":"VLOOKUP(A131,処理!$N$4:$Z$53,8,FALSE)","v":""},{"$f":"VLOOKUP(A131,処理!$N$4:$Z$53,10,FALSE)","v":""},null,null,null,null,null,"かけざん",null,"わりざん",null,"みとりざん",null,"あんざん",null,"合計得点"]
[{"$f":"A129+1","v":33},null,null,{"$f":"VLOOKUP(A131,処理!$N$4:$Z$53,6,FALSE)","v":""},null,null,null,null,null,{"$f":"VLOOKUP(A131,処理!$N$4:$Z$53,9,FALSE)","v":""}]
[null,{"$f":"VLOOKUP(A133,処理!$N$4:$Z$53,13,FALSE)","v":""},null,{"$f":"VLOOKUP(A133,処理!$N$4:$Z$53,7,FALSE)","v":""},null,null,null,null,{"$f":"VLOOKUP(A133,処理!$N$4:$Z$53,8,FALSE)","v":""},{"$f":"VLOOKUP(A133,処理!$N$4:$Z$53,10,FALSE)","v":""},null,null,null,null,null,"かけざん",null,"わりざん",null,"みとりざん",null,"あんざん",null,"合計得点"]
[{"$f":"A131+1","v":34},null,null,{"$f":"VLOOKUP(A133,処理!$N$4:$Z$53,6,FALSE)","v":""},null,null,null,null,null,{"$f":"VLOOKUP(A133,処理!$N$4:$Z$53,9,FALSE)","v":""}]
[null,{"$f":"VLOOKUP(A135,処理!$N$4:$Z$53,13,FALSE)","v":""},null,{"$f":"VLOOKUP(A135,処理!$N$4:$Z$53,7,FALSE)","v":""},null,null,null,null,{"$f":"VLOOKUP(A135,処理!$N$4:$Z$53,8,FALSE)","v":""},{"$f":"VLOOKUP(A135,処理!$N$4:$Z$53,10,FALSE)","v":""},null,null,null,null,null,"かけざん",null,"わりざん",null,"みとりざん",null,"あんざん",null,"合計得点"]
[{"$f":"A133+1","v":35},null,null,{"$f":"VLOOKUP(A135,処理!$N$4:$Z$53,6,FALSE)","v":""},null,null,null,null,null,{"$f":"VLOOKUP(A135,処理!$N$4:$Z$53,9,FALSE)","v":""}]
[]
[]
[null,"教室名",null,"ふりがな",{"$f":"IF(申込入力シート!$L$15=\"\",\"\",申込入力シート!$L$15)","v":""},null,null,null,"連絡先\n住　所",null,{"$f":"IF(申込入力シート!$L$16=\"\",\"\",申込入力シート!$L$16)","v":""},null,null,null,null,null,"連絡先\n電話番号",null,{"$f":"IF(申込入力シート!$L$17=\"\",\"\",申込入力シート!$L$17&申込入力シート!$P$17&申込入力シート!$R$17&申込入力シート!$W$17&申込入力シート!$Y$17)","v":""},null,null,"責任者名",null,"ふりがな",{"$f":"IF(申込入力シート!$L$19=\"\",\"\",申込入力シート!$L$19)","v":""}]
[null,null,null,{"$f":"IF(申込入力シート!$L$14=\"\",\"\",申込入力シート!$L$14)","v":""},null,null,null,null,null,null,null,null,null,null,null,null,null,null,null,null,null,null,null,{"$f":"IF(申込入力シート!$L$18=\"\",\"\",申込入力シート!$L$18)","v":""}]
[]
[null,"平成29年度　全日本通信珠算競技大会　　個人参加申込用紙",null,null,null,null,null,null,null,null,null,null,null,null,null,null,null,null,null,null,null,null,null,null,"No.",null,{"$f":"AA113+1","v":6}]
[]
[]
[null,"部　門",null,null,null,null,null,"○","部　門",null,null,null,"○","部　門",null,null,null,"○","部　門",null,null,null,"○","部　門",null,null,null,"○"]
[null,"４年生以下の部",null,null,null,null,null,{"$f":"IF(H117=\"●\",\"●\",\"\")","v":""},"小学生の部",null,null,null,{"$f":"IF(M117=\"●\",\"●\",\"\")","v":"●"},"中学生の部",null,null,null,{"$f":"IF(R117=\"●\",\"●\",\"\")","v":""},"高校生の部",null,null,null,{"$f":"IF(W117=\"●\",\"●\",\"\")","v":""},"一般の部",null,null,null,{"$f":"IF(AB117=\"●\",\"●\",\"\")","v":""}]
[]
[null,"競技\n番号",null,"ふりがな",null,null,null,null,"学年","ふりがな",null,null,null,null,null,"かけざん",null,"わりざん",null,"みとりざん",null,"あんざん",null,"合計得点",null,null,"個人\n順位"]
[null,null,null,"名　　前",null,null,null,null,null,"学校名 ・ 勤務先名"]
[]
[null,{"$f":"VLOOKUP(A151,処理!$N$4:$Z$53,13,FALSE)","v":""},null,{"$f":"VLOOKUP(A151,処理!$N$4:$Z$53,7,FALSE)","v":""},null,null,null,null,{"$f":"VLOOKUP(A151,処理!$N$4:$Z$53,8,FALSE)","v":""},{"$f":"VLOOKUP(A151,処理!$N$4:$Z$53,10,FALSE)","v":""},null,null,null,null,null,"かけざん",null,"わりざん",null,"みとりざん",null,"あんざん",null,"合計得点"]
[36,null,null,{"$f":"VLOOKUP(A151,処理!$N$4:$Z$53,6,FALSE)","v":""},null,null,null,null,null,{"$f":"VLOOKUP(A151,処理!$N$4:$Z$53,9,FALSE)","v":""}]
[null,{"$f":"VLOOKUP(A153,処理!$N$4:$Z$53,13,FALSE)","v":""},null,{"$f":"VLOOKUP(A153,処理!$N$4:$Z$53,7,FALSE)","v":""},null,null,null,null,{"$f":"VLOOKUP(A153,処理!$N$4:$Z$53,8,FALSE)","v":""},{"$f":"VLOOKUP(A153,処理!$N$4:$Z$53,10,FALSE)","v":""},null,null,null,null,null,"かけざん",null,"わりざん",null,"みとりざん",null,"あんざん",null,"合計得点"]
[{"$f":"A151+1","v":37},null,null,{"$f":"VLOOKUP(A153,処理!$N$4:$Z$53,6,FALSE)","v":""},null,null,null,null,null,{"$f":"VLOOKUP(A153,処理!$N$4:$Z$53,9,FALSE)","v":""}]
[null,{"$f":"VLOOKUP(A155,処理!$N$4:$Z$53,13,FALSE)","v":""},null,{"$f":"VLOOKUP(A155,処理!$N$4:$Z$53,7,FALSE)","v":""},null,null,null,null,{"$f":"VLOOKUP(A155,処理!$N$4:$Z$53,8,FALSE)","v":""},{"$f":"VLOOKUP(A155,処理!$N$4:$Z$53,10,FALSE)","v":""},null,null,null,null,null,"かけざん",null,"わりざん",null,"みとりざん",null,"あんざん",null,"合計得点"]
[{"$f":"A153+1","v":38},null,null,{"$f":"VLOOKUP(A155,処理!$N$4:$Z$53,6,FALSE)","v":""},null,null,null,null,null,{"$f":"VLOOKUP(A155,処理!$N$4:$Z$53,9,FALSE)","v":""}]
[null,{"$f":"VLOOKUP(A157,処理!$N$4:$Z$53,13,FALSE)","v":""},null,{"$f":"VLOOKUP(A157,処理!$N$4:$Z$53,7,FALSE)","v":""},null,null,null,null,{"$f":"VLOOKUP(A157,処理!$N$4:$Z$53,8,FALSE)","v":""},{"$f":"VLOOKUP(A157,処理!$N$4:$Z$53,10,FALSE)","v":""},null,null,null,null,null,"かけざん",null,"わりざん",null,"みとりざん",null,"あんざん",null,"合計得点"]
[{"$f":"A155+1","v":39},null,null,{"$f":"VLOOKUP(A157,処理!$N$4:$Z$53,6,FALSE)","v":""},null,null,null,null,null,{"$f":"VLOOKUP(A157,処理!$N$4:$Z$53,9,FALSE)","v":""}]
[null,{"$f":"VLOOKUP(A159,処理!$N$4:$Z$53,13,FALSE)","v":""},null,{"$f":"VLOOKUP(A159,処理!$N$4:$Z$53,7,FALSE)","v":""},null,null,null,null,{"$f":"VLOOKUP(A159,処理!$N$4:$Z$53,8,FALSE)","v":""},{"$f":"VLOOKUP(A159,処理!$N$4:$Z$53,10,FALSE)","v":""},null,null,null,null,null,"かけざん",null,"わりざん",null,"みとりざん",null,"あんざん",null,"合計得点"]
[{"$f":"A157+1","v":40},null,null,{"$f":"VLOOKUP(A159,処理!$N$4:$Z$53,6,FALSE)","v":""},null,null,null,null,null,{"$f":"VLOOKUP(A159,処理!$N$4:$Z$53,9,FALSE)","v":""}]
[null,{"$f":"VLOOKUP(A161,処理!$N$4:$Z$53,13,FALSE)","v":""},null,{"$f":"VLOOKUP(A161,処理!$N$4:$Z$53,7,FALSE)","v":""},null,null,null,null,{"$f":"VLOOKUP(A161,処理!$N$4:$Z$53,8,FALSE)","v":""},{"$f":"VLOOKUP(A161,処理!$N$4:$Z$53,10,FALSE)","v":""},null,null,null,null,null,"かけざん",null,"わりざん",null,"みとりざん",null,"あんざん",null,"合計得点"]
[{"$f":"A159+1","v":41},null,null,{"$f":"VLOOKUP(A161,処理!$N$4:$Z$53,6,FALSE)","v":""},null,null,null,null,null,{"$f":"VLOOKUP(A161,処理!$N$4:$Z$53,9,FALSE)","v":""}]
[null,{"$f":"VLOOKUP(A163,処理!$N$4:$Z$53,13,FALSE)","v":""},null,{"$f":"VLOOKUP(A163,処理!$N$4:$Z$53,7,FALSE)","v":""},null,null,null,null,{"$f":"VLOOKUP(A163,処理!$N$4:$Z$53,8,FALSE)","v":""},{"$f":"VLOOKUP(A163,処理!$N$4:$Z$53,10,FALSE)","v":""},null,null,null,null,null,"かけざん",null,"わりざん",null,"みとりざん",null,"あんざん",null,"合計得点"]
[{"$f":"A161+1","v":42},null,null,{"$f":"VLOOKUP(A163,処理!$N$4:$Z$53,6,FALSE)","v":""},null,null,null,null,null,{"$f":"VLOOKUP(A163,処理!$N$4:$Z$53,9,FALSE)","v":""}]
[]
[]
[null,"教室名",null,"ふりがな",{"$f":"IF(申込入力シート!$L$15=\"\",\"\",申込入力シート!$L$15)","v":""},null,null,null,"連絡先\n住　所",null,{"$f":"IF(申込入力シート!$L$16=\"\",\"\",申込入力シート!$L$16)","v":""},null,null,null,null,null,"連絡先\n電話番号",null,{"$f":"IF(申込入力シート!$L$17=\"\",\"\",申込入力シート!$L$17&申込入力シート!$P$17&申込入力シート!$R$17&申込入力シート!$W$17&申込入力シート!$Y$17)","v":""},null,null,"責任者名",null,"ふりがな",{"$f":"IF(申込入力シート!$L$19=\"\",\"\",申込入力シート!$L$19)","v":""}]
[null,null,null,{"$f":"IF(申込入力シート!$L$14=\"\",\"\",申込入力シート!$L$14)","v":""},null,null,null,null,null,null,null,null,null,null,null,null,null,null,null,null,null,null,null,{"$f":"IF(申込入力シート!$L$18=\"\",\"\",申込入力シート!$L$18)","v":""}]
[]
[null,"平成29年度　全日本通信珠算競技大会　　個人参加申込用紙",null,null,null,null,null,null,null,null,null,null,null,null,null,null,null,null,null,null,null,null,null,null,"No.",null,{"$f":"AA141+1","v":7}]
[]
[]
[null,"部　門",null,null,null,null,null,"○","部　門",null,null,null,"○","部　門",null,null,null,"○","部　門",null,null,null,"○","部　門",null,null,null,"○"]
[null,"４年生以下の部",null,null,null,null,null,{"$f":"IF(H145=\"●\",\"●\",\"\")","v":""},"小学生の部",null,null,null,{"$f":"IF(M145=\"●\",\"●\",\"\")","v":"●"},"中学生の部",null,null,null,{"$f":"IF(R145=\"●\",\"●\",\"\")","v":""},"高校生の部",null,null,null,{"$f":"IF(W145=\"●\",\"●\",\"\")","v":""},"一般の部",null,null,null,{"$f":"IF(AB145=\"●\",\"●\",\"\")","v":""}]
[]
[null,"競技\n番号",null,"ふりがな",null,null,null,null,"学年","ふりがな",null,null,null,null,null,"かけざん",null,"わりざん",null,"みとりざん",null,"あんざん",null,"合計得点",null,null,"個人\n順位"]
[null,null,null,"名　　前",null,null,null,null,null,"学校名 ・ 勤務先名"]
[]
[null,{"$f":"VLOOKUP(A179,処理!$N$4:$Z$53,13,FALSE)","v":""},null,{"$f":"VLOOKUP(A179,処理!$N$4:$Z$53,7,FALSE)","v":""},null,null,null,null,{"$f":"VLOOKUP(A179,処理!$N$4:$Z$53,8,FALSE)","v":""},{"$f":"VLOOKUP(A179,処理!$N$4:$Z$53,10,FALSE)","v":""},null,null,null,null,null,"かけざん",null,"わりざん",null,"みとりざん",null,"あんざん",null,"合計得点"]
[43,null,null,{"$f":"VLOOKUP(A179,処理!$N$4:$Z$53,6,FALSE)","v":""},null,null,null,null,null,{"$f":"VLOOKUP(A179,処理!$N$4:$Z$53,9,FALSE)","v":""}]
[null,{"$f":"VLOOKUP(A181,処理!$N$4:$Z$53,13,FALSE)","v":""},null,{"$f":"VLOOKUP(A181,処理!$N$4:$Z$53,7,FALSE)","v":""},null,null,null,null,{"$f":"VLOOKUP(A181,処理!$N$4:$Z$53,8,FALSE)","v":""},{"$f":"VLOOKUP(A181,処理!$N$4:$Z$53,10,FALSE)","v":""},null,null,null,null,null,"かけざん",null,"わりざん",null,"みとりざん",null,"あんざん",null,"合計得点"]
[{"$f":"A179+1","v":44},null,null,{"$f":"VLOOKUP(A181,処理!$N$4:$Z$53,6,FALSE)","v":""},null,null,null,null,null,{"$f":"VLOOKUP(A181,処理!$N$4:$Z$53,9,FALSE)","v":""}]
[null,{"$f":"VLOOKUP(A183,処理!$N$4:$Z$53,13,FALSE)","v":""},null,{"$f":"VLOOKUP(A183,処理!$N$4:$Z$53,7,FALSE)","v":""},null,null,null,null,{"$f":"VLOOKUP(A183,処理!$N$4:$Z$53,8,FALSE)","v":""},{"$f":"VLOOKUP(A183,処理!$N$4:$Z$53,10,FALSE)","v":""},null,null,null,null,null,"かけざん",null,"わりざん",null,"みとりざん",null,"あんざん",null,"合計得点"]
[{"$f":"A181+1","v":45},null,null,{"$f":"VLOOKUP(A183,処理!$N$4:$Z$53,6,FALSE)","v":""},null,null,null,null,null,{"$f":"VLOOKUP(A183,処理!$N$4:$Z$53,9,FALSE)","v":""}]
[null,{"$f":"VLOOKUP(A185,処理!$N$4:$Z$53,13,FALSE)","v":""},null,{"$f":"VLOOKUP(A185,処理!$N$4:$Z$53,7,FALSE)","v":""},null,null,null,null,{"$f":"VLOOKUP(A185,処理!$N$4:$Z$53,8,FALSE)","v":""},{"$f":"VLOOKUP(A185,処理!$N$4:$Z$53,10,FALSE)","v":""},null,null,null,null,null,"かけざん",null,"わりざん",null,"みとりざん",null,"あんざん",null,"合計得点"]
[{"$f":"A183+1","v":46},null,null,{"$f":"VLOOKUP(A185,処理!$N$4:$Z$53,6,FALSE)","v":""},null,null,null,null,null,{"$f":"VLOOKUP(A185,処理!$N$4:$Z$53,9,FALSE)","v":""}]
[null,{"$f":"VLOOKUP(A187,処理!$N$4:$Z$53,13,FALSE)","v":""},null,{"$f":"VLOOKUP(A187,処理!$N$4:$Z$53,7,FALSE)","v":""},null,null,null,null,{"$f":"VLOOKUP(A187,処理!$N$4:$Z$53,8,FALSE)","v":""},{"$f":"VLOOKUP(A187,処理!$N$4:$Z$53,10,FALSE)","v":""},null,null,null,null,null,"かけざん",null,"わりざん",null,"みとりざん",null,"あんざん",null,"合計得点"]
[{"$f":"A185+1","v":47},null,null,{"$f":"VLOOKUP(A187,処理!$N$4:$Z$53,6,FALSE)","v":""},null,null,null,null,null,{"$f":"VLOOKUP(A187,処理!$N$4:$Z$53,9,FALSE)","v":""}]
[null,{"$f":"VLOOKUP(A189,処理!$N$4:$Z$53,13,FALSE)","v":""},null,{"$f":"VLOOKUP(A189,処理!$N$4:$Z$53,7,FALSE)","v":""},null,null,null,null,{"$f":"VLOOKUP(A189,処理!$N$4:$Z$53,8,FALSE)","v":""},{"$f":"VLOOKUP(A189,処理!$N$4:$Z$53,10,FALSE)","v":""},null,null,null,null,null,"かけざん",null,"わりざん",null,"みとりざん",null,"あんざん",null,"合計得点"]
[{"$f":"A187+1","v":48},null,null,{"$f":"VLOOKUP(A189,処理!$N$4:$Z$53,6,FALSE)","v":""},null,null,null,null,null,{"$f":"VLOOKUP(A189,処理!$N$4:$Z$53,9,FALSE)","v":""}]
[null,{"$f":"VLOOKUP(A191,処理!$N$4:$Z$53,13,FALSE)","v":""},null,{"$f":"VLOOKUP(A191,処理!$N$4:$Z$53,7,FALSE)","v":""},null,null,null,null,{"$f":"VLOOKUP(A191,処理!$N$4:$Z$53,8,FALSE)","v":""},{"$f":"VLOOKUP(A191,処理!$N$4:$Z$53,10,FALSE)","v":""},null,null,null,null,null,"かけざん",null,"わりざん",null,"みとりざん",null,"あんざん",null,"合計得点"]
[{"$f":"A189+1","v":49},null,null,{"$f":"VLOOKUP(A191,処理!$N$4:$Z$53,6,FALSE)","v":""},null,null,null,null,null,{"$f":"VLOOKUP(A191,処理!$N$4:$Z$53,9,FALSE)","v":""}]
[]
[]
[null,"教室名",null,"ふりがな",{"$f":"IF(申込入力シート!$L$15=\"\",\"\",申込入力シート!$L$15)","v":""},null,null,null,"連絡先\n住　所",null,{"$f":"IF(申込入力シート!$L$16=\"\",\"\",申込入力シート!$L$16)","v":""},null,null,null,null,null,"連絡先\n電話番号",null,{"$f":"IF(申込入力シート!$L$17=\"\",\"\",申込入力シート!$L$17&申込入力シート!$P$17&申込入力シート!$R$17&申込入力シート!$W$17&申込入力シート!$Y$17)","v":""},null,null,"責任者名",null,"ふりがな",{"$f":"IF(申込入力シート!$L$19=\"\",\"\",申込入力シート!$L$19)","v":""}]
[null,null,null,{"$f":"IF(申込入力シート!$L$14=\"\",\"\",申込入力シート!$L$14)","v":""},null,null,null,null,null,null,null,null,null,null,null,null,null,null,null,null,null,null,null,{"$f":"IF(申込入力シート!$L$18=\"\",\"\",申込入力シート!$L$18)","v":""}]
[]
[null,"平成29年度　全日本通信珠算競技大会　　個人参加申込用紙",null,null,null,null,null,null,null,null,null,null,null,null,null,null,null,null,null,null,null,null,null,null,"No.",null,{"$f":"AA169+1","v":8}]
[]
[]
[null,"部　門",null,null,null,null,null,"○","部　門",null,null,null,"○","部　門",null,null,null,"○","部　門",null,null,null,"○","部　門",null,null,null,"○"]
[null,"４年生以下の部",null,null,null,null,null,{"$f":"IF(H173=\"●\",\"●\",\"\")","v":""},"小学生の部",null,null,null,{"$f":"IF(M173=\"●\",\"●\",\"\")","v":"●"},"中学生の部",null,null,null,{"$f":"IF(R173=\"●\",\"●\",\"\")","v":""},"高校生の部",null,null,null,{"$f":"IF(W173=\"●\",\"●\",\"\")","v":""},"一般の部",null,null,null,{"$f":"IF(AB173=\"●\",\"●\",\"\")","v":""}]
[]
[null,"競技\n番号",null,"ふりがな",null,null,null,null,"学年","ふりがな",null,null,null,null,null,"かけざん",null,"わりざん",null,"みとりざん",null,"あんざん",null,"合計得点",null,null,"個人\n順位"]
[null,null,null,"名　　前",null,null,null,null,null,"学校名 ・ 勤務先名"]
[]
[null,{"$f":"VLOOKUP(A207,処理!$N$4:$Z$53,13,FALSE)","v":""},null,{"$f":"VLOOKUP(A207,処理!$N$4:$Z$53,7,FALSE)","v":""},null,null,null,null,{"$f":"VLOOKUP(A207,処理!$N$4:$Z$53,8,FALSE)","v":""},{"$f":"VLOOKUP(A207,処理!$N$4:$Z$53,10,FALSE)","v":""},null,null,null,null,null,"かけざん",null,"わりざん",null,"みとりざん",null,"あんざん",null,"合計得点"]
[50,null,null,{"$f":"VLOOKUP(A207,処理!$N$4:$Z$53,6,FALSE)","v":""},null,null,null,null,null,{"$f":"VLOOKUP(A207,処理!$N$4:$Z$53,9,FALSE)","v":""}]
[null,null,null,null,null,null,null,null,null,null,null,null,null,null,null,"かけざん",null,"わりざん",null,"みとりざん",null,"あんざん",null,"合計得点"]
[{"$f":"A207+1","v":51}]
[null,null,null,null,null,null,null,null,null,null,null,null,null,null,null,"かけざん",null,"わりざん",null,"みとりざん",null,"あんざん",null,"合計得点"]
[{"$f":"A209+1","v":52}]
[null,null,null,null,null,null,null,null,null,null,null,null,null,null,null,"かけざん",null,"わりざん",null,"みとりざん",null,"あんざん",null,"合計得点"]
[{"$f":"A211+1","v":53}]
[null,null,null,null,null,null,null,null,null,null,null,null,null,null,null,"かけざん",null,"わりざん",null,"みとりざん",null,"あんざん",null,"合計得点"]
[{"$f":"A213+1","v":54}]
[null,null,null,null,null,null,null,null,null,null,null,null,null,null,null,"かけざん",null,"わりざん",null,"みとりざん",null,"あんざん",null,"合計得点"]
[{"$f":"A215+1","v":55}]
[null,null,null,null,null,null,null,null,null,null,null,null,null,null,null,"かけざん",null,"わりざん",null,"みとりざん",null,"あんざん",null,"合計得点"]
[{"$f":"A217+1","v":56}]
[]
[]
[null,"教室名",null,"ふりがな",{"$f":"IF(申込入力シート!$L$15=\"\",\"\",申込入力シート!$L$15)","v":""},null,null,null,"連絡先\n住　所",null,{"$f":"IF(申込入力シート!$L$16=\"\",\"\",申込入力シート!$L$16)","v":""},null,null,null,null,null,"連絡先\n電話番号",null,{"$f":"IF(申込入力シート!$L$17=\"\",\"\",申込入力シート!$L$17&申込入力シート!$P$17&申込入力シート!$R$17&申込入力シート!$W$17&申込入力シート!$Y$17)","v":""},null,null,"責任者名",null,"ふりがな",{"$f":"IF(申込入力シート!$L$19=\"\",\"\",申込入力シート!$L$19)","v":""}]
[null,null,null,{"$f":"IF(申込入力シート!$L$14=\"\",\"\",申込入力シート!$L$14)","v":""},null,null,null,null,null,null,null,null,null,null,null,null,null,null,null,null,null,null,null,{"$f":"IF(申込入力シート!$L$18=\"\",\"\",申込入力シート!$L$18)","v":""}]

{"sheet":"中学生印刷","index":4,"n_rows":27,"n_cols":28,"rows_kept":27,"cut":false,"hidden":false,"merged":[[26,23,27,27],[23,1,24,27],[25,1,27,2],[25,4,25,7],[25,8,27,9],[25,10,27,15],[25,16,27,17],[25,18,27,20],[25,21,27,22],[25,24,25,27],[26,3,27,7],[21,26,22,27],[22,1,22,2],[22,3,22,7],[22,9,22,14],[22,15,22,16],[22,17,22,18],[22,19,22,20],[22,21,22,22],[22,23,22,25],[21,1,21,2],[21,3,21,7],[21,8,22,8],[21,9,21,14],[21,15,21,16],[21,17,21,18],[21,19,21,20],[21,21,21,22],[21,23,21,25],[19,19,19,20],[19,21,19,22],[19,23,19,25],[19,26,20,27],[20,1,20,2],[20,3,20,7],[20,9,20,14],[20,15,20,16],[20,17,20,18],[20,19,20,20],[19,1,19,2],[19,3,19,7],[19,8,20,8],[19,9,19,14],[19,15,19,16],[19,17,19,18],[20,21,20,22],[20,23,20,25],[17,26,18,27],[18,1,18,2],[18,3,18,7],[18,9,18,14],[18,15,18,16],[18,17,18,18],[18,19,18,20],[18,21,18,22],[18,23,18,25],[17,1,17,2],[17,3,17,7],[17,8,18,8],[17,9,17,14],[17,15,17,16],[17,17,17,18],[17,19,17,20],[17,21,17,22],[17,23,17,25],[15,19,15,20],[15,21,15,22],[15,23,15,25],[15,26,16,27],[16,1,16,2],[16,3,16,7],[16,9,16,14],[16,15,16,16],[16,17,16,18],[16,19,16,20],[15,1,15,2],[15,3,15,7],[15,8,16,8],[15,9,15,14],[15,15,15,16],[15,17,15,18],[16,21,16,22],[16,23,16,25],[13,26,14,27],[14,1,14,2],[14,3,14,7],[14,9,14,14],[14,15,14,16],[14,17,14,18],[14,19,14,20],[14,21,14,22],[14,23,14,25],[13,1,13,2],[13,3,13,7],[13,8,14,8],[13,9,13,14],[13,15,13,16],[13,17,13,18],[13,19,13,20],[13,21,13,22],[13,23,13,25],[11,19,11,20],[11,21,11,22],[11,23,11,25],[11,26,12,27],[12,1,12,2],[12,3,12,7],[12,9,12,14],[12,15,12,16],[12,17,12,18],[12,19,12,20],[11,1,11,2],[11,3,11,7],[11,8,12,8],[11,9,11,14],[11,15,11,16],[11,17,11,18],[12,21,12,22],[12,23,12,25],[4,8,4,11],[4,13,4,16],[4,18,4,21],[4,23,4,26],[9,23,9,25],[9,26,10,27],[10,1,10,2],[10,3,10,7],[10,9,10,14],[10,15,10,16],[10,17,10,18],[10,19,10,20],[10,21,10,22],[10,23,10,25],[9,1,9,2],[9,3,9,7],[9,8,10,8],[9,9,9,14],[9,15,9,16],[9,17,9,18],[9,19,9,20],[9,21,9,22],[6,1,7,2],[6,3,6,7],[6,8,7,8],[6,9,6,14],[6,15,6,16],[0,1,0,22],[0,26,0,27],[3,1,3,6],[3,8,3,11],[3,13,3,16],[3,18,3,21],[3,23,3,26],[7,21,7,22],[7,23,7,25],[6,17,6,18],[6,19,6,20],[6,21,6,22],[6,23,6,25],[6,26,7,27],[7,3,7,7],[7,9,7,14],[7,15,7,16],[7,17,7,18],[7,19,7,20],[4,1,4,6]]}
[null,"平成30年度　全日本通信珠算競技大会　　団体参加申込用紙",null,null,null,null,null,null,null,null,null,null,null,null,null,null,null,null,null,null,null,null,null,null,"No.",null,1]
[]
[]
[null,"部　門",null,null,null,null,null,"○","部　門",null,null,null,"○","部　門",null,null,null,"○","部　門",null,null,null,"○","部　門",null,null,null,"○"]
[null,"４年生以下の部",null,null,null,null,null,null,"小学校の部",null,null,null,null,"中学校の部",null,null,null,"●","高等学校の部",null,null,null,null,"一般の部"]
[]
[null,"競技\n番号",null,"ふりがな",null,null,null,null,"学年","ふりがな",null,null,null,null,null,"かけざん",null,"わりざん",null,"みとりざん",null,"あんざん",null,"合計得点",null,null,"個人\n順位"]
[null,null,null,"名　　前",null,null,null,null,null,"学校名 ・ 勤務先名"]
[]
[null,{"$f":"VLOOKUP(A11,処理!$AA$4:$AM$53,13,FALSE)","v":""},null,{"$f":"VLOOKUP(A11,処理!$AA$4:$AM$53,7,FALSE)","v":""},null,null,null,null,{"$f":"VLOOKUP(A11,処理!$AA$4:$AM$53,8,FALSE)","v":""},{"$f":"VLOOKUP(A11,処理!$AA$4:$AM$53,10,FALSE)","v":""},null,null,null,null,null,"かけざん",null,"わりざん",null,"みとりざん",null,"あんざん",null,"合計得点"]
[1,null,null,{"$f":"VLOOKUP(A11,処理!$AA$4:$AM$53,6,FALSE)","v":""},null,null,null,null,null,{"$f":"VLOOKUP(A11,処理!$AA$4:$AM$53,9,FALSE)","v":""}]
[null,{"$f":"VLOOKUP(A13,処理!$AA$4:$AM$53,13,FALSE)","v":""},null,{"$f":"VLOOKUP(A13,処理!$AA$4:$AM$53,7,FALSE)","v":""},null,null,null,null,{"$f":"VLOOKUP(A13,処理!$AA$4:$AM$53,8,FALSE)","v":""},{"$f":"VLOOKUP(A13,処理!$AA$4:$AM$53,10,FALSE)","v":""},null,null,null,null,null,"かけざん",null,"わりざん",null,"みとりざん",null,"あんざん",null,"合計得点"]
[{"$f":"A11+1","v":2},null,null,{"$f":"VLOOKUP(A13,処理!$AA$4:$AM$53,6,FALSE)","v":""},null,null,null,null,null,{"$f":"VLOOKUP(A13,処理!$AA$4:$AM$53,9,FALSE)","v":""}]
[null,{"$f":"VLOOKUP(A15,処理!$AA$4:$AM$53,13,FALSE)","v":""},null,{"$f":"VLOOKUP(A15,処理!$AA$4:$AM$53,7,FALSE)","v":""},null,null,null,null,{"$f":"VLOOKUP(A15,処理!$AA$4:$AM$53,8,FALSE)","v":""},{"$f":"VLOOKUP(A15,処理!$AA$4:$AM$53,10,FALSE)","v":""},null,null,null,null,null,"かけざん",null,"わりざん",null,"みとりざん",null,"あんざん",null,"合計得点"]
[{"$f":"A13+1","v":3},null,null,{"$f":"VLOOKUP(A15,処理!$AA$4:$AM$53,6,FALSE)","v":""},null,null,null,null,null,{"$f":"VLOOKUP(A15,処理!$AA$4:$AM$53,9,FALSE)","v":""}]
[null,{"$f":"VLOOKUP(A17,処理!$AA$4:$AM$53,13,FALSE)","v":""},null,{"$f":"VLOOKUP(A17,処理!$AA$4:$AM$53,7,FALSE)","v":""},null,null,null,null,{"$f":"VLOOKUP(A17,処理!$AA$4:$AM$53,8,FALSE)","v":""},{"$f":"VLOOKUP(A17,処理!$AA$4:$AM$53,10,FALSE)","v":""},null,null,null,null,null,"かけざん",null,"わりざん",null,"みとりざん",null,"あんざん",null,"合計得点"]
[{"$f":"A15+1","v":4},null,null,{"$f":"VLOOKUP(A17,処理!$AA$4:$AM$53,6,FALSE)","v":""},null,null,null,null,null,{"$f":"VLOOKUP(A17,処理!$AA$4:$AM$53,9,FALSE)","v":""}]
[null,{"$f":"VLOOKUP(A19,処理!$AA$4:$AM$53,13,FALSE)","v":""},null,{"$f":"VLOOKUP(A19,処理!$AA$4:$AM$53,7,FALSE)","v":""},null,null,null,null,{"$f":"VLOOKUP(A19,処理!$AA$4:$AM$53,8,FALSE)","v":""},{"$f":"VLOOKUP(A19,処理!$AA$4:$AM$53,10,FALSE)","v":""},null,null,null,null,null,"かけざん",null,"わりざん",null,"みとりざん",null,"あんざん",null,"合計得点"]
[{"$f":"A17+1","v":5},null,null,{"$f":"VLOOKUP(A19,処理!$AA$4:$AM$53,6,FALSE)","v":""},null,null,null,null,null,{"$f":"VLOOKUP(A19,処理!$AA$4:$AM$53,9,FALSE)","v":""}]
[null,{"$f":"VLOOKUP(A21,処理!$AA$4:$AM$53,13,FALSE)","v":""},null,{"$f":"VLOOKUP(A21,処理!$AA$4:$AM$53,7,FALSE)","v":""},null,null,null,null,{"$f":"VLOOKUP(A21,処理!$AA$4:$AM$53,8,FALSE)","v":""},{"$f":"VLOOKUP(A21,処理!$AA$4:$AM$53,10,FALSE)","v":""},null,null,null,null,null,"かけざん",null,"わりざん",null,"みとりざん",null,"あんざん",null,"合計得点"]
[{"$f":"A19+1","v":6},null,null,{"$f":"VLOOKUP(A21,処理!$AA$4:$AM$53,6,FALSE)","v":""},null,null,null,null,null,{"$f":"VLOOKUP(A21,処理!$AA$4:$AM$53,9,FALSE)","v":""}]
[null,{"$f":"VLOOKUP(A23,処理!$AA$4:$AM$53,13,FALSE)","v":""},null,{"$f":"VLOOKUP(A23,処理!$AA$4:$AM$53,7,FALSE)","v":""},null,null,null,null,{"$f":"VLOOKUP(A23,処理!$AA$4:$AM$53,8,FALSE)","v":""},{"$f":"VLOOKUP(A23,処理!$AA$4:$AM$53,10,FALSE)","v":""},null,null,null,null,null,"かけざん",null,"わりざん",null,"みとりざん",null,"あんざん",null,"合計得点"]
[{"$f":"A21+1","v":7},null,null,{"$f":"VLOOKUP(A23,処理!$AA$4:$AM$53,6,FALSE)","v":""},null,null,null,null,null,{"$f":"VLOOKUP(A23,処理!$AA$4:$AM$53,9,FALSE)","v":""}]
[]
[]
[null,"教室名",null,"ふりがな",{"$f":"IF(申込入力シート!$L$15=\"\",\"\",申込入力シート!$L$15)","v":""},null,null,null,"連絡先\n住　所",null,{"$f":"IF(申込入力シート!$L$16=\"\",\"\",申込入力シート!$L$16)","v":""},null,null,null,null,null,"連絡先\n電話番号",null,{"$f":"IF(申込入力シート!$L$17=\"\",\"\",申込入力シート!$L$17&申込入力シート!$P$17&申込入力シート!$R$17&申込入力シート!$W$17&申込入力シート!$Y$17)","v":""},null,null,"責任者名",null,"ふりがな",{"$f":"IF(申込入力シート!$L$19=\"\",\"\",申込入力シート!$L$19)","v":""}]
[null,null,null,{"$f":"IF(申込入力シート!$L$14=\"\",\"\",申込入力シート!$L$14)","v":""},null,null,null,null,null,null,null,null,null,null,null,null,null,null,null,null,null,null,null,{"$f":"IF(申込入力シート!$L$18=\"\",\"\",申込入力シート!$L$18)","v":""}]

{"sheet":"高校生印刷","index":5,"n_rows":27,"n_cols":28,"rows_kept":27,"cut":false,"hidden":false,"merged":[[28,23,28,27],[28,1,28,2],[28,8,28,9],[28,10,28,15],[28,16,28,17],[28,18,28,20],[28,21,28,22],[28,3,28,7],[26,23,27,27],[23,1,24,27],[25,1,27,2],[25,4,25,7],[25,8,27,9],[25,10,27,15],[25,16,27,17],[25,18,27,20],[25,21,27,22],[25,24,25,27],[26,3,27,7],[21,26,22,27],[22,1,22,2],[22,3,22,7],[22,9,22,14],[22,15,22,16],[22,17,22,18],[22,19,22,20],[22,21,22,22],[22,23,22,25],[21,1,21,2],[21,3,21,7],[21,8,22,8],[21,9,21,14],[21,15,21,16],[21,17,21,18],[21,19,21,20],[21,21,21,22],[21,23,21,25],[19,19,19,20],[19,21,19,22],[19,23,19,25],[19,26,20,27],[20,1,20,2],[20,3,20,7],[20,9,20,14],[20,15,20,16],[20,17,20,18],[20,19,20,20],[19,1,19,2],[19,3,19,7],[19,8,20,8],[19,9,19,14],[19,15,19,16],[19,17,19,18],[20,21,20,22],[20,23,20,25],[17,26,18,27],[18,1,18,2],[18,3,18,7],[18,9,18,14],[18,15,18,16],[18,17,18,18],[18,19,18,20],[18,21,18,22],[18,23,18,25],[17,1,17,2],[17,3,17,7],[17,8,18,8],[17,9,17,14],[17,15,17,16],[17,17,17,18],[17,19,17,20],[17,21,17,22],[17,23,17,25],[15,19,15,20],[15,21,15,22],[15,23,15,25],[15,26,16,27],[16,1,16,2],[16,3,16,7],[16,9,16,14],[16,15,16,16],[16,17,16,18],[16,19,16,20],[15,1,15,2],[15,3,15,7],[15,8,16,8],[15,9,15,14],[15,15,15,16],[15,17,15,18],[16,21,16,22],[16,23,16,25],[13,26,14,27],[14,1,14,2],[14,3,14,7],[14,9,14,14],[14,15,14,16],[14,17,14,18],[14,19,14,20],[14,21,14,22],[14,23,14,25],[13,1,13,2],[13,3,13,7],[13,8,14,8],[13,9,13,14],[13,15,13,16],[13,17,13,18],[13,19,13,20],[13,21,13,22],[13,23,13,25],[11,19,11,20],[11,21,11,22],[11,23,11,25],[11,26,12,27],[12,1,12,2],[12,3,12,7],[12,9,12,14],[12,15,12,16],[12,17,12,18],[12,19,12,20],[11,1,11,2],[11,3,11,7],[11,8,12,8],[11,9,11,14],[11,15,11,16],[11,17,11,18],[12,21,12,22],[12,23,12,25],[4,8,4,11],[4,13,4,16],[4,18,4,21],[4,23,4,26],[9,23,9,25],[9,26,10,27],[10,1,10,2],[10,3,10,7],[10,9,10,14],[10,15,10,16],[10,17,10,18],[10,19,10,20],[10,21,10,22],[10,23,10,25],[9,1,9,2],[9,3,9,7],[9,8,10,8],[9,9,9,14],[9,15,9,16],[9,17,9,18],[9,19,9,20],[9,21,9,22],[6,1,7,2],[6,3,6,7],[6,8,7,8],[6,9,6,14],[6,15,6,16],[0,1,0,22],[0,26,0,27],[3,1,3,6],[3,8,3,11],[3,13,3,16],[3,18,3,21],[3,23,3,26],[7,21,7,22],[7,23,7,25],[6,17,6,18],[6,19,6,20],[6,21,6,22],[6,23,6,25],[6,26,7,27],[7,3,7,7],[7,9,7,14],[7,15,7,16],[7,17,7,18],[7,19,7,20],[4,1,4,6]]}
[null,"平成30年度　全日本通信珠算競技大会　　団体参加申込用紙",null,null,null,null,null,null,null,null,null,null,null,null,null,null,null,null,null,null,null,null,null,null,"No.",null,1]
[]
[]
[null,"部　門",null,null,null,null,null,"○","部　門",null,null,null,"○","部　門",null,null,null,"○","部　門",null,null,null,"○","部　門",null,null,null,"○"]
[null,"４年生以下の部",null,null,null,null,null,null,"小学校の部",null,null,null,null,"中学校の部",null,null,null,null,"高等学校の部",null,null,null,"●","一般の部"]
[]
[null,"競技\n番号",null,"ふりがな",null,null,null,null,"学年","ふりがな",null,null,null,null,null,"かけざん",null,"わりざん",null,"みとりざん",null,"あんざん",null,"合計得点",null,null,"個人\n順位"]
[null,null,null,"名　　前",null,null,null,null,null,"学校名 ・ 勤務先名"]
[]
[null,{"$f":"VLOOKUP(A11,処理!$AN$4:$BA$53,13,FALSE)","v":""},null,{"$f":"VLOOKUP(A11,処理!$AN$4:$BA$53,7,FALSE)","v":""},null,null,null,null,{"$f":"VLOOKUP(A11,処理!$AN$4:$BA$53,8,FALSE)","v":""},{"$f":"VLOOKUP(A11,処理!$AN$4:$BA$53,10,FALSE)","v":""},null,null,null,null,null,"かけざん",null,"わりざん",null,"みとりざん",null,"あんざん",null,"合計得点"]
[1,null,null,{"$f":"VLOOKUP(A11,処理!$AN$4:$BA$53,6,FALSE)","v":""},null,null,null,null,null,{"$f":"VLOOKUP(A11,処理!$AN$4:$BA$53,9,FALSE)","v":""}]
[null,{"$f":"VLOOKUP(A13,処理!$AN$4:$BA$53,13,FALSE)","v":""},null,{"$f":"VLOOKUP(A13,処理!$AN$4:$BA$53,7,FALSE)","v":""},null,null,null,null,{"$f":"VLOOKUP(A13,処理!$AN$4:$BA$53,8,FALSE)","v":""},{"$f":"VLOOKUP(A13,処理!$AN$4:$BA$53,10,FALSE)","v":""},null,null,null,null,null,"かけざん",null,"わりざん",null,"みとりざん",null,"あんざん",null,"合計得点"]
[{"$f":"A11+1","v":2},null,null,{"$f":"VLOOKUP(A13,処理!$AN$4:$BA$53,6,FALSE)","v":""},null,null,null,null,null,{"$f":"VLOOKUP(A13,処理!$AN$4:$BA$53,9,FALSE)","v":""}]
[null,{"$f":"VLOOKUP(A15,処理!$AN$4:$BA$53,13,FALSE)","v":""},null,{"$f":"VLOOKUP(A15,処理!$AN$4:$BA$53,7,FALSE)","v":""},null,null,null,null,{"$f":"VLOOKUP(A15,処理!$AN$4:$BA$53,8,FALSE)","v":""},{"$f":"VLOOKUP(A15,処理!$AN$4:$BA$53,10,FALSE)","v":""},null,null,null,null,null,"かけざん",null,"わりざん",null,"みとりざん",null,"あんざん",null,"合計得点"]
[{"$f":"A13+1","v":3},null,null,{"$f":"VLOOKUP(A15,処理!$AN$4:$BA$53,6,FALSE)","v":""},null,null,null,null,null,{"$f":"VLOOKUP(A15,処理!$AN$4:$BA$53,9,FALSE)","v":""}]
[null,{"$f":"VLOOKUP(A17,処理!$AN$4:$BA$53,13,FALSE)","v":""},null,{"$f":"VLOOKUP(A17,処理!$AN$4:$BA$53,7,FALSE)","v":""},null,null,null,null,{"$f":"VLOOKUP(A17,処理!$AN$4:$BA$53,8,FALSE)","v":""},{"$f":"VLOOKUP(A17,処理!$AN$4:$BA$53,10,FALSE)","v":""},null,null,null,null,null,"かけざん",null,"わりざん",null,"みとりざん",null,"あんざん",null,"合計得点"]
[{"$f":"A15+1","v":4},null,null,{"$f":"VLOOKUP(A17,処理!$AN$4:$BA$53,6,FALSE)","v":""},null,null,null,null,null,{"$f":"VLOOKUP(A17,処理!$AN$4:$BA$53,9,FALSE)","v":""}]
[null,{"$f":"VLOOKUP(A19,処理!$AN$4:$BA$53,13,FALSE)","v":""},null,{"$f":"VLOOKUP(A19,処理!$AN$4:$BA$53,7,FALSE)","v":""},null,null,null,null,{"$f":"VLOOKUP(A19,処理!$AN$4:$BA$53,8,FALSE)","v":""},{"$f":"VLOOKUP(A19,処理!$AN$4:$BA$53,10,FALSE)","v":""},null,null,null,null,null,"かけざん",null,"わりざん",null,"みとりざん",null,"あんざん",null,"合計得点"]
[{"$f":"A17+1","v":5},null,null,{"$f":"VLOOKUP(A19,処理!$AN$4:$BA$53,6,FALSE)","v":""},null,null,null,null,null,{"$f":"VLOOKUP(A19,処理!$AN$4:$BA$53,9,FALSE)","v":""}]
[null,{"$f":"VLOOKUP(A21,処理!$AN$4:$BA$53,13,FALSE)","v":""},null,{"$f":"VLOOKUP(A21,処理!$AN$4:$BA$53,7,FALSE)","v":""},null,null,null,null,{"$f":"VLOOKUP(A21,処理!$AN$4:$BA$53,8,FALSE)","v":""},{"$f":"VLOOKUP(A21,処理!$AN$4:$BA$53,10,FALSE)","v":""},null,null,null,null,null,"かけざん",null,"わりざん",null,"みとりざん",null,"あんざん",null,"合計得点"]
[{"$f":"A19+1","v":6},null,null,{"$f":"VLOOKUP(A21,処理!$AN$4:$BA$53,6,FALSE)","v":""},null,null,null,null,null,{"$f":"VLOOKUP(A21,処理!$AN$4:$BA$53,9,FALSE)","v":""}]
[null,{"$f":"VLOOKUP(A23,処理!$AN$4:$BA$53,13,FALSE)","v":""},null,{"$f":"VLOOKUP(A23,処理!$AN$4:$BA$53,7,FALSE)","v":""},null,null,null,null,{"$f":"VLOOKUP(A23,処理!$AN$4:$BA$53,8,FALSE)","v":""},{"$f":"VLOOKUP(A23,処理!$AN$4:$BA$53,10,FALSE)","v":""},null,null,null,null,null,"かけざん",null,"わりざん",null,"みとりざん",null,"あんざん",null,"合計得点"]
[{"$f":"A21+1","v":7},null,null,{"$f":"VLOOKUP(A23,処理!$AN$4:$BA$53,6,FALSE)","v":""},null,null,null,null,null,{"$f":"VLOOKUP(A23,処理!$AN$4:$BA$53,9,FALSE)","v":""}]
[]
[]
[null,"教室名",null,"ふりがな",{"$f":"IF(申込入力シート!$L$15=\"\",\"\",申込入力シート!$L$15)","v":""},null,null,null,"連絡先\n住　所",null,{"$f":"IF(申込入力シート!$L$16=\"\",\"\",申込入力シート!$L$16)","v":""},null,null,null,null,null,"連絡先\n電話番号",null,{"$f":"IF(申込入力シート!$L$17=\"\",\"\",申込入力シート!$L$17&申込入力シート!$P$17&申込入力シート!$R$17&申込入力シート!$W$17&申込入力シート!$Y$17)","v":""},null,null,"責任者名",null,"ふりがな",{"$f":"IF(申込入力シート!$L$19=\"\",\"\",申込入力シート!$L$19)","v":""}]
[null,null,null,{"$f":"IF(申込入力シート!$L$14=\"\",\"\",申込入力シート!$L$14)","v":""},null,null,null,null,null,null,null,null,null,null,null,null,null,null,null,null,null,null,null,{"$f":"IF(申込入力シート!$L$18=\"\",\"\",申込入力シート!$L$18)","v":""}]

{"sheet":"一般の部","index":6,"n_rows":27,"n_cols":28,"rows_kept":27,"cut":false,"hidden":false,"merged":[[26,23,27,27],[23,1,24,27],[25,1,27,2],[25,4,25,7],[25,8,27,9],[25,10,27,15],[25,16,27,17],[25,18,27,20],[25,21,27,22],[25,24,25,27],[26,3,27,7],[21,26,22,27],[22,1,22,2],[22,3,22,7],[22,9,22,14],[22,15,22,16],[22,17,22,18],[22,19,22,20],[22,21,22,22],[22,23,22,25],[21,1,21,2],[21,3,21,7],[21,8,22,8],[21,9,21,14],[21,15,21,16],[21,17,21,18],[21,19,21,20],[21,21,21,22],[21,23,21,25],[19,19,19,20],[19,21,19,22],[19,23,19,25],[19,26,20,27],[20,1,20,2],[20,3,20,7],[20,9,20,14],[20,15,20,16],[20,17,20,18],[20,19,20,20],[19,1,19,2],[19,3,19,7],[19,8,20,8],[19,9,19,14],[19,15,19,16],[19,17,19,18],[20,21,20,22],[20,23,20,25],[17,26,18,27],[18,1,18,2],[18,3,18,7],[18,9,18,14],[18,15,18,16],[18,17,18,18],[18,19,18,20],[18,21,18,22],[18,23,18,25],[17,1,17,2],[17,3,17,7],[17,8,18,8],[17,9,17,14],[17,15,17,16],[17,17,17,18],[17,19,17,20],[17,21,17,22],[17,23,17,25],[15,19,15,20],[15,21,15,22],[15,23,15,25],[15,26,16,27],[16,1,16,2],[16,3,16,7],[16,9,16,14],[16,15,16,16],[16,17,16,18],[16,19,16,20],[15,1,15,2],[15,3,15,7],[15,8,16,8],[15,9,15,14],[15,15,15,16],[15,17,15,18],[16,21,16,22],[16,23,16,25],[13,26,14,27],[14,1,14,2],[14,3,14,7],[14,9,14,14],[14,15,14,16],[14,17,14,18],[14,19,14,20],[14,21,14,22],[14,23,14,25],[13,1,13,2],[13,3,13,7],[13,8,14,8],[13,9,13,14],[13,15,13,16],[13,17,13,18],[13,19,13,20],[13,21,13,22],[13,23,13,25],[11,19,11,20],[11,21,11,22],[11,23,11,25],[11,26,12,27],[12,1,12,2],[12,3,12,7],[12,9,12,14],[12,15,12,16],[12,17,12,18],[12,19,12,20],[11,1,11,2],[11,3,11,7],[11,8,12,8],[11,9,11,14],[11,15,11,16],[11,17,11,18],[12,21,12,22],[12,23,12,25],[4,8,4,11],[4,13,4,16],[4,18,4,21],[4,23,4,26],[9,23,9,25],[9,26,10,27],[10,1,10,2],[10,3,10,7],[10,9,10,14],[10,15,10,16],[10,17,10,18],[10,19,10,20],[10,21,10,22],[10,23,10,25],[9,1,9,2],[9,3,9,7],[9,8,10,8],[9,9,9,14],[9,15,9,16],[9,17,9,18],[9,19,9,20],[9,21,9,22],[6,1,7,2],[6,3,6,7],[6,8,7,8],[6,9,6,14],[6,15,6,16],[0,1,0,22],[0,26,0,27],[3,1,3,6],[3,8,3,11],[3,13,3,16],[3,18,3,21],[3,23,3,26],[7,21,7,22],[7,23,7,25],[6,17,6,18],[6,19,6,20],[6,21,6,22],[6,23,6,25],[6,26,7,27],[7,3,7,7],[7,9,7,14],[7,15,7,16],[7,17,7,18],[7,19,7,20],[4,1,4,6]]}
[null,"平成30年度　全日本通信珠算競技大会　　団体参加申込用紙",null,null,null,null,null,null,null,null,null,null,null,null,null,null,null,null,null,null,null,null,null,null,"No.",null,1]
[]
[]
[null,"部　門",null,null,null,null,null,"○","部　門",null,null,null,"○","部　門",null,null,null,"○","部　門",null,null,null,"○","部　門",null,null,null,"○"]
[null,"４年生以下の部",null,null,null,null,null,null,"小学校の部",null,null,null,null,"中学校の部",null,null,null,null,"高等学校の部",null,null,null,null,"一般の部",null,null,null,"●"]
[]
[null,"競技\n番号",null,"ふりがな",null,null,null,null,"学年","ふりがな",null,null,null,null,null,"かけざん",null,"わりざん",null,"みとりざん",null,"あんざん",null,"合計得点",null,null,"個人\n順位"]
[null,null,null,"名　　前",null,null,null,null,null,"学校名 ・ 勤務先名"]
[]
[null,{"$f":"VLOOKUP(A11,処理!$BA$4:$BM$53,13,FALSE)","v":""},null,{"$f":"VLOOKUP(A11,処理!$BA$4:$BM$53,7,FALSE)","v":""},null,null,null,null,{"$f":"VLOOKUP(A11,処理!$BA$4:$BM$53,8,FALSE)","v":""},{"$f":"VLOOKUP(A11,処理!$BA$4:$BM$53,10,FALSE)","v":""},null,null,null,null,null,"かけざん",null,"わりざん",null,"みとりざん",null,"あんざん",null,"合計得点"]
[1,null,null,{"$f":"VLOOKUP(A11,処理!$BA$4:$BM$53,6,FALSE)","v":""},null,null,null,null,null,{"$f":"VLOOKUP(A11,処理!$BA$4:$BM$53,9,FALSE)","v":""}]
[null,{"$f":"VLOOKUP(A13,処理!$BA$4:$BM$53,13,FALSE)","v":""},null,{"$f":"VLOOKUP(A13,処理!$BA$4:$BM$53,7,FALSE)","v":""},null,null,null,null,{"$f":"VLOOKUP(A13,処理!$BA$4:$BM$53,8,FALSE)","v":""},{"$f":"VLOOKUP(A13,処理!$BA$4:$BM$53,10,FALSE)","v":""},null,null,null,null,null,"かけざん",null,"わりざん",null,"みとりざん",null,"あんざん",null,"合計得点"]
[{"$f":"A11+1","v":2},null,null,{"$f":"VLOOKUP(A13,処理!$BA$4:$BM$53,6,FALSE)","v":""},null,null,null,null,null,{"$f":"VLOOKUP(A13,処理!$BA$4:$BM$53,9,FALSE)","v":""}]
[null,{"$f":"VLOOKUP(A15,処理!$BA$4:$BM$53,13,FALSE)","v":""},null,{"$f":"VLOOKUP(A15,処理!$BA$4:$BM$53,7,FALSE)","v":""},null,null,null,null,{"$f":"VLOOKUP(A15,処理!$BA$4:$BM$53,8,FALSE)","v":""},{"$f":"VLOOKUP(A15,処理!$BA$4:$BM$53,10,FALSE)","v":""},null,null,null,null,null,"かけざん",null,"わりざん",null,"みとりざん",null,"あんざん",null,"合計得点"]
[{"$f":"A13+1","v":3},null,null,{"$f":"VLOOKUP(A15,処理!$BA$4:$BM$53,6,FALSE)","v":""},null,null,null,null,null,{"$f":"VLOOKUP(A15,処理!$BA$4:$BM$53,9,FALSE)","v":""}]
[null,{"$f":"VLOOKUP(A17,処理!$BA$4:$BM$53,13,FALSE)","v":""},null,{"$f":"VLOOKUP(A17,処理!$BA$4:$BM$53,7,FALSE)","v":""},null,null,null,null,{"$f":"VLOOKUP(A17,処理!$BA$4:$BM$53,8,FALSE)","v":""},{"$f":"VLOOKUP(A17,処理!$BA$4:$BM$53,10,FALSE)","v":""},null,null,null,null,null,"かけざん",null,"わりざん",null,"みとりざん",null,"あんざん",null,"合計得点"]
[{"$f":"A15+1","v":4},null,null,{"$f":"VLOOKUP(A17,処理!$BA$4:$BM$53,6,FALSE)","v":""},null,null,null,null,null,{"$f":"VLOOKUP(A17,処理!$BA$4:$BM$53,9,FALSE)","v":""}]
[null,{"$f":"VLOOKUP(A19,処理!$BA$4:$BM$53,13,FALSE)","v":""},null,{"$f":"VLOOKUP(A19,処理!$BA$4:$BM$53,7,FALSE)","v":""},null,null,null,null,{"$f":"VLOOKUP(A19,処理!$BA$4:$BM$53,8,FALSE)","v":""},{"$f":"VLOOKUP(A19,処理!$BA$4:$BM$53,10,FALSE)","v":""},null,null,null,null,null,"かけざん",null,"わりざん",null,"みとりざん",null,"あんざん",null,"合計得点"]
[{"$f":"A17+1","v":5},null,null,{"$f":"VLOOKUP(A19,処理!$BA$4:$BM$53,6,FALSE)","v":""},null,null,null,null,null,{"$f":"VLOOKUP(A19,処理!$BA$4:$BM$53,9,FALSE)","v":""}]
[null,{"$f":"VLOOKUP(A21,処理!$BA$4:$BM$53,13,FALSE)","v":""},null,{"$f":"VLOOKUP(A21,処理!$BA$4:$BM$53,7,FALSE)","v":""},null,null,null,null,{"$f":"VLOOKUP(A21,処理!$BA$4:$BM$53,8,FALSE)","v":""},{"$f":"VLOOKUP(A21,処理!$BA$4:$BM$53,10,FALSE)","v":""},null,null,null,null,null,"かけざん",null,"わりざん",null,"みとりざん",null,"あんざん",null,"合計得点"]
[{"$f":"A19+1","v":6},null,null,{"$f":"VLOOKUP(A21,処理!$BA$4:$BM$53,6,FALSE)","v":""},null,null,null,null,null,{"$f":"VLOOKUP(A21,処理!$BA$4:$BM$53,9,FALSE)","v":""}]
[null,{"$f":"VLOOKUP(A23,処理!$BA$4:$BM$53,13,FALSE)","v":""},null,{"$f":"VLOOKUP(A23,処理!$BA$4:$BM$53,7,FALSE)","v":""},null,null,null,null,{"$f":"VLOOKUP(A23,処理!$BA$4:$BM$53,8,FALSE)","v":""},{"$f":"VLOOKUP(A23,処理!$BA$4:$BM$53,10,FALSE)","v":""},null,null,null,null,null,"かけざん",null,"わりざん",null,"みとりざん",null,"あんざん",null,"合計得点"]
[{"$f":"A21+1","v":7},null,null,{"$f":"VLOOKUP(A23,処理!$BA$4:$BM$53,6,FALSE)","v":""},null,null,null,null,null,{"$f":"VLOOKUP(A23,処理!$BA$4:$BM$53,9,FALSE)","v":""}]
[]
[]
[null,"教室名",null,"ふりがな",{"$f":"IF(申込入力シート!$L$15=\"\",\"\",申込入力シート!$L$15)","v":""},null,null,null,"連絡先\n住　所",null,{"$f":"IF(申込入力シート!$L$16=\"\",\"\",申込入力シート!$L$16)","v":""},null,null,null,null,null,"連絡先\n電話番号",null,{"$f":"IF(申込入力シート!$L$17=\"\",\"\",申込入力シート!$L$17&申込入力シート!$P$17&申込入力シート!$R$17&申込入力シート!$W$17&申込入力シート!$Y$17)","v":""},null,null,"責任者名",null,"ふりがな",{"$f":"IF(申込入力シート!$L$19=\"\",\"\",申込入力シート!$L$19)","v":""}]
[null,null,null,{"$f":"IF(申込入力シート!$L$14=\"\",\"\",申込入力シート!$L$14)","v":""},null,null,null,null,null,null,null,null,null,null,null,null,null,null,null,null,null,null,null,{"$f":"IF(申込入力シート!$L$18=\"\",\"\",申込入力シート!$L$18)","v":""}]

{"sheet":"入金明細書","index":7,"n_rows":27,"n_cols":9,"rows_kept":27,"cut":false,"hidden":false,"merged":[[17,8,17,9],[16,8,16,9],[15,8,15,9],[14,8,14,9],[13,8,13,9],[25,7,25,9],[26,7,26,9],[23,8,23,9],[22,8,22,9],[20,8,20,9],[22,0,23,1],[7,0,7,1],[7,2,7,9],[8,0,8,1],[8,2,8,9],[10,0,10,1],[10,8,10,9],[19,8,19,9],[11,0,12,1],[13,0,14,1],[15,0,16,1],[17,0,18,1],[19,0,20,1],[12,8,12,9],[11,8,11,9],[18,8,18,9],[0,0,0,9],[4,0,4,1],[5,0,5,1],[5,2,5,9],[6,0,6,1],[6,2,6,9]]}
["平成30年度 全日本通信珠算競技大会 ・ 参加納入金明細書"]
[]
["参加人数及び費用合計を参加申込書と一緒に提出して下さい"]
["参加申込書は、9月 25日(火)午前までに提出して下さい。※（必着）"]
[]
["学校名"]
["教室名",null,{"$f":"IF(申込入力シート!L14=\"\",\"\",申込入力シート!L14)","v":""}]
["責任者",null,{"$f":"IF(申込入力シート!L18=\"\",\"\",申込入力シート!L18)","v":""}]
["電話番号",null,{"$f":"IF(申込入力シート!L17=\"\",\"\",申込入力シート!L17&申込入力シート!P17&申込入力シート!R17&申込入力シート!W17&申込入力シート!Y17)","v":""}]
[]
["部　　　門",null,null,"参加\n人数",null,null,null,null,"金　額"]
["４年生以下の部",null,"会員教場生徒",{"$f":"IF(申込入力シート!L23=\"\",\"\",申込入力シート!L23)","v":""},"名","×",2300,"=",{"$f":"IF(D12=\"\",0*G12,D12*G12)","v":0}]
[null,null,"会員外教場生徒",{"$f":"IF(申込入力シート!L31=\"\",\"\",申込入力シート!L31)","v":""},"名","×",3800,"=",{"$f":"IF(D13=\"\",0*G13,D13*G13)","v":0}]
["小学生の部",null,"会員教場生徒",{"$f":"IF(申込入力シート!L24=\"\",\"\",申込入力シート!L24)","v":""},"名","×",{"$f":"G12","v":2300},"=",0]
[null,null,"会員外教場生徒",{"$f":"IF(申込入力シート!L32=\"\",\"\",申込入力シート!L32)","v":""},"名","×",{"$f":"G13","v":3800},"=",0]
["中学生の部",null,"会員教場生徒",{"$f":"IF(申込入力シート!L25=\"\",\"\",申込入力シート!L25)","v":""},"名","×",{"$f":"G14","v":2300},"=",0]
[null,null,"会員外教場生徒",{"$f":"IF(申込入力シート!L33=\"\",\"\",申込入力シート!L33)","v":""},"名","×",3800,"=",0]
["高校生の部",null,"会員教場生徒",{"$f":"IF(申込入力シート!L26=\"\",\"\",申込入力シート!L26)","v":""},"名","×",2300,"=",0]
[null,null,"会員外教場生徒",{"$f":"IF(申込入力シート!L34=\"\",\"\",申込入力シート!L34)","v":""},"名","×",3800,"=",0]
["一般の部",null,"会員教場生徒",{"$f":"IF(申込入力シート!L27=\"\",\"\",申込入力シート!L27)","v":""},"名","×",2300,"=",0]
[null,null,"会員外教場生徒",{"$f":"IF(申込入力シート!L35=\"\",\"\",申込入力シート!L35)","v":""},"名","×",3800,"=",0]
[]
["参加人数合計",null,"会員教場生徒",{"$f":"SUM(D12,D14,D16,D18,D20)","v":0},"名","×",{"$f":"G12","v":2300},"=",{"$f":"IF(D23=\"\",0*G23,D23*G23)","v":0}]
[null,null,"会員外教場生徒",{"$f":"SUM(D13,D15,D17,D19,D21)","v":0},"名","×",{"$f":"G13","v":3800},"=",0]
[]
[null,null,null,null,null,null,null,"合計金額"]
[null,null,null,null,null,null,null,{"$f":"SUM(I23:J24)","v":0}]

{"sheet":"貼付用データ","index":8,"n_rows":2,"n_cols":9,"rows_kept":2,"cut":false,"hidden":false,"merged":[]}
[]
[{"$f":"+申込入力シート!L13","v":0},{"$f":"+申込入力シート!L14","v":0},{"$f":"+申込入力シート!L18","v":0},null,{"$f":"+入金明細書!D12+入金明細書!D13","v":{"$error":"#VALUE!"}},{"$f":"+入金明細書!D14+入金明細書!D15","v":{"$error":"#VALUE!"}},{"$f":"+入金明細書!D16+入金明細書!D17","v":{"$error":"#VALUE!"}},{"$f":"+入金明細書!D18+入金明細書!D19","v":{"$error":"#VALUE!"}},{"$f":"+入金明細書!D20+入金明細書!D21","v":{"$error":"#VALUE!"}}]